BEGIN:VCALENDAR
VERSION:2.0
PRODID:-//Del Ray Artisans - ECPv6.15.20//NONSGML v1.0//EN
CALSCALE:GREGORIAN
METHOD:PUBLISH
X-ORIGINAL-URL:https://delrayartisans.org
X-WR-CALDESC:Events for Del Ray Artisans
REFRESH-INTERVAL;VALUE=DURATION:PT1H
X-Robots-Tag:noindex
X-PUBLISHED-TTL:PT1H
BEGIN:VTIMEZONE
TZID:America/New_York
BEGIN:DAYLIGHT
TZOFFSETFROM:-0500
TZOFFSETTO:-0400
TZNAME:EDT
DTSTART:20240310T070000
END:DAYLIGHT
BEGIN:STANDARD
TZOFFSETFROM:-0400
TZOFFSETTO:-0500
TZNAME:EST
DTSTART:20241103T060000
END:STANDARD
BEGIN:DAYLIGHT
TZOFFSETFROM:-0500
TZOFFSETTO:-0400
TZNAME:EDT
DTSTART:20250309T070000
END:DAYLIGHT
BEGIN:STANDARD
TZOFFSETFROM:-0400
TZOFFSETTO:-0500
TZNAME:EST
DTSTART:20251102T060000
END:STANDARD
BEGIN:DAYLIGHT
TZOFFSETFROM:-0500
TZOFFSETTO:-0400
TZNAME:EDT
DTSTART:20260308T070000
END:DAYLIGHT
BEGIN:STANDARD
TZOFFSETFROM:-0400
TZOFFSETTO:-0500
TZNAME:EST
DTSTART:20261101T060000
END:STANDARD
END:VTIMEZONE
BEGIN:VEVENT
DTSTART;TZID=America/New_York:20250616T183000
DTEND;TZID=America/New_York:20250616T203000
DTSTAMP:20260423T192315
CREATED:20250503T171042Z
LAST-MODIFIED:20250612T220510Z
UID:10001846-1750098600-1750105800@delrayartisans.org
SUMMARY:Resin Your Canvas or Panel Workshop (Register ASAP)
DESCRIPTION:Instructor: Tracy Wilkerson\nDate/Time: Monday\, June 16\, 6:30-8:30pm\nCost: $20 Del Ray Artisans member / $30 Non-member; plus a $15 Supply Fee\nClass size: 4-12 participants\n(Register in advance; Walk-ins welcome\, space permitting) \nDo you have a canvas or panel (up to 12 x 12 inches) that you want to cover with resin? Then sign up for this class! You will learn the basics of resin and then mix the resin and cover your piece. You’ll leave your finished artwork to set at the gallery at the end of the workshop\, and pick them up during gallery hours later in the week. \nOption: First take the Acrylic Paint Pour Workshop with Ditas Katague on Monday\, June 9\, 6:30-8:30pm\, and then come to this workshop to resin your masterpiece! Save $10 when you sign up for both workshops at the same time. Register by June 6 for this discount. \nThe workshop is designed for adults. Children ages 16-17 may participate with parental permission. Children ages 12-15 may participate only with a co-participating adult guardian (guardian must contact instructor in advance). \nRegister Now \n\nView other upcoming workshops\, information about the facility and policies on the Upcoming Workshops page.
URL:https://delrayartisans.org/event/resin-canvas-or-panel/
LOCATION:Del Ray Artisans Gallery\, 2704 Mount Vernon Avenue\, Alexandria\, VA\, 22301\, United States
CATEGORIES:Creative Summer Programs,Program,Workshop
ATTACH;FMTTYPE=image/jpeg:https://delrayartisans.org/wp-content/uploads/2025/04/Resin-on-canvas-TracyWilkerson.jpg
ORGANIZER;CN="Tracy Wilkerson":MAILTO:recycledworks@yahoo.com
END:VEVENT
END:VCALENDAR