BEGIN:VCALENDAR
VERSION:2.0
PRODID:-//Del Ray Artisans - ECPv6.15.20//NONSGML v1.0//EN
CALSCALE:GREGORIAN
METHOD:PUBLISH
X-ORIGINAL-URL:https://delrayartisans.org
X-WR-CALDESC:Events for Del Ray Artisans
REFRESH-INTERVAL;VALUE=DURATION:PT1H
X-Robots-Tag:noindex
X-PUBLISHED-TTL:PT1H
BEGIN:VTIMEZONE
TZID:America/New_York
BEGIN:DAYLIGHT
TZOFFSETFROM:-0500
TZOFFSETTO:-0400
TZNAME:EDT
DTSTART:20240310T070000
END:DAYLIGHT
BEGIN:STANDARD
TZOFFSETFROM:-0400
TZOFFSETTO:-0500
TZNAME:EST
DTSTART:20241103T060000
END:STANDARD
BEGIN:DAYLIGHT
TZOFFSETFROM:-0500
TZOFFSETTO:-0400
TZNAME:EDT
DTSTART:20250309T070000
END:DAYLIGHT
BEGIN:STANDARD
TZOFFSETFROM:-0400
TZOFFSETTO:-0500
TZNAME:EST
DTSTART:20251102T060000
END:STANDARD
BEGIN:DAYLIGHT
TZOFFSETFROM:-0500
TZOFFSETTO:-0400
TZNAME:EDT
DTSTART:20260308T070000
END:DAYLIGHT
BEGIN:STANDARD
TZOFFSETFROM:-0400
TZOFFSETTO:-0500
TZNAME:EST
DTSTART:20261101T060000
END:STANDARD
END:VTIMEZONE
BEGIN:VEVENT
DTSTART;TZID=America/New_York:20250612T180000
DTEND;TZID=America/New_York:20250612T210000
DTSTAMP:20260423T191812
CREATED:20250505T215932Z
LAST-MODIFIED:20250610T162900Z
UID:10001848-1749751200-1749762000@delrayartisans.org
SUMMARY:CANCELED: La Siréne: Bead Embroidery Workshop
DESCRIPTION:Instructor:Amy Castine\nDate/Time: Thursdays\, June 12th and 19th\, 6-9pm\nCost: $90 Del Ray Artisans member / $100 Non-member; plus $15 supply fee\nClass size: 4-8 participants\n(Register by June 9 – No walk-ins allowed) \nAs summer approaches\, many peoples’ thoughts are filled with warm afternoons lounging by the sea. If this visual calls to your inner mermaid\, we have just the creative class for you. \nPlease join us for La Siréne\, an intermediate bead embroidery class. In this class\, you will learn beaded backstitch stitch and brick stitch edging as you make your very own mermaid tail. If you are already comfortable with backstitch\, you can learn how to add a beautiful coil border to your work. \nWe will meet in two class sessions (June 12 and June 19) allowing you to practice the stitches and to complete your personalized mermaid tail. \n \n\nView other upcoming workshops\, information about the facility and policies on the Upcoming Workshops page.
URL:https://delrayartisans.org/event/la-sirene/
LOCATION:Del Ray Artisans Gallery\, 2704 Mount Vernon Avenue\, Alexandria\, VA\, 22301\, United States
CATEGORIES:Creative Summer Programs,Program,Workshop
ATTACH;FMTTYPE=image/jpeg:https://delrayartisans.org/wp-content/uploads/2025/05/MermaidTail-by-AmyCastine.jpg
ORGANIZER;CN="Amy Castine":MAILTO:amy.castine@aim.com
END:VEVENT
END:VCALENDAR