BEGIN:VCALENDAR
VERSION:2.0
PRODID:-//Del Ray Artisans - ECPv6.15.20//NONSGML v1.0//EN
CALSCALE:GREGORIAN
METHOD:PUBLISH
X-WR-CALNAME:Del Ray Artisans
X-ORIGINAL-URL:https://delrayartisans.org
X-WR-CALDESC:Events for Del Ray Artisans
REFRESH-INTERVAL;VALUE=DURATION:PT1H
X-Robots-Tag:noindex
X-PUBLISHED-TTL:PT1H
BEGIN:VTIMEZONE
TZID:America/New_York
BEGIN:DAYLIGHT
TZOFFSETFROM:-0500
TZOFFSETTO:-0400
TZNAME:EDT
DTSTART:20240310T070000
END:DAYLIGHT
BEGIN:STANDARD
TZOFFSETFROM:-0400
TZOFFSETTO:-0500
TZNAME:EST
DTSTART:20241103T060000
END:STANDARD
BEGIN:DAYLIGHT
TZOFFSETFROM:-0500
TZOFFSETTO:-0400
TZNAME:EDT
DTSTART:20250309T070000
END:DAYLIGHT
BEGIN:STANDARD
TZOFFSETFROM:-0400
TZOFFSETTO:-0500
TZNAME:EST
DTSTART:20251102T060000
END:STANDARD
BEGIN:DAYLIGHT
TZOFFSETFROM:-0500
TZOFFSETTO:-0400
TZNAME:EDT
DTSTART:20260308T070000
END:DAYLIGHT
BEGIN:STANDARD
TZOFFSETFROM:-0400
TZOFFSETTO:-0500
TZNAME:EST
DTSTART:20261101T060000
END:STANDARD
END:VTIMEZONE
BEGIN:VEVENT
DTSTART;TZID=America/New_York:20250123T180000
DTEND;TZID=America/New_York:20250123T210000
DTSTAMP:20260424T095629
CREATED:20241030T222036Z
LAST-MODIFIED:20250119T190556Z
UID:10001700-1737655200-1737666000@delrayartisans.org
SUMMARY:"When Pigs Fly" Bead Embroidery Workshop (Register by 1/22) - NEW DATE!
DESCRIPTION:UPDATE: This workshop was rescheduled from Sunday\, January 19 to Thursday\, January 23 due to the weather. Additional registrations will be accepted until midnight on Wednesday\, January 22. \nInstructor: Amy Castine\, amy.castine@aim.com\nDate/Time: Thursday\, January 23\, 6-9pm\nCost: $50 Del Ray Artisans member / $60 Non-member; plus $15 Supply Fee\nClass size: 4-8 participants\n(Register by midnight on January 22) \nCreate a fun piece of wearable bead art! While bead embroidery may look complicated\, it doesn’t have to be. In this class\, you will learn beginning bead embroidery stitches as you create your own flying pig pin/pendant. Plus\, the skills you learn can be combined and added to all sorts of fiber arts\, giving you a solid foundation to expand your creativity. \nThis workshop is held in conjunction with the Visual Humor art exhibit. \nRegister Now \n\nView other upcoming workshops\, information about the facility\, and policies on the Upcoming Workshops page.
URL:https://delrayartisans.org/event/beaded-flying-pig/
LOCATION:Del Ray Artisans Gallery\, 2704 Mount Vernon Avenue\, Alexandria\, VA\, 22301\, United States
CATEGORIES:Program,Workshop
ATTACH;FMTTYPE=image/jpeg:https://delrayartisans.org/wp-content/uploads/2024/12/WhenPigsFly-materials-AmyCastine.jpg
ORGANIZER;CN="Amy Castine":MAILTO:amy.castine@aim.com
END:VEVENT
END:VCALENDAR