BEGIN:VCALENDAR
VERSION:2.0
PRODID:-//Del Ray Artisans - ECPv6.15.20//NONSGML v1.0//EN
CALSCALE:GREGORIAN
METHOD:PUBLISH
X-WR-CALNAME:Del Ray Artisans
X-ORIGINAL-URL:https://delrayartisans.org
X-WR-CALDESC:Events for Del Ray Artisans
REFRESH-INTERVAL;VALUE=DURATION:PT1H
X-Robots-Tag:noindex
X-PUBLISHED-TTL:PT1H
BEGIN:VTIMEZONE
TZID:America/New_York
BEGIN:DAYLIGHT
TZOFFSETFROM:-0500
TZOFFSETTO:-0400
TZNAME:EDT
DTSTART:20230312T070000
END:DAYLIGHT
BEGIN:STANDARD
TZOFFSETFROM:-0400
TZOFFSETTO:-0500
TZNAME:EST
DTSTART:20231105T060000
END:STANDARD
BEGIN:DAYLIGHT
TZOFFSETFROM:-0500
TZOFFSETTO:-0400
TZNAME:EDT
DTSTART:20240310T070000
END:DAYLIGHT
BEGIN:STANDARD
TZOFFSETFROM:-0400
TZOFFSETTO:-0500
TZNAME:EST
DTSTART:20241103T060000
END:STANDARD
BEGIN:DAYLIGHT
TZOFFSETFROM:-0500
TZOFFSETTO:-0400
TZNAME:EDT
DTSTART:20250309T070000
END:DAYLIGHT
BEGIN:STANDARD
TZOFFSETFROM:-0400
TZOFFSETTO:-0500
TZNAME:EST
DTSTART:20251102T060000
END:STANDARD
END:VTIMEZONE
BEGIN:VEVENT
DTSTART;TZID=America/New_York:20240928T120000
DTEND;TZID=America/New_York:20240928T143000
DTSTAMP:20260424T213322
CREATED:20240813T214220Z
LAST-MODIFIED:20240927T005841Z
UID:10001495-1727524800-1727533800@delrayartisans.org
SUMMARY:CANCELLED: Intro to Art Trading Cards (ATCs) featuring Fabric French Roses (Register by 9/26)
DESCRIPTION:Instructor: Sue Rosenbaum\nDate/Time: Saturday\, September 28\, 12pm-2:30pm\nCost: $32 Del Ray Artisans member / $42 Non-member\, plus $20 supply fee\nClass size: 6-20 participants\n(Register by September 26) \nJoin Sue Rosenbaum for an introduction to ATCs (Art Trading Cards) and create your own featuring a fabric French Rose and vintage book page collaged background. These 2.5 x3.5” mini art pieces are such fun to create and trade. \nDuring this workshop\, Sue will take you on a creative journey into the wonderful world of ATCs with a Show and Tell of her collection while we collage a background and embellish with layered fabric flowers and a vintage button. Following the principles of ATCs\, we will trade with one another at the end of the class! \nNote: Machine stitching on the background will not be a part of this class. \nRegister Now \n\nView other upcoming workshops\, information about the facility\, and policies on the Upcoming Workshops page.
URL:https://delrayartisans.org/event/intro-to-art-trading-cards/
LOCATION:Del Ray Artisans Gallery\, 2704 Mount Vernon Avenue\, Alexandria\, VA\, 22301\, United States
CATEGORIES:Program,Workshop
ATTACH;FMTTYPE=image/jpeg:https://delrayartisans.org/wp-content/uploads/2024/08/ATCs-Sue-Rosenbaum-sq.jpg
ORGANIZER;CN="Erica Hughes%2C Programs Director":MAILTO:programs@delrayartisans.org
END:VEVENT
END:VCALENDAR