BEGIN:VCALENDAR
VERSION:2.0
PRODID:-//Del Ray Artisans - ECPv6.15.20//NONSGML v1.0//EN
CALSCALE:GREGORIAN
METHOD:PUBLISH
X-WR-CALNAME:Del Ray Artisans
X-ORIGINAL-URL:https://delrayartisans.org
X-WR-CALDESC:Events for Del Ray Artisans
REFRESH-INTERVAL;VALUE=DURATION:PT1H
X-Robots-Tag:noindex
X-PUBLISHED-TTL:PT1H
BEGIN:VTIMEZONE
TZID:America/New_York
BEGIN:DAYLIGHT
TZOFFSETFROM:-0500
TZOFFSETTO:-0400
TZNAME:EDT
DTSTART:20230312T070000
END:DAYLIGHT
BEGIN:STANDARD
TZOFFSETFROM:-0400
TZOFFSETTO:-0500
TZNAME:EST
DTSTART:20231105T060000
END:STANDARD
BEGIN:DAYLIGHT
TZOFFSETFROM:-0500
TZOFFSETTO:-0400
TZNAME:EDT
DTSTART:20240310T070000
END:DAYLIGHT
BEGIN:STANDARD
TZOFFSETFROM:-0400
TZOFFSETTO:-0500
TZNAME:EST
DTSTART:20241103T060000
END:STANDARD
BEGIN:DAYLIGHT
TZOFFSETFROM:-0500
TZOFFSETTO:-0400
TZNAME:EDT
DTSTART:20250309T070000
END:DAYLIGHT
BEGIN:STANDARD
TZOFFSETFROM:-0400
TZOFFSETTO:-0500
TZNAME:EST
DTSTART:20251102T060000
END:STANDARD
END:VTIMEZONE
BEGIN:VEVENT
DTSTART;TZID=America/New_York:20240909T190000
DTEND;TZID=America/New_York:20240909T203000
DTSTAMP:20260424T213321
CREATED:20240813T200412Z
LAST-MODIFIED:20240820T224202Z
UID:10001482-1725908400-1725913800@delrayartisans.org
SUMMARY:Introduction to Crochet (Three 1.5-Hour Classes; Register by 9/6)
DESCRIPTION:Instructor: Dawn Zurell\nDate/Time: (Mondays) September 9\, 16\, and 23 from 7 to 8:30pm (Three 1.5 hour classes)\nCost: $75 Del Ray Artisans member / $85 Non-member; Bring own supplies\nClass size: 2-8 participants\n(Register by September 6) \nThis introduction class is great for those who have never tried crochet or have crocheted years ago\, and want to restart their craft. It is spread out over three weeks\, so you will have time to practice the techniques learned in each session. This format will set you up for success in your new hobby\, and give you the basic skills needed to continue with future projects. You will also complete a pair of fingerless mitts! \nThis series of three 1.5-hour classes is for anyone aged 13+ years. The specific skills taught in this class are: \n\nfoundation chain\nsingle crochet\nhalf double crochet\ndouble crochet\nidentifying and fixing simple mistakes\n\nAdditionally\, you will learn common crochet terms\, and be introduced to the vast array of yarns in the fiber world. \nMaterials you will need to bring to your first class: \n\n150-200 yards of single ply worsted weight (#4) yarn\, wool\, wool blend\, or other natural fiber in a light color (see yarn suggestions at the end of the class description)\nUS 8-H (5mm) crochet hook\nDarning needle or notion kit/set\n\nNo preparation is needed\, but if you would like to have a book to refer to\, here are a couple suggestions: \n\nMini Hook Book: Learn to Crochet!\nA to Z of Crochet: The Ultimate Guide for the Beginner to Advanced Crocheter\n\nSuggestions for yarn: \nNatural fibers\, single ply yarn\, and light colors are easiest for beginners\, but we have included acrylic recommendations for those sensitive to wool. \n\n2 skeins of Valley Yarns Berkshire\, available at yarn.com\n1 skein of Brown Sheep Lamb’s Pride Worsted\, available at yarn.com\n1 skein of Facets™ Yarn by Loops & Threads®\, available at Michaels\n2 skeins of Lion Brand® Landscapes® Fusion Yarn\, available at Michaels and JoAnns\n1 skein of Manos del Uruguay Maxima\, available at Fibre Space\, (please have it wound into a cake)\n\nRegister Now \n\nView other upcoming workshops\, information about the facility\, and policies on the Upcoming Workshops page.
URL:https://delrayartisans.org/event/intro-to-crochet-2024/
LOCATION:Del Ray Artisans Gallery\, 2704 Mount Vernon Avenue\, Alexandria\, VA\, 22301\, United States
CATEGORIES:Program,Workshop
ATTACH;FMTTYPE=image/jpeg:https://delrayartisans.org/wp-content/uploads/2023/04/Crochet-Glove-by-Dawn-Zurell.jpg
ORGANIZER;CN="Erica Hughes%2C Programs Director":MAILTO:programs@delrayartisans.org
END:VEVENT
END:VCALENDAR