BEGIN:VCALENDAR
VERSION:2.0
PRODID:-//Del Ray Artisans - ECPv6.15.20//NONSGML v1.0//EN
CALSCALE:GREGORIAN
METHOD:PUBLISH
X-ORIGINAL-URL:https://delrayartisans.org
X-WR-CALDESC:Events for Del Ray Artisans
REFRESH-INTERVAL;VALUE=DURATION:PT1H
X-Robots-Tag:noindex
X-PUBLISHED-TTL:PT1H
BEGIN:VTIMEZONE
TZID:America/New_York
BEGIN:DAYLIGHT
TZOFFSETFROM:-0500
TZOFFSETTO:-0400
TZNAME:EDT
DTSTART:20230312T070000
END:DAYLIGHT
BEGIN:STANDARD
TZOFFSETFROM:-0400
TZOFFSETTO:-0500
TZNAME:EST
DTSTART:20231105T060000
END:STANDARD
BEGIN:DAYLIGHT
TZOFFSETFROM:-0500
TZOFFSETTO:-0400
TZNAME:EDT
DTSTART:20240310T070000
END:DAYLIGHT
BEGIN:STANDARD
TZOFFSETFROM:-0400
TZOFFSETTO:-0500
TZNAME:EST
DTSTART:20241103T060000
END:STANDARD
BEGIN:DAYLIGHT
TZOFFSETFROM:-0500
TZOFFSETTO:-0400
TZNAME:EDT
DTSTART:20250309T070000
END:DAYLIGHT
BEGIN:STANDARD
TZOFFSETFROM:-0400
TZOFFSETTO:-0500
TZNAME:EST
DTSTART:20251102T060000
END:STANDARD
END:VTIMEZONE
BEGIN:VEVENT
DTSTART;TZID=America/New_York:20240525T100000
DTEND;TZID=America/New_York:20240525T120000
DTSTAMP:20260425T125445
CREATED:20240220T154951Z
LAST-MODIFIED:20240514T141733Z
UID:10001362-1716631200-1716638400@delrayartisans.org
SUMMARY:Morning Tea (SOLD OUT)
DESCRIPTION:UPDATE: Thank you for your interest in our morning tea. The event is now full and we are unable to accommodate walk-ins. We still encourage you to visit the gallery this month to see the work of our incredible artists featured in The Art of Tea exhibit. \nEvent Organizers: Suzan Ok Shumate and Sue Shumate\nDate/Time: Saturday\, May 25\, 10am-noon\nCost: $35 Del Ray Artisans member / $45 Non-member\nEvent size: 12-16 participants\n(Register by midnight on May 17 – SOLD OUT) \nAttendees will enjoy the experience of high tea\, learn about different teas\, and take in the atmosphere of tables decorated to represent different artists (Vincent van Gogh\, Georgia O’Keefe\, Claude Monet). \nJoin fellow tea and art lovers for a relaxing morning of conversation over loose leaf infusions\, scones\, savories\, and sweets. This artist-themed high tea event is perfect for individuals\, couples\, or small groups. You can dress up in your favorite hats and gloves\, or feel free to dress casually\, too. \nMorning tea will include sweets\, savories\, and hot tea/water. However\, we are unable to accommodate special dietary restrictions. We will try to offer a variety of vegetarian options. \nThis event is being held in conjunction with The Art of Tea art exhibit. \nRegister Now \n\nArtwork credit: High tea place setting and photograph by Sue Shumate \n\nView upcoming workshops\, information about the facility\, and refund policies on the Upcoming Workshops page.
URL:https://delrayartisans.org/event/morning-tea/
LOCATION:Del Ray Artisans Gallery\, 2704 Mount Vernon Avenue\, Alexandria\, VA\, 22301\, United States
CATEGORIES:Program,Workshop
ATTACH;FMTTYPE=image/jpeg:https://delrayartisans.org/wp-content/uploads/2024/03/August-2023-Tea-by-Sue-Shumate.jpg
ORGANIZER;CN="Suzan Ok Shumate":MAILTO:suzan.ok@gmail.com
END:VEVENT
END:VCALENDAR