BEGIN:VCALENDAR
VERSION:2.0
PRODID:-//Del Ray Artisans - ECPv6.15.20//NONSGML v1.0//EN
CALSCALE:GREGORIAN
METHOD:PUBLISH
X-ORIGINAL-URL:https://delrayartisans.org
X-WR-CALDESC:Events for Del Ray Artisans
REFRESH-INTERVAL;VALUE=DURATION:PT1H
X-Robots-Tag:noindex
X-PUBLISHED-TTL:PT1H
BEGIN:VTIMEZONE
TZID:America/New_York
BEGIN:DAYLIGHT
TZOFFSETFROM:-0500
TZOFFSETTO:-0400
TZNAME:EDT
DTSTART:20250309T070000
END:DAYLIGHT
BEGIN:STANDARD
TZOFFSETFROM:-0400
TZOFFSETTO:-0500
TZNAME:EST
DTSTART:20251102T060000
END:STANDARD
BEGIN:DAYLIGHT
TZOFFSETFROM:-0500
TZOFFSETTO:-0400
TZNAME:EDT
DTSTART:20260308T070000
END:DAYLIGHT
BEGIN:STANDARD
TZOFFSETFROM:-0400
TZOFFSETTO:-0500
TZNAME:EST
DTSTART:20261101T060000
END:STANDARD
BEGIN:DAYLIGHT
TZOFFSETFROM:-0500
TZOFFSETTO:-0400
TZNAME:EDT
DTSTART:20270314T070000
END:DAYLIGHT
BEGIN:STANDARD
TZOFFSETFROM:-0400
TZOFFSETTO:-0500
TZNAME:EST
DTSTART:20271107T060000
END:STANDARD
END:VTIMEZONE
BEGIN:VEVENT
DTSTART;TZID=America/New_York:20260606T100000
DTEND;TZID=America/New_York:20260606T130000
DTSTAMP:20260422T220332
CREATED:20260409T185626Z
LAST-MODIFIED:20260417T190519Z
UID:10002225-1780740000-1780750800@delrayartisans.org
SUMMARY:Junk Journaling Workshop (Register by 6/2)
DESCRIPTION:Instructor: Azita R. Houshiar\nDate/Time: Saturday\, June 6\, 10am-1pm\nCost: $40 Del Ray Artisans member / $50 Non-member; plus $10 supply fee\nClass size: 5-12 participants\n(Register by June 2) \nCollage by Azita Houshiar\nCome to play and experiment freely\, and leave with pages started and ideas you can continue exploring long after the class ends. Junk Journaling blends the art of collage with the practice of journaling\, offering a playful\, low-pressure way to explore creativity without worrying about perfection. The emphasis is on curiosity\, intuition\, experimentation\, and discovering your own expressive style. \nIn this workshop\, you’ll learn practical techniques for collage\, layering\, and composition\, and receive guidance on using found paper\, packaging\, tags\, embellishments\, and everyday “junk” to create layered\, expressive journal pages that reflect your personal perspective and storytelling style. \nPlease bring your own journal. If you don’t have one yet\, high-quality paper will be provided so you can experiment and create during class. All other supplies will be included\, such as paper\, ephemera\, stickers\, tape\, glue\, and basic tools. You’re also welcome to bring old photographs\, mementos\, or personal collage materials you enjoy using\, especially items that hold meaning for you. \nThis beginner-friendly class is open to teenagers and adults of all skill levels. \nRegister Now \n\nImage credit: Azita R. Houshiar \n\nView other upcoming workshops\, information about the facility\, and policies on the Upcoming Workshops page.
URL:https://delrayartisans.org/event/junk-journaling-2026-06/
LOCATION:Del Ray Artisans Gallery\, 2704 Mount Vernon Avenue\, Alexandria\, VA\, 22301\, United States
CATEGORIES:Program,Workshop
ATTACH;FMTTYPE=image/jpeg:https://delrayartisans.org/wp-content/uploads/2025/12/Azita-Houshiar-collage-square.jpg
ORGANIZER;CN="Tracy Wilkerson%2C Programs Director":MAILTO:programs@delrayartisans.org
END:VEVENT
BEGIN:VEVENT
DTSTART;TZID=America/New_York:20260613T100000
DTEND;TZID=America/New_York:20260613T120000
DTSTAMP:20260422T220332
CREATED:20260409T190950Z
LAST-MODIFIED:20260417T190954Z
UID:10002226-1781344800-1781352000@delrayartisans.org
SUMMARY:Persian Mulberry Sweets: A No-Bake Confectionery Class
DESCRIPTION:Instructor: Azita R. Houshiar\nDate/Time: Saturday\, June 13\, 10am-12pm\nCost: $40 Del Ray Artisans member / $50 Non-member; plus $10 supply fee\nClass size: 4-20 participants\n(Register by June 9.) \nMore information and registration coming soon!  \n\nView other upcoming workshops\, information about the facility\, and policies on the Upcoming Workshops page.
URL:https://delrayartisans.org/event/persian-mulberry-sweets/
LOCATION:Del Ray Artisans Gallery\, 2704 Mount Vernon Avenue\, Alexandria\, VA\, 22301\, United States
CATEGORIES:Program,Workshop
ATTACH;FMTTYPE=image/jpeg:https://delrayartisans.org/wp-content/uploads/2026/04/Persian-Mulberry-by-Azita-Houshiar.jpg
ORGANIZER;CN="Tracy Wilkerson%2C Programs Director":MAILTO:programs@delrayartisans.org
END:VEVENT
BEGIN:VEVENT
DTSTART;TZID=America/New_York:20260621T180000
DTEND;TZID=America/New_York:20260621T210000
DTSTAMP:20260422T220332
CREATED:20260327T185804Z
LAST-MODIFIED:20260327T185855Z
UID:10002222-1782064800-1782075600@delrayartisans.org
SUMMARY:Playing with Resin Workshop
DESCRIPTION:Instructor: Tracy Wilkerson\, recycledworks@yahoo.com\nDate/Time: Sunday\, June 21\, 6-9pm\nCost: $40 Del Ray Artisans member / $50 Non-member; plus a $10 Supply Fee\nClass size: 6-12 participants\n(Register in advance to guarantee a spot; walk-ins welcome\, space permitting.) \nLearn the ins and outs of prepping for and mixing resin\, and how to use it as an adhesive\, a covering\, or the main medium. There’s lots of creative time during this 3-hour workshop… No need to rush\, which is one of the first lessons in using resin! All supplies are provided\, but feel free to bring personal embellishments for your piece(s). \nThis workshop does not get into using dyes with resin or building big molds to create one-of-a-kind resined tables (as seen on YouTube)\, but this workshop will provide you with a good understanding of how resin works so you can be bold enough to take the next steps in your creative interests. \nAlthough the class is listed for 3 hours\, you can leave once you have finished your creations. Some students finish very quickly while others take the whole 3 hours to create – there is plenty of time for each person to enjoy the creative process while not feeling rushed. You’ll leave your finished masterpiece(s) to set at the gallery at the end of the workshop\, and pick them up during gallery hours later in the week. \nThe workshop is designed for adults. Children ages 16-17 may participate with parental permission. Children ages 12-15 may participate only with a co-participating adult guardian (guardian must contact instructor in advance). \nRegistration coming soon!  \n\nView other upcoming workshops\, information about the facility and policies on the Upcoming Workshops page.
URL:https://delrayartisans.org/event/playing-with-resin-2026-06/
LOCATION:Del Ray Artisans Gallery\, 2704 Mount Vernon Avenue\, Alexandria\, VA\, 22301\, United States
CATEGORIES:Program,Workshop
ATTACH;FMTTYPE=image/jpeg:https://delrayartisans.org/wp-content/uploads/1992/12/playing-with-resin-vMKzOK.tmp.jpg
ORGANIZER;CN="Tracy Wilkerson":MAILTO:recycledworks@yahoo.com
END:VEVENT
END:VCALENDAR