BEGIN:VCALENDAR
VERSION:2.0
PRODID:-//Del Ray Artisans - ECPv6.15.20//NONSGML v1.0//EN
CALSCALE:GREGORIAN
METHOD:PUBLISH
X-ORIGINAL-URL:https://delrayartisans.org
X-WR-CALDESC:Events for Del Ray Artisans
REFRESH-INTERVAL;VALUE=DURATION:PT1H
X-Robots-Tag:noindex
X-PUBLISHED-TTL:PT1H
BEGIN:VTIMEZONE
TZID:America/New_York
BEGIN:DAYLIGHT
TZOFFSETFROM:-0500
TZOFFSETTO:-0400
TZNAME:EDT
DTSTART:20240310T070000
END:DAYLIGHT
BEGIN:STANDARD
TZOFFSETFROM:-0400
TZOFFSETTO:-0500
TZNAME:EST
DTSTART:20241103T060000
END:STANDARD
BEGIN:DAYLIGHT
TZOFFSETFROM:-0500
TZOFFSETTO:-0400
TZNAME:EDT
DTSTART:20250309T070000
END:DAYLIGHT
BEGIN:STANDARD
TZOFFSETFROM:-0400
TZOFFSETTO:-0500
TZNAME:EST
DTSTART:20251102T060000
END:STANDARD
BEGIN:DAYLIGHT
TZOFFSETFROM:-0500
TZOFFSETTO:-0400
TZNAME:EDT
DTSTART:20260308T070000
END:DAYLIGHT
BEGIN:STANDARD
TZOFFSETFROM:-0400
TZOFFSETTO:-0500
TZNAME:EST
DTSTART:20261101T060000
END:STANDARD
END:VTIMEZONE
BEGIN:VEVENT
DTSTART;TZID=America/New_York:20251208T160000
DTEND;TZID=America/New_York:20251208T180000
DTSTAMP:20260423T010702
CREATED:20250925T001448Z
LAST-MODIFIED:20251203T194023Z
UID:10001944-1765209600-1765216800@delrayartisans.org
SUMMARY:STEAM-tastic: Neurographic Art Workshop (Register ASAP)
DESCRIPTION:Instructor: Morgan Parr\nDate/Time: Monday\, December 8\, 4-6pm\nCost: $15 child / $30 adult; plus $5 supply fee\nClass size: 4-25 participants\n(Register in advance; walk-ins welcome\, space permitting.) \nYou don’t need to be an artist to explore neuroscience-inspired creativity! In this STEAM-based activity\, we’ll create Neurographic Art\, where art meets brain science. A neuron is a cell that transmits messages in your brain and body—and this relaxing drawing process is inspired by the organic structure of these neural pathways. \nThrough structured linework and spontaneous design\, participants explore the connection between neural activity and creative expression. This calming activity promotes emotional regulation\, cognitive flexibility\, and visual mindfulness. \nThe hands-on activity is family-friendly and suitable for ages 10 and above\, including adults! All supplies are provided\, but feel free to bring your own markers\, pens\, or watercolors to add a personal touch. \nRegister Now \n\nSTEAM-tastic @ DRA – Come join us at Del Ray Artisans for interactive classes about Science\, Technology\, Engineering\, Arts and Math (STEAM)\, taught by professionals from each field! Geared toward youth\, each lesson has a short talk or demonstration and a hands-on craft project. Del Ray Artisans’ STEAM-tastic workshops are made possible with support from the City of Alexandria through the FY2026 Annual Arts Program Grant.\n \n\nView other upcoming workshops\, information about the facility\, and policies on the Upcoming Workshops page.
URL:https://delrayartisans.org/event/steam-neurographic-art/
LOCATION:Del Ray Artisans Gallery\, 2704 Mount Vernon Avenue\, Alexandria\, VA\, 22301\, United States
CATEGORIES:Program,Workshop,Youth
ATTACH;FMTTYPE=image/jpeg:https://delrayartisans.org/wp-content/uploads/2025/06/STEAM-Neurographic-Morgan-Parr.jpg
ORGANIZER;CN="Morgan Parr":MAILTO:rmorganparr@gmail.com
END:VEVENT
BEGIN:VEVENT
DTSTART;TZID=America/New_York:20251217T183000
DTEND;TZID=America/New_York:20251217T203000
DTSTAMP:20260423T010702
CREATED:20251112T192905Z
LAST-MODIFIED:20251118T194354Z
UID:10002032-1765996200-1766003400@delrayartisans.org
SUMMARY:Holiday-themed DIY Ukulele (Register by 12/13)
DESCRIPTION:Instructor: Khushi Bhansali\nDate/Time: Wednesday\, December 17\, 6:30-8:30pm\nCost: $20 Del Ray Artisans member / $30 Non-member; plus $30 supply fee\nClass size: 5-20 participants\n(Register by December 13) \nHand-paint and assemble your own ukulele to keep or give as a unique\, one-of-a-kind handmade gift this holiday season. \nThe class begins with a quick overview of the ukulele’s parts and then participants will personalize their ukuleles with paint inspired by fall leaves\, snowflakes\, or something of their choice. After the decorating is finished\, the instructor will guide participants on how to put the ukulele together and string the instruments. We’ll end with a beginner lesson on ukulele chords! \nAll materials are provided. \nRegister Now \n\nArtwork credit: Ukuleles by Khushi Bhansali \n\nView other upcoming workshops\, information about the facility\, and policies on the Upcoming Workshops page.
URL:https://delrayartisans.org/event/holiday-ukulele/
LOCATION:Del Ray Artisans Gallery\, 2704 Mount Vernon Avenue\, Alexandria\, VA\, 22301\, United States
CATEGORIES:Program,Workshop
ATTACH;FMTTYPE=image/jpeg:https://delrayartisans.org/wp-content/uploads/2025/11/Ukeleles-by-Khushi-Bhansali.jpeg
ORGANIZER;CN="Tracy Wilkerson%2C Programs Director":MAILTO:programs@delrayartisans.org
END:VEVENT
END:VCALENDAR