BEGIN:VCALENDAR
VERSION:2.0
PRODID:-//Del Ray Artisans - ECPv6.15.20//NONSGML v1.0//EN
CALSCALE:GREGORIAN
METHOD:PUBLISH
X-ORIGINAL-URL:https://delrayartisans.org
X-WR-CALDESC:Events for Del Ray Artisans
REFRESH-INTERVAL;VALUE=DURATION:PT1H
X-Robots-Tag:noindex
X-PUBLISHED-TTL:PT1H
BEGIN:VTIMEZONE
TZID:America/New_York
BEGIN:DAYLIGHT
TZOFFSETFROM:-0500
TZOFFSETTO:-0400
TZNAME:EDT
DTSTART:20230312T070000
END:DAYLIGHT
BEGIN:STANDARD
TZOFFSETFROM:-0400
TZOFFSETTO:-0500
TZNAME:EST
DTSTART:20231105T060000
END:STANDARD
BEGIN:DAYLIGHT
TZOFFSETFROM:-0500
TZOFFSETTO:-0400
TZNAME:EDT
DTSTART:20240310T070000
END:DAYLIGHT
BEGIN:STANDARD
TZOFFSETFROM:-0400
TZOFFSETTO:-0500
TZNAME:EST
DTSTART:20241103T060000
END:STANDARD
BEGIN:DAYLIGHT
TZOFFSETFROM:-0500
TZOFFSETTO:-0400
TZNAME:EDT
DTSTART:20250309T070000
END:DAYLIGHT
BEGIN:STANDARD
TZOFFSETFROM:-0400
TZOFFSETTO:-0500
TZNAME:EST
DTSTART:20251102T060000
END:STANDARD
END:VTIMEZONE
BEGIN:VEVENT
DTSTART;TZID=America/New_York:20240707T100000
DTEND;TZID=America/New_York:20240707T120000
DTSTAMP:20260425T093012
CREATED:20240612T203449Z
LAST-MODIFIED:20240616T164655Z
UID:10001422-1720346400-1720353600@delrayartisans.org
SUMMARY:Chain Mail Bracelet Workshop (Register by 7/3)
DESCRIPTION:Instructor: Janna Marks\, jannam22@yahoo.com\nDate/Time: Sunday\, July 7\, 10am-Noon\nCost: $30 Del Ray Artisans member / $40 Non-member; plus a $10 Supply Fee\nClass size: 2-10 participants\n(Register by midnight on July 3) \nLearn how to make your own chain mail bracelet. The weave may look complex\, but it is very beginner-friendly. Participants will learn the basics of using pliers to connect one ring at a time and the proper way to open and close rings. The instructor will then walk through building the pattern\, and each participant will choose from a rainbow of options to make a unique two-color bracelet. \nRegister Now \n\nArtwork Credit: Bracelets by Janna Marks \n\nView other upcoming workshops\, information about the facility and policies on the Upcoming Workshops page.
URL:https://delrayartisans.org/event/chain-mail-bracelet-workshop/
LOCATION:Del Ray Artisans Gallery\, 2704 Mount Vernon Avenue\, Alexandria\, VA\, 22301\, United States
CATEGORIES:Creative Summer Programs,Program,Workshop
ATTACH;FMTTYPE=image/jpeg:https://delrayartisans.org/wp-content/uploads/2024/06/Bracelets-by-Janna-Marks.jpg
ORGANIZER;CN="Erica Hughes%2C Programs Director":MAILTO:programs@delrayartisans.org
END:VEVENT
BEGIN:VEVENT
DTSTART;VALUE=DATE:20240708
DTEND;VALUE=DATE:20240713
DTSTAMP:20260425T093012
CREATED:20240126T124125Z
LAST-MODIFIED:20260403T202411Z
UID:10001346-1720396800-1720828799@delrayartisans.org
SUMMARY:5-day Figure Drawing Bootcamp (9am–3pm/day)
DESCRIPTION:Monday\, July 8 – Friday\, July 12\n9am–3pm each day\nRegister Now \nStruggling to kickstart your daily drawing routine? Dive into our 5-day Figure Drawing Bootcamp\, where we embrace art through dynamic poses and quick gestures ranging from 30 seconds to 20 minutes. Each day features two unique models\, ensuring an engaging experience\, with an hour break for lunch from 11:30am-12:30pm. \nImmerse yourself in a creative environment\, fostering both artistic expression and community. And that’s not all – at the end of the week\, showcase and sell your masterpieces during the first day of our Summer Art Market (Saturday\, July 13th). \nUnleash your creativity and join a vibrant community of local artists! \nWe’re offering a discounted weekly rate for DRA members! Just $200 for 5 days + the option to sell your work at the DRA Life Drawing booth during the market. Non-members will pay $250 for the 5-day pass. Anyone can drop-in on day(s) they select for $55 each. \nPurchase our $30 supply kit (optional)\, and we will provide a basic set you need to get started. The kit includes newsprint\, charcoal\, fine art paper\, and pastels. Keep any unused newsprint/charcoal at the end of the session! \nIf you’d like to bring your own supplies\, we recommend: \n\n50+ Sheets of Newsprint (preferably 14″ x 16″ or 18″ x 24″)\nCharcoal (Vine\, Compressed\, Thick\, Conte\, White\, whichever your preference)\nGrey and/or Tan Toned Strathmore Drawing Paper (for longer poses)\nRags/Blending stumps/Paper towels\nKneaded & Solid Erasers\n\nBYO easels and clip-boards welcome! We will have a few + the usual folding tables\, but they are all first come\, first serve as storage space is limited. \n*Note: No oil paint during these sessions due to fumes. Drawing media\, acrylic paints\, and watercolor allowed. \nQuestions? Contact Life Drawing Coordinator\, Brando Gould at lifedrawing@delrayartisans.org and Technology Director\, Dina Wise at technology@delrayartisans.org. \nRegister Now
URL:https://delrayartisans.org/event/figure-drawing-bootcamp-2024/
LOCATION:Del Ray Artisans Gallery\, 2704 Mount Vernon Avenue\, Alexandria\, VA\, 22301\, United States
CATEGORIES:Creative Summer Programs,Life Drawing,Program,Workshop
ATTACH;FMTTYPE=image/jpeg:https://delrayartisans.org/wp-content/uploads/2024/01/figure-drawing-bootcamp-2024.jpg
ORGANIZER;CN="Brando Gould%2C Figure Drawing Coordinator":MAILTO:lifedrawing@delrayartisans.org
END:VEVENT
BEGIN:VEVENT
DTSTART;TZID=America/New_York:20240708T190000
DTEND;TZID=America/New_York:20240708T203000
DTSTAMP:20260425T093012
CREATED:20240611T001848Z
LAST-MODIFIED:20241006T145945Z
UID:10001418-1720465200-1720470600@delrayartisans.org
SUMMARY:CANCELED: Introduction to Tunisian Crochet: Cockatiel Cowl (Three 1.5-hour classes; Register by 7/1)
DESCRIPTION:Instructor: Dawn Zurell\, dmzurell@gmail.com\nDate/Time: (Mondays) July 8\, 15\, and 22 from 7-8:30pm (Three 1.5-hour classes)\nCost: $90 Del Ray Artisans member / $100 Non-member; bring own supplies\nClass size: 2-6 participants\n(Register by midnight on July 1) \nTunisian crochet combines crochet and knitting\, then produces a finished fabric that can look woven\, knitted\, or crocheted. Seems like magic\, right? It is certainly fun. Come learn the basics and leave with a lovely cowl. No previous knitting or crocheting experience required. \nYou will learn basic Tunisian crochet skills\, including foundation chains\, forward and return passes\, and a few stitch variations. \nMaterials you must bring to class: \n\n284 yds of any bulky/chunky yarn (142 yds each of 2 colors is recommended)\n100 yds of any worsted weight practice yarn\nUS size N (10mm) Tunisian (Afghan) crochet hook (either 12”-14” or hook with any length cable)\nUS size L (8mm) Tunisian (Afghan) crochet hook (either 12”-14” or hook with any length cable)\ntapestry needle\nscissors\n\nRegister Now \n  \n\nView other upcoming workshops\, information about the facility\, and policies on the Upcoming Workshops page.
URL:https://delrayartisans.org/event/crochet-cowl-july-2024/
LOCATION:Del Ray Artisans Gallery\, 2704 Mount Vernon Avenue\, Alexandria\, VA\, 22301\, United States
CATEGORIES:Creative Summer Programs,Program,Workshop
ATTACH;FMTTYPE=image/jpeg:https://delrayartisans.org/wp-content/uploads/2024/06/Cowl-by-Dawn-Zurell.jpg
ORGANIZER;CN="Erica Hughes%2C Programs Director":MAILTO:programs@delrayartisans.org
END:VEVENT
BEGIN:VEVENT
DTSTART;TZID=America/New_York:20240721T180000
DTEND;TZID=America/New_York:20240721T210000
DTSTAMP:20260425T093012
CREATED:20240614T203716Z
LAST-MODIFIED:20240718T213343Z
UID:10001430-1721584800-1721595600@delrayartisans.org
SUMMARY:CANCELLED: Playing with Resin Workshop (Register by 7/18)
DESCRIPTION:Instructor: Tracy Wilkerson\, recycledworks@yahoo.com\nDate/Time: Sunday\, July 21 from 6-9pm\nCost: $40 Del Ray Artisans member / $50 Non-member; plus a $10 Supply Fee\nClass size: 6-12 participants\n(Register by July 18) \nLearn the ins and outs of prepping for and mixing resin\, and how to use it as an adhesive\, a covering\, or the main medium. There’s lots of creative time during this 3-hour workshop… No need to rush\, which is one of the first lessons in using resin! All supplies are provided\, but feel free to bring personal embellishments for your piece(s). \nThis workshop does not get into using dyes with resin or building big molds to create one-of-a-kind resined tables (as seen on YouTube)\, but this workshop will provide you with a good understanding of how resin works so you can be bold enough to take the next steps in your creative interests. \nAlthough the class is listed for 3 hours\, you can leave once you have finished your creations. Some students finish very quickly while others take the whole 3 hours to create – there is plenty of time for each person to enjoy the creative process while not feeling rushed. You’ll leave your finished masterpiece(s) to set at the gallery at the end of the workshop\, and pick them up during gallery hours later in the week. \nThe workshop is designed for adults. Children ages 16-17 may participate with parental permission. Children ages 12-15 may participate only with a co-participating adult guardian (guardian must contact instructor in advance). \nRegister Now \n\nView other upcoming workshops\, information about the facility and policies on the Upcoming Workshops page.
URL:https://delrayartisans.org/event/playing-with-resin-workshop-july-2024/
LOCATION:Del Ray Artisans Gallery\, 2704 Mount Vernon Avenue\, Alexandria\, VA\, 22301\, United States
CATEGORIES:Creative Summer Programs,Program,Workshop
ATTACH;FMTTYPE=image/jpeg:https://delrayartisans.org/wp-content/uploads/1992/12/playing-with-resin-vMKzOK.tmp.jpg
ORGANIZER;CN="Tracy Wilkerson":MAILTO:recycledworks@yahoo.com
END:VEVENT
BEGIN:VEVENT
DTSTART;TZID=America/New_York:20240727T100000
DTEND;TZID=America/New_York:20240727T120000
DTSTAMP:20260425T093012
CREATED:20240521T132800Z
LAST-MODIFIED:20240805T154835Z
UID:10001416-1722074400-1722081600@delrayartisans.org
SUMMARY:RESCHEDULED: Unlock Your Creative Potential: Affirmation Card Workshop
DESCRIPTION:This workshop has been rescheduled to November 2nd. \nInstructor: Sharon J. Burton\nDate/Time: Saturday\, July 27\, 10am-12pm\nCost: $35 Del Ray Artisans member / $45 Non-member; plus a $15 Supply Fee\nClass size: 5-10 participants\n(Register by midnight on July 23) \nCollage by Sharon J. Burton\nAre you looking to reignite your creative spark? Do you want to cultivate a mindset that empowers your artistic journey? Join us for a transformative workshop\, inspired by the new book\, Creative Sparks: 21 Affirmations and Inspiration for Creativity at Midlife by instructor Sharon Burton\, where you’ll create personalized affirmation cards designed to inspire and motivate your creative spirit. You’ll learn how to craft affirmations that resonate with your artistic goals and aspirations. \nIn this workshop\, you’ll discover the power of positive affirmations in boosting your creativity and self-confidence. You’ll learn how to craft affirmations that resonate with your artistic goals and aspirations. Through hands-on activities and guided exercises\, you’ll create beautiful affirmation cards that serve as daily reminders of your creative potential. \nThe $15 supply fee includes collage materials\, however participants are welcome and encouraged to bring their own collage materials.  Signed copies of Creative Sparks: 21 Affirmations and Inspiration for Creativity at Midlife (Swiner Publishing Company\, 2024) by the instructor will be available for purchase during the workshop for $15/book. \nRegister Now \n\nView other upcoming workshops\, information about the facility\, and policies on the Upcoming Workshops page.
URL:https://delrayartisans.org/event/creative-potential-rescheduled/
LOCATION:Del Ray Artisans Gallery\, 2704 Mount Vernon Avenue\, Alexandria\, VA\, 22301\, United States
CATEGORIES:Creative Summer Programs,Program,Workshop
ATTACH;FMTTYPE=image/jpeg:https://delrayartisans.org/wp-content/uploads/2024/05/collage-by-sharon-j-burton-square.jpg
ORGANIZER;CN="Sharon J. Burton":MAILTO:sjbcreativeventures@gmail.com
END:VEVENT
END:VCALENDAR