BEGIN:VCALENDAR
VERSION:2.0
PRODID:-//Del Ray Artisans - ECPv6.15.20//NONSGML v1.0//EN
CALSCALE:GREGORIAN
METHOD:PUBLISH
X-WR-CALNAME:Del Ray Artisans
X-ORIGINAL-URL:https://delrayartisans.org
X-WR-CALDESC:Events for Del Ray Artisans
REFRESH-INTERVAL;VALUE=DURATION:PT1H
X-Robots-Tag:noindex
X-PUBLISHED-TTL:PT1H
BEGIN:VTIMEZONE
TZID:America/New_York
BEGIN:DAYLIGHT
TZOFFSETFROM:-0500
TZOFFSETTO:-0400
TZNAME:EDT
DTSTART:20230312T070000
END:DAYLIGHT
BEGIN:STANDARD
TZOFFSETFROM:-0400
TZOFFSETTO:-0500
TZNAME:EST
DTSTART:20231105T060000
END:STANDARD
BEGIN:DAYLIGHT
TZOFFSETFROM:-0500
TZOFFSETTO:-0400
TZNAME:EDT
DTSTART:20240310T070000
END:DAYLIGHT
BEGIN:STANDARD
TZOFFSETFROM:-0400
TZOFFSETTO:-0500
TZNAME:EST
DTSTART:20241103T060000
END:STANDARD
BEGIN:DAYLIGHT
TZOFFSETFROM:-0500
TZOFFSETTO:-0400
TZNAME:EDT
DTSTART:20250309T070000
END:DAYLIGHT
BEGIN:STANDARD
TZOFFSETFROM:-0400
TZOFFSETTO:-0500
TZNAME:EST
DTSTART:20251102T060000
END:STANDARD
END:VTIMEZONE
BEGIN:VEVENT
DTSTART;TZID=America/New_York:20240406T100000
DTEND;TZID=America/New_York:20240406T120000
DTSTAMP:20260425T125911
CREATED:20240311T192647Z
LAST-MODIFIED:20240410T194942Z
UID:10001372-1712397600-1712404800@delrayartisans.org
SUMMARY:Mix and Match Upcycle Earrings Workshop (Rescheduled 6/23)
DESCRIPTION:This workshop has been rescheduled to June 23rd. \nInstructor: Megan Levanduski\nDate/Time: Saturday\, April 6\, 10am-noon\nCost: $20 Del Ray Artisans member / $30 Non-member; plus a $10 Supply Fee\nClass size: 4-10 participants\n(Register by midnight on April 3) \nMake your own unique\, upcycled\, mix and match earrings! Participants will make up to two pairs of mix-matched\, custom earrings from upcycled and vintage materials. You will learn basic jewelry making techniques\, and no prior experience is necessary. \nAll supplies are provided but participants may bring their own items to incorporate\, such as beads\, a single pair of earrings that has lost its partner\, or a pair of clip-ons they would like to convert. The instructor will help you with the process to do so. \n\nArtwork credit: Earrings by Megan Levanduski \n\nView other upcoming workshops\, information about the facility\, and policies on the Upcoming Workshops page.
URL:https://delrayartisans.org/event/mix-and-match-earrings-rescheduled/
LOCATION:Del Ray Artisans Gallery\, 2704 Mount Vernon Avenue\, Alexandria\, VA\, 22301\, United States
CATEGORIES:Program,Workshop
ATTACH;FMTTYPE=image/jpeg:https://delrayartisans.org/wp-content/uploads/2024/03/Earrings-by-Megan-Levanduski.jpg
ORGANIZER;CN="Megan Levanduski":MAILTO:meganelainedesigns@gmail.com
END:VEVENT
BEGIN:VEVENT
DTSTART;TZID=America/New_York:20240411T180000
DTEND;TZID=America/New_York:20240411T210000
DTSTAMP:20260425T125911
CREATED:20240207T232632Z
LAST-MODIFIED:20240405T023707Z
UID:10001354-1712858400-1712869200@delrayartisans.org
SUMMARY:Meditative Art Mandalas Workshop (Register by 4/6)
DESCRIPTION:Instructor: Stacy Rausch\nDate/Time: Thursday\, April 11\, 6-9pm\nCost: $40 Del Ray Artisans member / $50 Non-member; plus a $20 Supply Fee\nClass size: 5-15 participants\n(Register by midnight on April 6) \nMandalas in progress by Stacy Rausch\nDrawing mandalas can be a type of therapeutic art form and can help well-being and reduce anxiety. The design is usually symmetrical\, radiating from the center of a circle\, which is what you will learn to do in this class. However\, I will also show examples of what else you can do with the basic shapes and structure of the mandala\, or “circle.” \nAfter showing you the basics of how to construct a mandala\, we will spend time going over the primary designs and shapes\, before jumping into drawing your own circular piece of art. \nEach student will receive a basic kit you will take home to continue your meditative art journey. \nNote: The art of the mandala has been around since the 4th century primarily in Tibet\, India\, Nepal\, China and Japan. Buddhists use the mandala as a spiritual and ritual symbol – often creating sand mandalas that are then destroyed in a ceremony. \nRegister Now \n\nView other upcoming workshops\, information about the facility\, and policies on the Upcoming Workshops page.
URL:https://delrayartisans.org/event/meditative-art-mandalas/
LOCATION:Del Ray Artisans Gallery\, 2704 Mount Vernon Avenue\, Alexandria\, VA\, 22301\, United States
CATEGORIES:Program,Workshop
ATTACH;FMTTYPE=image/jpeg:https://delrayartisans.org/wp-content/uploads/2024/02/mandala-square.jpg
ORGANIZER;CN="Stacy Rausch":MAILTO:srausch1978@gmail.com
END:VEVENT
BEGIN:VEVENT
DTSTART;TZID=America/New_York:20240413T100000
DTEND;TZID=America/New_York:20240413T120000
DTSTAMP:20260425T125911
CREATED:20240220T154125Z
LAST-MODIFIED:20240307T032632Z
UID:10001361-1713002400-1713009600@delrayartisans.org
SUMMARY:Gel Printing Workshop: Same But Different Edition (Register by 4/9)
DESCRIPTION:Instructor: Eileen M. O’Brien\nDate/Time: Saturday\, April 13\, 10am-noon\nCost: $50 Del Ray Artisans member / $60 Non-member; plus a $10 Supply Fee\nClass size: 4-10 participants\n(Register by midnight on April 9) \n“Venn Diagram” (gel print) by Eileen M. O’Brien\nPacking materials and cardboard boxes get a second life in this workshop that teaches you how to make wonderful prints using household items\, stamps\, and stencils! Printmaking with a gel plate is a fun and easy way to create unique prints that can be beautiful collage papers or stand on their own. Learn how to pull prints from gel plates using different papers and paints and create several pieces in just two hours. \nPlate kits will be provided for class use only\, but take-home kits are available for purchase for $20 directly to the instructor during the workshop. All other supplies are included in the supplies fee\, but participants may feel free to bring their own papers or paints to use as well. \nRegister Now \n\nView other upcoming workshops\, information about the facility\, and policies on the Upcoming Workshops page.
URL:https://delrayartisans.org/event/gel-printing-april-2024/
LOCATION:Del Ray Artisans Gallery\, 2704 Mount Vernon Avenue\, Alexandria\, VA\, 22301\, United States
CATEGORIES:Program,Workshop
ATTACH;FMTTYPE=image/jpeg:https://delrayartisans.org/wp-content/uploads/2024/02/Venn-Diagram-by-Eileen-M-OBrien-square.jpg
ORGANIZER;CN="Eileen M. O'Brien":MAILTO:artbyeileenm@gmail.com
END:VEVENT
BEGIN:VEVENT
DTSTART;TZID=America/New_York:20240421T093000
DTEND;TZID=America/New_York:20240421T120000
DTSTAMP:20260425T125911
CREATED:20240313T204617Z
LAST-MODIFIED:20240420T205216Z
UID:10001373-1713691800-1713700800@delrayartisans.org
SUMMARY:Creative Flower Photography Workshop (Registration Closed)
DESCRIPTION:Instructor: Victoria Barnes\, victoriabarnesphotography@gmail.com\nDate/Time: Sunday\, April 21\, 9:30am–noon\nCost: $45 Del Ray Artisans member / $55 Non-member; plus bring your camera\nClass size: 4-15 participants\n(Register by midnight on April 18. No walk-ins.) \nLearn how to improve your flower photography with simple and inexpensive tips and tricks\, using everyday items. This class will teach you how to create beautiful photographs worthy of hanging in the home\, whether the flowers are in a garden\, or if you use a bouquet of store-bought flowers. The class will also focus on some creative ideas to take your flower photography to the next level. This workshop is great for any level of photography experience\, including beginners. \nStudents must bring their own camera. Digital cameras are best\, but phone cameras may be used if necessary. Tripods are not required\, but may be useful. \nRegister Now \n\n\nArtwork credit: Photographs by Victoria Barnes \n\nView other upcoming workshops\, information about the facility\, and policies on the Upcoming Workshops page.
URL:https://delrayartisans.org/event/creative-flower-photography-workshop-2024/
LOCATION:Del Ray Artisans Gallery\, 2704 Mount Vernon Avenue\, Alexandria\, VA\, 22301\, United States
CATEGORIES:Program,Workshop
ATTACH;FMTTYPE=image/jpeg:https://delrayartisans.org/wp-content/uploads/2024/01/barnes2-smaller-square.jpg
ORGANIZER;CN="Erica Hughes%2C Programs Director":MAILTO:programs@delrayartisans.org
END:VEVENT
BEGIN:VEVENT
DTSTART;TZID=America/New_York:20240422T180000
DTEND;TZID=America/New_York:20240422T210000
DTSTAMP:20260425T125911
CREATED:20240207T222655Z
LAST-MODIFIED:20240420T205300Z
UID:10001353-1713808800-1713819600@delrayartisans.org
SUMMARY:Playing with Resin Workshop (Register ASAP)
DESCRIPTION:Instructor: Tracy Wilkerson\, recycledworks@yahoo.com\nDate/Time: Monday\, April 22 from 6-9pm\nCost: $40 Del Ray Artisans member / $50 Non-member; plus a $10 Supply Fee\nClass size: 6-12 participants\n(Register in advance) \nLearn the ins and outs of prepping for and mixing resin\, and how to use it as an adhesive\, a covering\, or the main medium. There’s lots of creative time during this 3-hour workshop… No need to rush\, which is one of the first lessons in using resin! All supplies are provided\, but feel free to bring personal embellishments for your piece(s). \nThis workshop does not get into using dyes with resin or building big molds to create one-of-a-kind resined tables (as seen on YouTube)\, but this workshop will provide you with a good understanding of how resin works so you can be bold enough to take the next steps in your creative interests. \nAlthough the class is listed for 3 hours\, you can leave once you have finished your creations. Some students finish very quickly while others take the whole 3 hours to create – there is plenty of time for each person to enjoy the creative process while not feeling rushed. You’ll leave your finished masterpiece(s) to set at the gallery at the end of the workshop\, and pick them up during gallery hours later in the week. \nThe workshop is designed for adults. Children ages 16-17 may participate with parental permission. Children ages 12-15 may participate only with a co-participating adult guardian (guardian must contact instructor in advance). \nRegister Now \n\nView other upcoming workshops\, information about the facility and policies on the Upcoming Workshops page.
URL:https://delrayartisans.org/event/resin-april-2024/
LOCATION:Del Ray Artisans Gallery\, 2704 Mount Vernon Avenue\, Alexandria\, VA\, 22301\, United States
CATEGORIES:Program,Workshop
ATTACH;FMTTYPE=image/jpeg:https://delrayartisans.org/wp-content/uploads/1992/12/playing-with-resin-vMKzOK.tmp.jpg
ORGANIZER;CN="Tracy Wilkerson":MAILTO:recycledworks@yahoo.com
END:VEVENT
END:VCALENDAR