BEGIN:VCALENDAR
VERSION:2.0
PRODID:-//Del Ray Artisans - ECPv6.15.20//NONSGML v1.0//EN
CALSCALE:GREGORIAN
METHOD:PUBLISH
X-WR-CALNAME:Del Ray Artisans
X-ORIGINAL-URL:https://delrayartisans.org
X-WR-CALDESC:Events for Del Ray Artisans
REFRESH-INTERVAL;VALUE=DURATION:PT1H
X-Robots-Tag:noindex
X-PUBLISHED-TTL:PT1H
BEGIN:VTIMEZONE
TZID:America/New_York
BEGIN:DAYLIGHT
TZOFFSETFROM:-0500
TZOFFSETTO:-0400
TZNAME:EDT
DTSTART:20230312T070000
END:DAYLIGHT
BEGIN:STANDARD
TZOFFSETFROM:-0400
TZOFFSETTO:-0500
TZNAME:EST
DTSTART:20231105T060000
END:STANDARD
BEGIN:DAYLIGHT
TZOFFSETFROM:-0500
TZOFFSETTO:-0400
TZNAME:EDT
DTSTART:20240310T070000
END:DAYLIGHT
BEGIN:STANDARD
TZOFFSETFROM:-0400
TZOFFSETTO:-0500
TZNAME:EST
DTSTART:20241103T060000
END:STANDARD
BEGIN:DAYLIGHT
TZOFFSETFROM:-0500
TZOFFSETTO:-0400
TZNAME:EDT
DTSTART:20250309T070000
END:DAYLIGHT
BEGIN:STANDARD
TZOFFSETFROM:-0400
TZOFFSETTO:-0500
TZNAME:EST
DTSTART:20251102T060000
END:STANDARD
END:VTIMEZONE
BEGIN:VEVENT
DTSTART;TZID=America/New_York:20240309T093000
DTEND;TZID=America/New_York:20240309T120000
DTSTAMP:20260425T142317
CREATED:20240127T214953Z
LAST-MODIFIED:20240312T173425Z
UID:10001349-1709976600-1709985600@delrayartisans.org
SUMMARY:Creative Flower Photography Workshop (Rescheduled)
DESCRIPTION:This workshop is being rescheduled. Stay tuned for the new date. \nInstructor: Victoria Barnes\, victoriabarnesphotography@gmail.com\nDate/Time: Saturday\, March 9\, 9:30am–noon\nCost: $45 Del Ray Artisans member / $55 Non-member; plus bring your camera\nClass size: 4-15 participants\n(Register by midnight on March 6) \nLearn how to improve your flower photography with simple and inexpensive tips and tricks\, using everyday items. This class will teach you how to create beautiful photographs worthy of hanging in the home\, whether the flowers are in a garden or if you use a bouquet of store-bought flowers. The class will also focus on some creative ideas to take your flower photography to the next level. This workshop is great for any level of photography experience\, including beginners. \nStudents must bring their own camera. Digital cameras are best\, but phone cameras may be used if necessary. Tripods are not required\, but may be useful. \nRegister Now \n\n\nArtwork credit: Photographs by Victoria Barnes \n\nView other upcoming workshops\, information about the facility\, and policies on the Upcoming Workshops page.
URL:https://delrayartisans.org/event/flower-photography-2/
LOCATION:Del Ray Artisans Gallery\, 2704 Mount Vernon Avenue\, Alexandria\, VA\, 22301\, United States
CATEGORIES:Program,Workshop
ATTACH;FMTTYPE=image/jpeg:https://delrayartisans.org/wp-content/uploads/2024/01/barnes2-smaller-square.jpg
ORGANIZER;CN="Erica Hughes%2C Programs Director":MAILTO:programs@delrayartisans.org
END:VEVENT
BEGIN:VEVENT
DTSTART;TZID=America/New_York:20240311T180000
DTEND;TZID=America/New_York:20240311T210000
DTSTAMP:20260425T142317
CREATED:20240111T200743Z
LAST-MODIFIED:20240311T173652Z
UID:10001338-1710180000-1710190800@delrayartisans.org
SUMMARY:Introduction to Rubber Stamp Carving Workshop (Registration Ended)
DESCRIPTION:Instructor: Erica Hughes\nDate/Time: Monday\, March 11\, 6-9pm\nCost: $35 Del Ray Artisans member / $45 Non-member; plus a $25 Supply Fee\nClass size: 4-12 participants\n(Register by midnight on March 2) \nLearn how to use carving tools to create hand-carved stamps out of rubber! Practice techniques for chopping and slicing your own reusable custom stamps. Students will take home carving tools\, rubber blocks\, and a brayer. Dexterous children 6-13 allowed with an adult. \nRegister Now \n  \n\nView other upcoming workshops\, information about the facility\, and policies on the Upcoming Workshops page.
URL:https://delrayartisans.org/event/rubber-stamp-carving/
LOCATION:Del Ray Artisans Gallery\, 2704 Mount Vernon Avenue\, Alexandria\, VA\, 22301\, United States
CATEGORIES:Program,Workshop
ATTACH;FMTTYPE=image/jpeg:https://delrayartisans.org/wp-content/uploads/2024/01/stamps-by-erica-hughes.jpg
ORGANIZER;CN="Erica Hughes%2C Programs Director":MAILTO:programs@delrayartisans.org
END:VEVENT
BEGIN:VEVENT
DTSTART;TZID=America/New_York:20240317T180000
DTEND;TZID=America/New_York:20240317T210000
DTSTAMP:20260425T142317
CREATED:20240205T221017Z
LAST-MODIFIED:20240315T141742Z
UID:10001352-1710698400-1710709200@delrayartisans.org
SUMMARY:Playing with Resin Workshop (SOLD OUT)
DESCRIPTION:Instructor: Tracy Wilkerson\, recycledworks@yahoo.com\nDate/Time: Sunday\, March 17 from 6-9pm\nCost: $40 Del Ray Artisans member / $50 Non-member; plus a $10 Supply Fee\nClass size: 6-12 participants\n(Register in advance) \nLearn the ins and outs of prepping for and mixing resin\, and how to use it as an adhesive\, a covering\, or the main medium. There’s lots of creative time during this 3-hour workshop… No need to rush\, which is one of the first lessons in using resin! All supplies are provided\, but feel free to bring personal embellishments for your piece(s). \nThis workshop does not get into using dyes with resin or building big molds to create one-of-a-kind resined tables (as seen on YouTube)\, but this workshop will provide you with a good understanding of how resin works so you can be bold enough to take the next steps in your creative interests. \nAlthough the class is listed for 3 hours\, you can leave once you have finished your creations. Some students finish very quickly while others take the whole 3 hours to create – there is plenty of time for each person to enjoy the creative process while not feeling rushed. You’ll leave your finished masterpiece(s) to set at the gallery at the end of the workshop\, and pick them up during gallery hours later in the week. \nThe workshop is designed for adults. Children ages 16-17 may participate with parental permission. Children ages 12-15 may participate only with a co-participating adult guardian (guardian must contact instructor in advance). \nRegister Now \n\nView other upcoming workshops\, information about the facility and policies on the Upcoming Workshops page.
URL:https://delrayartisans.org/event/resin-march-2024/
LOCATION:Del Ray Artisans Gallery\, 2704 Mount Vernon Avenue\, Alexandria\, VA\, 22301\, United States
CATEGORIES:Program,Workshop
ATTACH;FMTTYPE=image/jpeg:https://delrayartisans.org/wp-content/uploads/1992/12/playing-with-resin-vMKzOK.tmp.jpg
ORGANIZER;CN="Tracy Wilkerson":MAILTO:recycledworks@yahoo.com
END:VEVENT
BEGIN:VEVENT
DTSTART;TZID=America/New_York:20240323T100000
DTEND;TZID=America/New_York:20240323T120000
DTSTAMP:20260425T142317
CREATED:20240205T185831Z
LAST-MODIFIED:20240319T195817Z
UID:10001351-1711188000-1711195200@delrayartisans.org
SUMMARY:Collage City Spires and Skylines Workshop (Register by 3/21)
DESCRIPTION:Instructor: Camille Kouyoumdjian\nDate/Time: Saturday\, March 23\, 10am–noon\nCost: $35 Del Ray Artisans member / $45 Non-member; plus a $15 Supply Fee\nClass size: 5-20 participants\n(Register by midnight on March 21) \nCollage by Camille Kouyoumdjian\nExplore the dynamic world of urban landscapes through the creative lens of collage. Learn about the importance of values\, color theory\, and layering and how to use layers to create a composition that is cohesive and conveys depth and meaning. Whether abstract or representational\, each student will come away with a new understanding of how to construct a work of art that conveys the essence of their own personal connection to a particular city. \nThe supply fee includes all materials. A variety of mixed media tools\, paints and implements will be provided\, as well as archival polymer\, scissors\, tissue paper\, design paper\, art panels\, reference photos\, and more will be provided to compose a striking skyline. \nRegister Now \n\nView other upcoming workshops\, information about the facility\, and policies on the Upcoming Workshops page.
URL:https://delrayartisans.org/event/collage-city/
LOCATION:Del Ray Artisans Gallery\, 2704 Mount Vernon Avenue\, Alexandria\, VA\, 22301\, United States
CATEGORIES:Program,Workshop
ATTACH;FMTTYPE=image/jpeg:https://delrayartisans.org/wp-content/uploads/2024/02/Collage-by-Camille-Kouyoumdjian-square.jpg
ORGANIZER;CN="Camille Kouyoumdjian":MAILTO:ckouyoumdjianart@gmail.com
END:VEVENT
END:VCALENDAR