BEGIN:VCALENDAR
VERSION:2.0
PRODID:-//Del Ray Artisans - ECPv6.15.20//NONSGML v1.0//EN
CALSCALE:GREGORIAN
METHOD:PUBLISH
X-ORIGINAL-URL:https://delrayartisans.org
X-WR-CALDESC:Events for Del Ray Artisans
REFRESH-INTERVAL;VALUE=DURATION:PT1H
X-Robots-Tag:noindex
X-PUBLISHED-TTL:PT1H
BEGIN:VTIMEZONE
TZID:America/New_York
BEGIN:DAYLIGHT
TZOFFSETFROM:-0500
TZOFFSETTO:-0400
TZNAME:EDT
DTSTART:20230312T070000
END:DAYLIGHT
BEGIN:STANDARD
TZOFFSETFROM:-0400
TZOFFSETTO:-0500
TZNAME:EST
DTSTART:20231105T060000
END:STANDARD
BEGIN:DAYLIGHT
TZOFFSETFROM:-0500
TZOFFSETTO:-0400
TZNAME:EDT
DTSTART:20240310T070000
END:DAYLIGHT
BEGIN:STANDARD
TZOFFSETFROM:-0400
TZOFFSETTO:-0500
TZNAME:EST
DTSTART:20241103T060000
END:STANDARD
BEGIN:DAYLIGHT
TZOFFSETFROM:-0500
TZOFFSETTO:-0400
TZNAME:EDT
DTSTART:20250309T070000
END:DAYLIGHT
BEGIN:STANDARD
TZOFFSETFROM:-0400
TZOFFSETTO:-0500
TZNAME:EST
DTSTART:20251102T060000
END:STANDARD
END:VTIMEZONE
BEGIN:VEVENT
DTSTART;TZID=America/New_York:20240208T180000
DTEND;TZID=America/New_York:20240208T200000
DTSTAMP:20260425T172356
CREATED:20231219T204337Z
LAST-MODIFIED:20240202T193733Z
UID:10001328-1707415200-1707422400@delrayartisans.org
SUMMARY:New Year\, New Flow: A Creative Reset Workshop (SOLD OUT)
DESCRIPTION:Instructor: Sharon J. Burton\nDate/Time: Thursday\, February 8\, 6-8pm\nClass size: 5-12 participants\nCost: $45 Del Ray Artisans member / $55 Non-member; plus bring your own notebook or journal\n(Register by midnight on February 4) \nAre you ready to embark on a transformative journey into the heart of your creativity? Whether you are an artist\, writer\, musician\, or work in another creative field\, join us for a two-hour workshop designed to inspire\, energize\, and guide you toward a year of meaningful creative accomplishments. Workshop highlights: \n\nMindful Meditation – Immerse yourself in a guided meditation session to clear your mind\, reduce stress\, and open up your creative channels. Start the year with a refreshed and focused mindset.\nExpressive Writing and Intuitive Collage Exercises – Explore your innermost aspirations and gain clarity on your creative goals through expressive writing prompts. Create an illustrated vision for your creative dreams through collage. Uncover hidden passions and values that will shape your creative journey.\nGoal-Setting Strategies – Learn effective goal-setting techniques to turn your dreams into actionable plans. Set SMART goals that will guide your creative pursuits throughout the year.\nCommunity Connection – Share your insights and goals with a community of like-minded individuals. Receive constructive feedback and support to amplify your commitment to creative success.\nAction Planning Session – Break down your larger goals into manageable tasks and create a personalized roadmap for success. Leave with a clear plan to turn your creative aspirations into reality.\nEmpowerment and Commitment – Experience a sense of empowerment as you commit to carrying positive energy forward into the new year. Leave the workshop with renewed confidence in your creative journey.\n\nDon’t miss this opportunity to reset\, refocus\, and reignite your creative spark. Join us and step into the new year with purpose\, inspiration\, and a community of fellow creatives cheering you on. \nBring a dedicated notebook or journal and something to write with to the workshop. \nRegister Now \n\nArtwork credit: “Journey II” by Sharon J. Burton \n\nView other upcoming workshops\, information about the facility\, and policies on the Upcoming Workshops page.
URL:https://delrayartisans.org/event/creative-reset/
LOCATION:Del Ray Artisans Gallery\, 2704 Mount Vernon Avenue\, Alexandria\, VA\, 22301\, United States
CATEGORIES:Program,Workshop
ATTACH;FMTTYPE=image/jpeg:https://delrayartisans.org/wp-content/uploads/2023/12/Journey_II_by_SJBurton-square.jpg
ORGANIZER;CN="Sharon J. Burton":MAILTO:sjbcreativeventures@gmail.com
END:VEVENT
BEGIN:VEVENT
DTSTART;TZID=America/New_York:20240212T180000
DTEND;TZID=America/New_York:20240212T210000
DTSTAMP:20260425T172356
CREATED:20231222T192223Z
LAST-MODIFIED:20240131T140330Z
UID:10001329-1707760800-1707771600@delrayartisans.org
SUMMARY:Playing with Resin Workshop (SOLD OUT)
DESCRIPTION:Instructor: Tracy Wilkerson\, recycledworks@yahoo.com\nDate/Time: Monday\, February 12 from 6-9pm\nCost: $40 Del Ray Artisans member / $50 Non-member; plus a $10 Supply Fee\nClass size: 6-12 participants\n(Register in advance; This workshop is sold out. No walk-ins.) \nLearn the ins and outs of prepping for and mixing resin\, and how to use it as an adhesive\, a covering\, or the main medium. There’s lots of creative time during this 3-hour workshop… No need to rush\, which is one of the first lessons in using resin! All supplies are provided\, but feel free to bring personal embellishments for your piece(s). \nThis workshop does not get into using dyes with resin or building big molds to create one-of-a-kind resined tables (as seen on YouTube)\, but this workshop will provide you with a good understanding of how resin works so you can be bold enough to take the next steps in your creative interests. \nAlthough the class is listed for 3 hours\, you can leave once you have finished your creations. Some students finish very quickly while others take the whole 3 hours to create – there is plenty of time for each person to enjoy the creative process while not feeling rushed. You’ll leave your finished masterpiece(s) to set at the gallery at the end of the workshop\, and pick them up during gallery hours later in the week. \nThe workshop is designed for adults. Children ages 16-17 may participate with parental permission. Children ages 12-15 may participate only with a co-participating adult guardian (guardian must contact instructor in advance). \nThis workshop is being held in conjunction with the Visible Touch: A Look at Texture art exhibit. \nRegister Now \n\nView other upcoming workshops\, information about the facility and policies on the Upcoming Workshops page.
URL:https://delrayartisans.org/event/resin-feb-2024/
LOCATION:Del Ray Artisans Gallery\, 2704 Mount Vernon Avenue\, Alexandria\, VA\, 22301\, United States
CATEGORIES:Program,Workshop
ATTACH;FMTTYPE=image/jpeg:https://delrayartisans.org/wp-content/uploads/1992/12/playing-with-resin-vMKzOK.tmp.jpg
ORGANIZER;CN="Tracy Wilkerson":MAILTO:recycledworks@yahoo.com
END:VEVENT
BEGIN:VEVENT
DTSTART;TZID=America/New_York:20240217T180000
DTEND;TZID=America/New_York:20240217T193000
DTSTAMP:20260425T172356
CREATED:20231112T235145Z
LAST-MODIFIED:20240207T162631Z
UID:10001265-1708192800-1708198200@delrayartisans.org
SUMMARY:Flowers Everywhere Workshop (Register by 2/15)
DESCRIPTION:Instructor: BWS Johnson\nDate/Time: Saturday\, February 17\, 6-7:30pm\nClass size: 3-13 participants\nCost: $35 Del Ray Artisans member / $45 Non-member; plus $25 supply fee\n(Register by noon on February 15) \nHave you always wanted to try your hand at floristry? Learn how to level up grocery store arrangements. Explore the difference in quality between wholesale and retail blooms. Create a masterpiece to take home at the end of the workshop. \nThe supply fee includes use of tools during the workshop\, a selection of seasonal organic floral matter\, and a vessel. \nThis workshop is being held in conjunction with the Visible Touch: A Look at Texture art exhibit. \nRegister Now \n\nView other upcoming workshops\, information about the facility\, and policies on the Upcoming Workshops page.
URL:https://delrayartisans.org/event/flowers-everywhere/
LOCATION:Del Ray Artisans Gallery\, 2704 Mount Vernon Avenue\, Alexandria\, VA\, 22301\, United States
CATEGORIES:Program,Workshop
ATTACH;FMTTYPE=image/jpeg:https://delrayartisans.org/wp-content/uploads/2021/11/Orange-Ranunculus-by-BWS-Johnson.jpg
ORGANIZER;CN="BWS Johnson":MAILTO:brooke@bloomsofparadise.com
END:VEVENT
BEGIN:VEVENT
DTSTART;TZID=America/New_York:20240224T170000
DTEND;TZID=America/New_York:20240224T200000
DTSTAMP:20260425T172356
CREATED:20240111T192222Z
LAST-MODIFIED:20240215T212731Z
UID:10001337-1708794000-1708804800@delrayartisans.org
SUMMARY:Ceramic Turtle Workshop (Register by 2/23)
DESCRIPTION:Instructor: Diana Manchak\nDate/Time: Saturday\, February 24\, 5-8pm\nCost: $40 Del Ray Artisans member / $50 Non-member; plus a $10 Supply Fee\nClass size: 8-12 participants\n(Register by noon on February 23) \nDesign and create a one-of-a-kind keepsake turtle. Students will use stoneware clay to hand-build a turtle by forming shapes from soft clay in different patterns and learn how to make limbs and head to complete their turtle. We will use a variety of basic clay techniques that are the foundation for all clay work. \nStudents will select a glaze color or two and the instructor will dry and fire each turtle and return the finished pieces for pick up at the gallery. \nAdults and participants ages 13+ are welcome. Please wear clothes appropriate for art projects or bring a smock. \nThis workshop is being held in conjunction with the Visible Touch: A Look at Texture art exhibit. \nRegister Now \n \n\nView other upcoming workshops\, information about the facility\, and policies on the Upcoming Workshops page.
URL:https://delrayartisans.org/event/ceramic-turtle-feb-2024/
LOCATION:Del Ray Artisans Gallery\, 2704 Mount Vernon Avenue\, Alexandria\, VA\, 22301\, United States
CATEGORIES:Program,Workshop
ATTACH;FMTTYPE=image/jpeg:https://delrayartisans.org/wp-content/uploads/2023/04/turtle-12-and-up.jpg
ORGANIZER;CN="Diana Manchak":MAILTO:silicagal@hotmail.com
END:VEVENT
END:VCALENDAR