BEGIN:VCALENDAR
VERSION:2.0
PRODID:-//Del Ray Artisans - ECPv6.15.20//NONSGML v1.0//EN
CALSCALE:GREGORIAN
METHOD:PUBLISH
X-ORIGINAL-URL:https://delrayartisans.org
X-WR-CALDESC:Events for Del Ray Artisans
REFRESH-INTERVAL;VALUE=DURATION:PT1H
X-Robots-Tag:noindex
X-PUBLISHED-TTL:PT1H
BEGIN:VTIMEZONE
TZID:America/New_York
BEGIN:DAYLIGHT
TZOFFSETFROM:-0500
TZOFFSETTO:-0400
TZNAME:EDT
DTSTART:20180311T070000
END:DAYLIGHT
BEGIN:STANDARD
TZOFFSETFROM:-0400
TZOFFSETTO:-0500
TZNAME:EST
DTSTART:20181104T060000
END:STANDARD
BEGIN:DAYLIGHT
TZOFFSETFROM:-0500
TZOFFSETTO:-0400
TZNAME:EDT
DTSTART:20190310T070000
END:DAYLIGHT
BEGIN:STANDARD
TZOFFSETFROM:-0400
TZOFFSETTO:-0500
TZNAME:EST
DTSTART:20191103T060000
END:STANDARD
BEGIN:DAYLIGHT
TZOFFSETFROM:-0500
TZOFFSETTO:-0400
TZNAME:EDT
DTSTART:20200308T070000
END:DAYLIGHT
BEGIN:STANDARD
TZOFFSETFROM:-0400
TZOFFSETTO:-0500
TZNAME:EST
DTSTART:20201101T060000
END:STANDARD
END:VTIMEZONE
BEGIN:VEVENT
DTSTART;TZID=America/New_York:20190113T140000
DTEND;TZID=America/New_York:20190113T160000
DTSTAMP:20260423T103251
CREATED:20230409T161141Z
LAST-MODIFIED:20230409T161520Z
UID:10000775-1547388000-1547395200@delrayartisans.org
SUMMARY:CANCELED Urban Sketchbooking (Jan 2019)
DESCRIPTION:Meets second Sundays from November-June \nUrban Sketchbooking emphasizes storytelling that conveys a sense of place or a moment in time through drawings completed from direct observations. This Del Ray meeting operates on a drop-in basis during afternoons of the second Sunday of each month\, so there is no need to register in advance. Bring your supplies and join us at the cafe to produce still life\, figure\, or architecture subjects in your sketchbook. Participants will spend some time putting their skills into practice and then reconvene for a review of finished works. The fee for each 2-hour session is $8 for members and $10 for non-members. \nThe January 13th meetup will be at Nectar Del Ray (106 Hume Avenue\, Alexandria\, VA 22301).
URL:https://delrayartisans.org/event/sketchbooking-jan-2019/
LOCATION:VA
CATEGORIES:Program,Urban Sketchers
ATTACH;FMTTYPE=image/jpeg:https://delrayartisans.org/wp-content/uploads/1992/12/event-archive-image.jpg
END:VEVENT
END:VCALENDAR