BEGIN:VCALENDAR
VERSION:2.0
PRODID:-//Del Ray Artisans - ECPv6.15.20//NONSGML v1.0//EN
CALSCALE:GREGORIAN
METHOD:PUBLISH
X-ORIGINAL-URL:https://delrayartisans.org
X-WR-CALDESC:Events for Del Ray Artisans
REFRESH-INTERVAL;VALUE=DURATION:PT1H
X-Robots-Tag:noindex
X-PUBLISHED-TTL:PT1H
BEGIN:VTIMEZONE
TZID:America/New_York
BEGIN:DAYLIGHT
TZOFFSETFROM:-0500
TZOFFSETTO:-0400
TZNAME:EDT
DTSTART:20220313T070000
END:DAYLIGHT
BEGIN:STANDARD
TZOFFSETFROM:-0400
TZOFFSETTO:-0500
TZNAME:EST
DTSTART:20221106T060000
END:STANDARD
BEGIN:DAYLIGHT
TZOFFSETFROM:-0500
TZOFFSETTO:-0400
TZNAME:EDT
DTSTART:20230312T070000
END:DAYLIGHT
BEGIN:STANDARD
TZOFFSETFROM:-0400
TZOFFSETTO:-0500
TZNAME:EST
DTSTART:20231105T060000
END:STANDARD
BEGIN:DAYLIGHT
TZOFFSETFROM:-0500
TZOFFSETTO:-0400
TZNAME:EDT
DTSTART:20240310T070000
END:DAYLIGHT
BEGIN:STANDARD
TZOFFSETFROM:-0400
TZOFFSETTO:-0500
TZNAME:EST
DTSTART:20241103T060000
END:STANDARD
END:VTIMEZONE
BEGIN:VEVENT
DTSTART;TZID=America/New_York:20231112T130000
DTEND;TZID=America/New_York:20231112T150000
DTSTAMP:20260425T121958
CREATED:20230325T165341Z
LAST-MODIFIED:20230409T155047Z
UID:10000171-1699794000-1699801200@delrayartisans.org
SUMMARY:Del Ray Urban Sketchers
DESCRIPTION:Del Ray Urban Sketchers operates on a drop-in basis and meets the second Sunday of each month* at St. Elmo’s Coffee Pub in Del Ray. Mark your calendar or set a reminder in Eventbrite. \nUrban sketchbooking emphasizes storytelling that conveys a sense of place or a moment in time through drawings completed from direct observations. \nBring your supplies and join us outside at the cafe to produce still life\, figure\, or architecture subjects in your sketchbook. Participants will spend some time putting their skills into practice and then reconvene for a review of finished works. \nThis program is FREE! Donations appreciated. Meet outside at St. Elmo’s Coffee Pub (2300 Mount Vernon Avenue\, Alexandria\, VA 22301). Contact the organizer\, Joan Bickelhaupt (joanbickelhaupt@gmail.com)\, with any questions. \nView Upcoming Dates \n*NOTE: Del Ray Urban Sketchers does not meet in July\, August\, and December. \n\nArtwork credit: Detail of “Working Out (St. Elmo’s)” by Cathy Messina
URL:https://delrayartisans.org/event/urban-sketchers-2023/2023-11-12/
LOCATION:St. Elmo’s Coffee Pub\, 2300 Mount Vernon Avenue\, Alexandria\, VA\, 22301\, United States
CATEGORIES:Program,Urban Sketchers
ATTACH;FMTTYPE=image/jpeg:https://delrayartisans.org/wp-content/uploads/2020/07/Working-Out-St-Elmos-by-Cathy-Messina.jpg
ORGANIZER;CN="Joan Bickelhaupt":MAILTO:joanbickelhaupt@gmail.com
END:VEVENT
END:VCALENDAR