BEGIN:VCALENDAR
VERSION:2.0
PRODID:-//Del Ray Artisans - ECPv6.15.20//NONSGML v1.0//EN
CALSCALE:GREGORIAN
METHOD:PUBLISH
X-WR-CALNAME:Del Ray Artisans
X-ORIGINAL-URL:https://delrayartisans.org
X-WR-CALDESC:Events for Del Ray Artisans
REFRESH-INTERVAL;VALUE=DURATION:PT1H
X-Robots-Tag:noindex
X-PUBLISHED-TTL:PT1H
BEGIN:VTIMEZONE
TZID:America/New_York
BEGIN:DAYLIGHT
TZOFFSETFROM:-0500
TZOFFSETTO:-0400
TZNAME:EDT
DTSTART:20180311T070000
END:DAYLIGHT
BEGIN:STANDARD
TZOFFSETFROM:-0400
TZOFFSETTO:-0500
TZNAME:EST
DTSTART:20181104T060000
END:STANDARD
BEGIN:DAYLIGHT
TZOFFSETFROM:-0500
TZOFFSETTO:-0400
TZNAME:EDT
DTSTART:20190310T070000
END:DAYLIGHT
BEGIN:STANDARD
TZOFFSETFROM:-0400
TZOFFSETTO:-0500
TZNAME:EST
DTSTART:20191103T060000
END:STANDARD
BEGIN:DAYLIGHT
TZOFFSETFROM:-0500
TZOFFSETTO:-0400
TZNAME:EDT
DTSTART:20200308T070000
END:DAYLIGHT
BEGIN:STANDARD
TZOFFSETFROM:-0400
TZOFFSETTO:-0500
TZNAME:EST
DTSTART:20201101T060000
END:STANDARD
END:VTIMEZONE
BEGIN:VEVENT
DTSTART;TZID=America/New_York:20190521T190000
DTEND;TZID=America/New_York:20190521T210000
DTSTAMP:20260423T221025
CREATED:20230410T143602Z
LAST-MODIFIED:20230410T143602Z
UID:10000863-1558465200-1558472400@delrayartisans.org
SUMMARY:Partners in Art Evening (May 2019)
DESCRIPTION:All local artists\, from beginners to professionals\, are invited. We discuss the local art scene\, exhibit opportunities\, share artistic goals\, techniques\, media\, and creative processes. Enjoy the collegiality and support of your fellow artists! Participants may also bring in 1-3 artworks\, in any medium\, in any stage\, to discuss goals\, process\, and ask for advice. We use the positive and successful format developed in our afternoon sessions for our feedback procedure. Donations ($1–3) greatly appreciated. \nContact Michele Reday Cook (mredaycook@gmail.com) with questions. \nView Upcoming Meetings
URL:https://delrayartisans.org/event/partners-in-art-evening-may-2019/
LOCATION:Del Ray Artisans Gallery\, 2704 Mount Vernon Avenue\, Alexandria\, VA\, 22301\, United States
CATEGORIES:Partners in Art,Program
ATTACH;FMTTYPE=image/jpeg:https://delrayartisans.org/wp-content/uploads/1992/12/event-archive-image.jpg
END:VEVENT
BEGIN:VEVENT
DTSTART;TZID=America/New_York:20190506T140000
DTEND;TZID=America/New_York:20190506T160000
DTSTAMP:20260423T221025
CREATED:20230410T143533Z
LAST-MODIFIED:20230410T143533Z
UID:10000853-1557151200-1557158400@delrayartisans.org
SUMMARY:Partners in Art (May 2019)
DESCRIPTION:Need support reaching your art related goals? Join this collegial group of artists to share your goals and get feedback on artwork. Monthly meetings include discussions on exhibit opportunities\, the creative process and the local art scene. Artist can bring 1-3 works – complete or in progress – for feedback. All skill levels and media welcome. Donations ($1-3) greatly appreciated. Meetings held at the Del Ray Artisans gallery. Members and non-members invited. \nContact Katherine Rand (katherine@katherinerand.com) or Suzanne Tillman (zannet@verizon.net) with questions. \nView Upcoming Meetings
URL:https://delrayartisans.org/event/partners-in-art-may-2019/
LOCATION:Del Ray Artisans Gallery\, 2704 Mount Vernon Avenue\, Alexandria\, VA\, 22301\, United States
CATEGORIES:Partners in Art,Program
ATTACH;FMTTYPE=image/jpeg:https://delrayartisans.org/wp-content/uploads/1992/12/event-archive-image.jpg
END:VEVENT
BEGIN:VEVENT
DTSTART;TZID=America/New_York:20190423T190000
DTEND;TZID=America/New_York:20190423T210000
DTSTAMP:20260423T221025
CREATED:20230410T143451Z
LAST-MODIFIED:20230410T143451Z
UID:10000844-1556046000-1556053200@delrayartisans.org
SUMMARY:Partners in Art Evening (April 2019)
DESCRIPTION:All local artists\, from beginners to professionals\, are invited. We discuss the local art scene\, exhibit opportunities\, share artistic goals\, techniques\, media\, and creative processes. Enjoy the collegiality and support of your fellow artists! Participants may also bring in 1-3 artworks\, in any medium\, in any stage\, to discuss goals\, process\, and ask for advice. We use the positive and successful format developed in our afternoon sessions for our feedback procedure. Donations ($1–3) greatly appreciated. \nContact Michele Reday Cook (mredaycook@gmail.com) with questions. \nView Upcoming Meetings
URL:https://delrayartisans.org/event/partners-in-art-evening-april-2019/
LOCATION:Del Ray Artisans Gallery\, 2704 Mount Vernon Avenue\, Alexandria\, VA\, 22301\, United States
CATEGORIES:Partners in Art,Program
ATTACH;FMTTYPE=image/jpeg:https://delrayartisans.org/wp-content/uploads/1992/12/event-archive-image.jpg
END:VEVENT
BEGIN:VEVENT
DTSTART;TZID=America/New_York:20190408T140000
DTEND;TZID=America/New_York:20190408T160000
DTSTAMP:20260423T221025
CREATED:20230410T143203Z
LAST-MODIFIED:20230410T143203Z
UID:10000835-1554732000-1554739200@delrayartisans.org
SUMMARY:Partners in Art (April 2019)
DESCRIPTION:Need support reaching your art related goals? Join this collegial group of artists to share your goals and get feedback on artwork. Monthly meetings include discussions on exhibit opportunities\, the creative process and the local art scene. Artist can bring 1-3 works – complete or in progress – for feedback. All skill levels and media welcome. Donations ($1-3) greatly appreciated. Meetings held at the Del Ray Artisans gallery. Members and non-members invited. \nContact Katherine Rand (katherine@katherinerand.com) or Suzanne Tillman (zannet@verizon.net) with questions. \nView Upcoming Meetings
URL:https://delrayartisans.org/event/partners-in-art-april-2019/
LOCATION:Del Ray Artisans Gallery\, 2704 Mount Vernon Avenue\, Alexandria\, VA\, 22301\, United States
CATEGORIES:Partners in Art,Program
ATTACH;FMTTYPE=image/jpeg:https://delrayartisans.org/wp-content/uploads/1992/12/event-archive-image.jpg
END:VEVENT
BEGIN:VEVENT
DTSTART;TZID=America/New_York:20190326T190000
DTEND;TZID=America/New_York:20190326T210000
DTSTAMP:20260423T221025
CREATED:20230410T142807Z
LAST-MODIFIED:20230410T142807Z
UID:10000827-1553626800-1553634000@delrayartisans.org
SUMMARY:Partners in Art Evening (March 2019)
DESCRIPTION:All local artists\, from beginners to professionals\, are invited. We discuss the local art scene\, exhibit opportunities\, share artistic goals\, techniques\, media\, and creative processes. Enjoy the collegiality and support of your fellow artists! Participants may also bring in 1-3 artworks\, in any medium\, in any stage\, to discuss goals\, process\, and ask for advice. We use the positive and successful format developed in our afternoon sessions for our feedback procedure. Donations ($1–3) greatly appreciated. \nContact Michele Reday Cook (mredaycook@gmail.com) with questions. \nView Upcoming Meetings
URL:https://delrayartisans.org/event/partners-in-art-evening-march-2019/
LOCATION:Del Ray Artisans Gallery\, 2704 Mount Vernon Avenue\, Alexandria\, VA\, 22301\, United States
CATEGORIES:Partners in Art,Program
ATTACH;FMTTYPE=image/jpeg:https://delrayartisans.org/wp-content/uploads/1992/12/event-archive-image.jpg
END:VEVENT
BEGIN:VEVENT
DTSTART;TZID=America/New_York:20190304T140000
DTEND;TZID=America/New_York:20190304T160000
DTSTAMP:20260423T221025
CREATED:20230410T142603Z
LAST-MODIFIED:20230410T142603Z
UID:10000820-1551708000-1551715200@delrayartisans.org
SUMMARY:Partners in Art (March 2019)
DESCRIPTION:Need support reaching your art related goals? Join this collegial group of artists to share your goals and get feedback on artwork. Monthly meetings include discussions on exhibit opportunities\, the creative process and the local art scene. Artist can bring 1-3 works – complete or in progress – for feedback. All skill levels and media welcome. Donations ($1-3) greatly appreciated. Meetings held at the Del Ray Artisans gallery. Members and non-members invited. \nContact Katherine Rand (katherine@katherinerand.com) or Suzanne Tillman (zannet@verizon.net) with questions. \nView Upcoming Meetings
URL:https://delrayartisans.org/event/partners-in-art-march-2019/
LOCATION:Del Ray Artisans Gallery\, 2704 Mount Vernon Avenue\, Alexandria\, VA\, 22301\, United States
CATEGORIES:Partners in Art,Program
ATTACH;FMTTYPE=image/jpeg:https://delrayartisans.org/wp-content/uploads/1992/12/event-archive-image.jpg
END:VEVENT
BEGIN:VEVENT
DTSTART;TZID=America/New_York:20190204T140000
DTEND;TZID=America/New_York:20190204T160000
DTSTAMP:20260423T221025
CREATED:20230410T142146Z
LAST-MODIFIED:20230410T142146Z
UID:10000805-1549288800-1549296000@delrayartisans.org
SUMMARY:Partners in Art (Feb 2019)
DESCRIPTION:Need support reaching your art related goals? Join this collegial group of artists to share your goals and get feedback on artwork. Monthly meetings include discussions on exhibit opportunities\, the creative process and the local art scene. Artist can bring 1-3 works – complete or in progress – for feedback. All skill levels and media welcome. Donations ($1-3) greatly appreciated. Meetings held at the Del Ray Artisans gallery. Members and non-members invited. \nContact Katherine Rand (katherine@katherinerand.com) or Suzanne Tillman (zannet@verizon.net) with questions. \nView Upcoming Meetings
URL:https://delrayartisans.org/event/partners-in-art-feb-2019/
LOCATION:Del Ray Artisans Gallery\, 2704 Mount Vernon Avenue\, Alexandria\, VA\, 22301\, United States
CATEGORIES:Partners in Art,Program
ATTACH;FMTTYPE=image/jpeg:https://delrayartisans.org/wp-content/uploads/1992/12/event-archive-image.jpg
END:VEVENT
BEGIN:VEVENT
DTSTART;TZID=America/New_York:20190107T140000
DTEND;TZID=America/New_York:20190107T160000
DTSTAMP:20260423T221025
CREATED:20230409T161127Z
LAST-MODIFIED:20230409T163152Z
UID:10000770-1546869600-1546876800@delrayartisans.org
SUMMARY:Partners in Art (Jan 2019)
DESCRIPTION:Need support reaching your art related goals? Join this collegial group of artists to share your goals and get feedback on artwork. Monthly meetings include discussions on exhibit opportunities\, the creative process and the local art scene. Artist can bring 1-3 works – complete or in progress – for feedback. All skill levels and media welcome. Donations ($1-3) greatly appreciated. Meetings held at the Del Ray Artisans gallery. Members and non-members invited. \nContact Katherine Rand (katherine@katherinerand.com) or Suzanne Tillman (zannet@verizon.net) with questions. \nView Upcoming Meetings
URL:https://delrayartisans.org/event/partners-in-art-jan-2019/
LOCATION:Del Ray Artisans Gallery\, 2704 Mount Vernon Avenue\, Alexandria\, VA\, 22301\, United States
CATEGORIES:Partners in Art,Program
ATTACH;FMTTYPE=image/jpeg:https://delrayartisans.org/wp-content/uploads/1992/12/event-archive-image.jpg
END:VEVENT
END:VCALENDAR