BEGIN:VCALENDAR
VERSION:2.0
PRODID:-//Del Ray Artisans - ECPv6.15.20//NONSGML v1.0//EN
CALSCALE:GREGORIAN
METHOD:PUBLISH
X-ORIGINAL-URL:https://delrayartisans.org
X-WR-CALDESC:Events for Del Ray Artisans
REFRESH-INTERVAL;VALUE=DURATION:PT1H
X-Robots-Tag:noindex
X-PUBLISHED-TTL:PT1H
BEGIN:VTIMEZONE
TZID:America/New_York
BEGIN:DAYLIGHT
TZOFFSETFROM:-0500
TZOFFSETTO:-0400
TZNAME:EDT
DTSTART:20250309T070000
END:DAYLIGHT
BEGIN:STANDARD
TZOFFSETFROM:-0400
TZOFFSETTO:-0500
TZNAME:EST
DTSTART:20251102T060000
END:STANDARD
BEGIN:DAYLIGHT
TZOFFSETFROM:-0500
TZOFFSETTO:-0400
TZNAME:EDT
DTSTART:20260308T070000
END:DAYLIGHT
BEGIN:STANDARD
TZOFFSETFROM:-0400
TZOFFSETTO:-0500
TZNAME:EST
DTSTART:20261101T060000
END:STANDARD
BEGIN:DAYLIGHT
TZOFFSETFROM:-0500
TZOFFSETTO:-0400
TZNAME:EDT
DTSTART:20270314T070000
END:DAYLIGHT
BEGIN:STANDARD
TZOFFSETFROM:-0400
TZOFFSETTO:-0500
TZNAME:EST
DTSTART:20271107T060000
END:STANDARD
END:VTIMEZONE
BEGIN:VEVENT
DTSTART;TZID=America/New_York:20260309T140000
DTEND;TZID=America/New_York:20260309T160000
DTSTAMP:20260422T204914
CREATED:20251115T003538Z
LAST-MODIFIED:20260101T182511Z
UID:10002046-1773064800-1773072000@delrayartisans.org
SUMMARY:Partners in Art (RSVP in Advance)
DESCRIPTION:Need support reaching your art related goals? Join this collegial group of artists to share your goals and get feedback on artwork. Monthly meetings include discussions on exhibit opportunities\, the creative process and the local art scene. Artist can bring 1-2 works – complete or in progress – for feedback. All skill levels and media welcome. \nThis program is free\, but donations ($1-3) are greatly appreciated. \nRSVP to Mila Mateu (milaenartes@gmail.com) and Suzanne Tillman (zannet@verizon.net) for details before the day of the meeting. \nView Upcoming Meetings
URL:https://delrayartisans.org/event/partners-in-art-2026/2026-03-09/
LOCATION:Del Ray Artisans Gallery\, 2704 Mount Vernon Avenue\, Alexandria\, VA\, 22301\, United States
CATEGORIES:Partners in Art,Program
ATTACH;FMTTYPE=image/jpeg:https://delrayartisans.org/wp-content/uploads/2018/05/Partners-in-Art.jpg
ORGANIZER;CN="Milagros Mateu":MAILTO:milagros.mateu@gmail.com
END:VEVENT
BEGIN:VEVENT
DTSTART;TZID=America/New_York:20260315T140000
DTEND;TZID=America/New_York:20260315T153000
DTSTAMP:20260422T204914
CREATED:20251115T122239Z
LAST-MODIFIED:20251130T212506Z
UID:10002070-1773583200-1773588600@delrayartisans.org
SUMMARY:Live From Your Studio - Connect with fellow DRA artists
DESCRIPTION:Live From Your Studio is a free\, members-only\, virtual gathering where Del Ray Artisans members can connect from their art-making space. This virtual event will take place monthly on the third Sunday of the month (excluding December) over Zoom. Artists are encouraged (but not required) to join from their studios and make art during the session. These events will allow members to paint and create art together\, and forge deeper connections to other members. \nRSVP at least a week before the gathering to help organizers prepare. Zoom connection information will be emailed to you two days before the gathering. If you have any questions\, please contact organizer Laura Flynn Geissel at flynnmail52@proton.me and Membership Director Kara Macek at membership@delrayartisans.org. \nNot a member?  It’s easy to join Del Ray Artisans. Artist ($30-$110) and Patron ($250+) level memberships enjoy exhibition and program privileges. Supporter level memberships ($40/year) do not have exhibition privileges\, but supporters have program privileges and may participate in programs such as this one! \nAlthough this is a free event\, as a nonprofit organization\, donations are always welcome to support our mission of promoting art for the benefit of artists and the community. Donate online or at the gallery. \nRSVP Now
URL:https://delrayartisans.org/event/live-from-your-studio-2026/2026-03-15/
LOCATION:Online
CATEGORIES:Live From Your Studio,Partners in Art,Program
ATTACH;FMTTYPE=image/jpeg:https://delrayartisans.org/wp-content/uploads/2025/10/LiveFromYourStudio.jpg
ORGANIZER;CN="Laura Flynn Geissel":MAILTO:flynnmail52@proton.me
END:VEVENT
BEGIN:VEVENT
DTSTART;TZID=America/New_York:20260317T190000
DTEND;TZID=America/New_York:20260317T210000
DTSTAMP:20260422T204914
CREATED:20251115T004608Z
LAST-MODIFIED:20251115T134522Z
UID:10002051-1773774000-1773781200@delrayartisans.org
SUMMARY:Partners in Art Evening (RSVP in Advance)
DESCRIPTION:Calling fellow artists\, beginners to professionals\, you are invited to join our art-support group\, to share artistic goals\, techniques\, and the local art scene. Participants may show one or two artworks\, any medium\, in any stage\, for advice and feedback. \nTo join our small\, friendly\, and supportive artists’ group\, contact Michele Reday Cook at mredaycook@gmail.com for details and registration BEFORE the day of the meeting. \nThis program is free. Donations ($1-3) are greatly appreciated. Contact Michele Reday Cook (mredaycook@gmail.com) with questions. \nView Upcoming Meetings
URL:https://delrayartisans.org/event/partners-in-art-evening-2026/2026-03-17/
LOCATION:Del Ray Artisans Gallery\, 2704 Mount Vernon Avenue\, Alexandria\, VA\, 22301\, United States
CATEGORIES:Partners in Art,Program
ATTACH;FMTTYPE=image/jpeg:https://delrayartisans.org/wp-content/uploads/2019/10/partners-in-art-evenings.jpg
ORGANIZER;CN="Michele Reday Cook":MAILTO:mredaycook@gmail.com
END:VEVENT
END:VCALENDAR