BEGIN:VCALENDAR
VERSION:2.0
PRODID:-//Del Ray Artisans - ECPv6.15.20//NONSGML v1.0//EN
CALSCALE:GREGORIAN
METHOD:PUBLISH
X-ORIGINAL-URL:https://delrayartisans.org
X-WR-CALDESC:Events for Del Ray Artisans
REFRESH-INTERVAL;VALUE=DURATION:PT1H
X-Robots-Tag:noindex
X-PUBLISHED-TTL:PT1H
BEGIN:VTIMEZONE
TZID:America/New_York
BEGIN:DAYLIGHT
TZOFFSETFROM:-0500
TZOFFSETTO:-0400
TZNAME:EDT
DTSTART:20250309T070000
END:DAYLIGHT
BEGIN:STANDARD
TZOFFSETFROM:-0400
TZOFFSETTO:-0500
TZNAME:EST
DTSTART:20251102T060000
END:STANDARD
BEGIN:DAYLIGHT
TZOFFSETFROM:-0500
TZOFFSETTO:-0400
TZNAME:EDT
DTSTART:20260308T070000
END:DAYLIGHT
BEGIN:STANDARD
TZOFFSETFROM:-0400
TZOFFSETTO:-0500
TZNAME:EST
DTSTART:20261101T060000
END:STANDARD
BEGIN:DAYLIGHT
TZOFFSETFROM:-0500
TZOFFSETTO:-0400
TZNAME:EDT
DTSTART:20270314T070000
END:DAYLIGHT
BEGIN:STANDARD
TZOFFSETFROM:-0400
TZOFFSETTO:-0500
TZNAME:EST
DTSTART:20271107T060000
END:STANDARD
END:VTIMEZONE
BEGIN:VEVENT
DTSTART;TZID=America/New_York:20261112T190000
DTEND;TZID=America/New_York:20261112T210000
DTSTAMP:20260423T062501
CREATED:20251115T124601Z
LAST-MODIFIED:20260112T003708Z
UID:10002098-1794510000-1794517200@delrayartisans.org
SUMMARY:Life Drawing – Gesture and Short Poses Session
DESCRIPTION:Drop-in and practice figure drawing on select Tuesday and Thursday evenings each month. Bring your supplies and join us at the gallery to draw or paint our nude model. \nTraditional drawing media (such as pencils\, pens\, and charcoal) are welcome; and pastels\, watercolor and ink are permissible. Please do not bring acrylics or oil paints. We don’t supply easels – only plenty of chairs – but you are welcome to bring your own easel if you want to use one. All skill levels are welcome. \nThe first part of this session will be focused on gesture poses (dynamic 1-5 minute poses) to loosen up and participate in a fun\, fast-paced drawing experience. The second hour will be a few short poses for more detailed drawings leading up to up to two 20-minute poses. \nFee for each session is $10 for Del Ray Artisans members and $15 for non-members.  If you have any questions or would like to participate as a model for our sessions\, please contact LifeDrawing@DelRayArtisans.org. \nView artwork from past DRA Figure Drawing Sessions on Instagram! Tag #dralifedraw or @dralifedraw for your work to be featured. \nRegister Now  |  View Upcoming Sessions \n\nArtwork credit: “To The Beat” by Katherine Rand
URL:https://delrayartisans.org/event/life-drawing-2026/2026-11-12/
LOCATION:Del Ray Artisans Gallery\, 2704 Mount Vernon Avenue\, Alexandria\, VA\, 22301\, United States
CATEGORIES:Life Drawing,Program
ATTACH;FMTTYPE=image/jpeg:https://delrayartisans.org/wp-content/uploads/2019/01/To-The-Beat-by-Katherine-Rand.jpg
ORGANIZER;CN="Life Drawing Coordinator":MAILTO:LifeDrawing@DelRayArtisans.org
END:VEVENT
BEGIN:VEVENT
DTSTART;TZID=America/New_York:20261115T140000
DTEND;TZID=America/New_York:20261115T153000
DTSTAMP:20260423T062501
CREATED:20251115T122239Z
LAST-MODIFIED:20251130T212506Z
UID:10002078-1794751200-1794756600@delrayartisans.org
SUMMARY:Live From Your Studio - Connect with fellow DRA artists
DESCRIPTION:Live From Your Studio is a free\, members-only\, virtual gathering where Del Ray Artisans members can connect from their art-making space. This virtual event will take place monthly on the third Sunday of the month (excluding December) over Zoom. Artists are encouraged (but not required) to join from their studios and make art during the session. These events will allow members to paint and create art together\, and forge deeper connections to other members. \nRSVP at least a week before the gathering to help organizers prepare. Zoom connection information will be emailed to you two days before the gathering. If you have any questions\, please contact organizer Laura Flynn Geissel at flynnmail52@proton.me and Membership Director Kara Macek at membership@delrayartisans.org. \nNot a member?  It’s easy to join Del Ray Artisans. Artist ($30-$110) and Patron ($250+) level memberships enjoy exhibition and program privileges. Supporter level memberships ($40/year) do not have exhibition privileges\, but supporters have program privileges and may participate in programs such as this one! \nAlthough this is a free event\, as a nonprofit organization\, donations are always welcome to support our mission of promoting art for the benefit of artists and the community. Donate online or at the gallery. \nRSVP Now
URL:https://delrayartisans.org/event/live-from-your-studio-2026/2026-11-15/
LOCATION:Online
CATEGORIES:Live From Your Studio,Partners in Art,Program
ATTACH;FMTTYPE=image/jpeg:https://delrayartisans.org/wp-content/uploads/2025/10/LiveFromYourStudio.jpg
ORGANIZER;CN="Laura Flynn Geissel":MAILTO:flynnmail52@proton.me
END:VEVENT
BEGIN:VEVENT
DTSTART;TZID=America/New_York:20261117T190000
DTEND;TZID=America/New_York:20261117T210000
DTSTAMP:20260423T062501
CREATED:20251115T004608Z
LAST-MODIFIED:20251115T134522Z
UID:10002119-1794942000-1794949200@delrayartisans.org
SUMMARY:Partners in Art Evening (RSVP in Advance)
DESCRIPTION:Calling fellow artists\, beginners to professionals\, you are invited to join our art-support group\, to share artistic goals\, techniques\, and the local art scene. Participants may show one or two artworks\, any medium\, in any stage\, for advice and feedback. \nTo join our small\, friendly\, and supportive artists’ group\, contact Michele Reday Cook at mredaycook@gmail.com for details and registration BEFORE the day of the meeting. \nThis program is free. Donations ($1-3) are greatly appreciated. Contact Michele Reday Cook (mredaycook@gmail.com) with questions. \nView Upcoming Meetings
URL:https://delrayartisans.org/event/partners-in-art-evening-2026/2026-11-17/
LOCATION:Del Ray Artisans Gallery\, 2704 Mount Vernon Avenue\, Alexandria\, VA\, 22301\, United States
CATEGORIES:Partners in Art,Program
ATTACH;FMTTYPE=image/jpeg:https://delrayartisans.org/wp-content/uploads/2019/10/partners-in-art-evenings.jpg
ORGANIZER;CN="Michele Reday Cook":MAILTO:mredaycook@gmail.com
END:VEVENT
BEGIN:VEVENT
DTSTART;TZID=America/New_York:20261119T190000
DTEND;TZID=America/New_York:20261119T210000
DTSTAMP:20260423T062501
CREATED:20251027T195236Z
LAST-MODIFIED:20260226T172804Z
UID:10002193-1795114800-1795122000@delrayartisans.org
SUMMARY:Del Ray Urban Sketchers (location TBD)
DESCRIPTION:Urban sketchbooking emphasizes storytelling that conveys a sense of place or a moment in time through drawings completed from direct observations. \nBring your supplies and join us outside at TBD to produce still life\, figure\, or architecture subjects in your sketchbook. Participants will spend some time putting their skills into practice and then reconvene for a review of finished works. \nDel Ray Urban Sketchers operates on a drop-in basis and meets on the third Sunday of the month (except not in July\, August\, and December) at St. Elmo’s Coffee Pub in Del Ray\, as well as on the third Thursday of most months at a time and location that is varied (view upcoming dates). \nThis program is FREE! Donations appreciated. Contact the organizer\, KC Hodge (email coming soon)\, with any questions. \nRSVP via Eventbrite coming soon. \n View Upcoming Dates \n\nPhoto courtesy of Joan Bickelhaupt
URL:https://delrayartisans.org/event/urban-sketchers-2026/2026-11-19/
LOCATION:VA
CATEGORIES:Program,Urban Sketchers
ATTACH;FMTTYPE=image/jpeg:https://delrayartisans.org/wp-content/uploads/2024/11/Del-Ray-Urban-Sketchers-2025-square.jpg
END:VEVENT
BEGIN:VEVENT
DTSTART;TZID=America/New_York:20261121T100000
DTEND;TZID=America/New_York:20261121T120000
DTSTAMP:20260423T062501
CREATED:20251027T205305Z
LAST-MODIFIED:20260101T170325Z
UID:10002015-1795255200-1795262400@delrayartisans.org
SUMMARY:Radical Sewing Club-ALX
DESCRIPTION:Welcome to Radical Sewing Club-ALX! \nStarted in LA by Scout Quiquivix\, the Alexandria chapter is a monthly drop-in style meeting where you can learn clothing repair\, hand and machine sewing\, or bring your own project to work on with the community. \nRadical Sewing Club is about more than sewing–it’s a space to reimagine craft outside of capitalism\, to resist exploitation and oppression\, and to stitch together a world based on care and solidarity. All who share these values are welcome. \nRegistration: Registration is not required\, but you may set a reminder in Eventbrite. \nCost: Recommended donation of $10 or pay what you can. No one turned away for lack of funds! Monetary donations will be split between Del Ray Artisans (our wonderful hosts) and Radical Sewing Club for continued materials. \nHave materials to donate? We welcome fabric (full cuts and scraps alike)\, thread\, needles\, interfacing\, embroidery hoops\, buttons\, pins\, trims\, lace\, and functional zippers. \nContact: radicalsewingclubalx@pm.me or @radicalsewingclub_alx on Instagram \nView All Upcoming Dates
URL:https://delrayartisans.org/event/radical-sewing-club-2026/2026-11-21/
LOCATION:Del Ray Artisans Gallery\, 2704 Mount Vernon Avenue\, Alexandria\, VA\, 22301\, United States
CATEGORIES:Program,Radical Sewing Club
ATTACH;FMTTYPE=image/jpeg:https://delrayartisans.org/wp-content/uploads/2025/06/RSC-ALX.jpg
ORGANIZER;CN="Syd Grossman%2C Radical Sewing Club-ALX":MAILTO:radicalsewingclubalx@pm.me
END:VEVENT
BEGIN:VEVENT
DTSTART;TZID=America/New_York:20261124T190000
DTEND;TZID=America/New_York:20261124T210000
DTSTAMP:20260423T062501
CREATED:20251115T124601Z
LAST-MODIFIED:20260112T003708Z
UID:10002099-1795546800-1795554000@delrayartisans.org
SUMMARY:Life Drawing – Gesture and Short Poses Session
DESCRIPTION:Drop-in and practice figure drawing on select Tuesday and Thursday evenings each month. Bring your supplies and join us at the gallery to draw or paint our nude model. \nTraditional drawing media (such as pencils\, pens\, and charcoal) are welcome; and pastels\, watercolor and ink are permissible. Please do not bring acrylics or oil paints. We don’t supply easels – only plenty of chairs – but you are welcome to bring your own easel if you want to use one. All skill levels are welcome. \nThe first part of this session will be focused on gesture poses (dynamic 1-5 minute poses) to loosen up and participate in a fun\, fast-paced drawing experience. The second hour will be a few short poses for more detailed drawings leading up to up to two 20-minute poses. \nFee for each session is $10 for Del Ray Artisans members and $15 for non-members.  If you have any questions or would like to participate as a model for our sessions\, please contact LifeDrawing@DelRayArtisans.org. \nView artwork from past DRA Figure Drawing Sessions on Instagram! Tag #dralifedraw or @dralifedraw for your work to be featured. \nRegister Now  |  View Upcoming Sessions \n\nArtwork credit: “To The Beat” by Katherine Rand
URL:https://delrayartisans.org/event/life-drawing-2026/2026-11-24/
LOCATION:Del Ray Artisans Gallery\, 2704 Mount Vernon Avenue\, Alexandria\, VA\, 22301\, United States
CATEGORIES:Life Drawing,Program
ATTACH;FMTTYPE=image/jpeg:https://delrayartisans.org/wp-content/uploads/2019/01/To-The-Beat-by-Katherine-Rand.jpg
ORGANIZER;CN="Life Drawing Coordinator":MAILTO:LifeDrawing@DelRayArtisans.org
END:VEVENT
BEGIN:VEVENT
DTSTART;TZID=America/New_York:20261201T190000
DTEND;TZID=America/New_York:20261201T210000
DTSTAMP:20260423T062501
CREATED:20251115T124601Z
LAST-MODIFIED:20260112T003708Z
UID:10002100-1796151600-1796158800@delrayartisans.org
SUMMARY:Life Drawing – Gesture and Short Poses Session
DESCRIPTION:Drop-in and practice figure drawing on select Tuesday and Thursday evenings each month. Bring your supplies and join us at the gallery to draw or paint our nude model. \nTraditional drawing media (such as pencils\, pens\, and charcoal) are welcome; and pastels\, watercolor and ink are permissible. Please do not bring acrylics or oil paints. We don’t supply easels – only plenty of chairs – but you are welcome to bring your own easel if you want to use one. All skill levels are welcome. \nThe first part of this session will be focused on gesture poses (dynamic 1-5 minute poses) to loosen up and participate in a fun\, fast-paced drawing experience. The second hour will be a few short poses for more detailed drawings leading up to up to two 20-minute poses. \nFee for each session is $10 for Del Ray Artisans members and $15 for non-members.  If you have any questions or would like to participate as a model for our sessions\, please contact LifeDrawing@DelRayArtisans.org. \nView artwork from past DRA Figure Drawing Sessions on Instagram! Tag #dralifedraw or @dralifedraw for your work to be featured. \nRegister Now  |  View Upcoming Sessions \n\nArtwork credit: “To The Beat” by Katherine Rand
URL:https://delrayartisans.org/event/life-drawing-2026/2026-12-01/
LOCATION:Del Ray Artisans Gallery\, 2704 Mount Vernon Avenue\, Alexandria\, VA\, 22301\, United States
CATEGORIES:Life Drawing,Program
ATTACH;FMTTYPE=image/jpeg:https://delrayartisans.org/wp-content/uploads/2019/01/To-The-Beat-by-Katherine-Rand.jpg
ORGANIZER;CN="Life Drawing Coordinator":MAILTO:LifeDrawing@DelRayArtisans.org
END:VEVENT
BEGIN:VEVENT
DTSTART;TZID=America/New_York:20261215T190000
DTEND;TZID=America/New_York:20261215T210000
DTSTAMP:20260423T062501
CREATED:20251115T124601Z
LAST-MODIFIED:20260112T003708Z
UID:10002101-1797361200-1797368400@delrayartisans.org
SUMMARY:Life Drawing – Gesture and Short Poses Session
DESCRIPTION:Drop-in and practice figure drawing on select Tuesday and Thursday evenings each month. Bring your supplies and join us at the gallery to draw or paint our nude model. \nTraditional drawing media (such as pencils\, pens\, and charcoal) are welcome; and pastels\, watercolor and ink are permissible. Please do not bring acrylics or oil paints. We don’t supply easels – only plenty of chairs – but you are welcome to bring your own easel if you want to use one. All skill levels are welcome. \nThe first part of this session will be focused on gesture poses (dynamic 1-5 minute poses) to loosen up and participate in a fun\, fast-paced drawing experience. The second hour will be a few short poses for more detailed drawings leading up to up to two 20-minute poses. \nFee for each session is $10 for Del Ray Artisans members and $15 for non-members.  If you have any questions or would like to participate as a model for our sessions\, please contact LifeDrawing@DelRayArtisans.org. \nView artwork from past DRA Figure Drawing Sessions on Instagram! Tag #dralifedraw or @dralifedraw for your work to be featured. \nRegister Now  |  View Upcoming Sessions \n\nArtwork credit: “To The Beat” by Katherine Rand
URL:https://delrayartisans.org/event/life-drawing-2026/2026-12-15/
LOCATION:Del Ray Artisans Gallery\, 2704 Mount Vernon Avenue\, Alexandria\, VA\, 22301\, United States
CATEGORIES:Life Drawing,Program
ATTACH;FMTTYPE=image/jpeg:https://delrayartisans.org/wp-content/uploads/2019/01/To-The-Beat-by-Katherine-Rand.jpg
ORGANIZER;CN="Life Drawing Coordinator":MAILTO:LifeDrawing@DelRayArtisans.org
END:VEVENT
END:VCALENDAR