BEGIN:VCALENDAR
VERSION:2.0
PRODID:-//Del Ray Artisans - ECPv6.15.20//NONSGML v1.0//EN
CALSCALE:GREGORIAN
METHOD:PUBLISH
X-ORIGINAL-URL:https://delrayartisans.org
X-WR-CALDESC:Events for Del Ray Artisans
REFRESH-INTERVAL;VALUE=DURATION:PT1H
X-Robots-Tag:noindex
X-PUBLISHED-TTL:PT1H
BEGIN:VTIMEZONE
TZID:America/New_York
BEGIN:DAYLIGHT
TZOFFSETFROM:-0500
TZOFFSETTO:-0400
TZNAME:EDT
DTSTART:20250309T070000
END:DAYLIGHT
BEGIN:STANDARD
TZOFFSETFROM:-0400
TZOFFSETTO:-0500
TZNAME:EST
DTSTART:20251102T060000
END:STANDARD
BEGIN:DAYLIGHT
TZOFFSETFROM:-0500
TZOFFSETTO:-0400
TZNAME:EDT
DTSTART:20260308T070000
END:DAYLIGHT
BEGIN:STANDARD
TZOFFSETFROM:-0400
TZOFFSETTO:-0500
TZNAME:EST
DTSTART:20261101T060000
END:STANDARD
BEGIN:DAYLIGHT
TZOFFSETFROM:-0500
TZOFFSETTO:-0400
TZNAME:EDT
DTSTART:20270314T070000
END:DAYLIGHT
BEGIN:STANDARD
TZOFFSETFROM:-0400
TZOFFSETTO:-0500
TZNAME:EST
DTSTART:20271107T060000
END:STANDARD
END:VTIMEZONE
BEGIN:VEVENT
DTSTART;VALUE=DATE:20260408
DTEND;VALUE=DATE:20260423
DTSTAMP:20260422T190733
CREATED:20251115T133054Z
LAST-MODIFIED:20251115T133054Z
UID:10002112-1775606400-1776902399@delrayartisans.org
SUMMARY:Spring2ACTion 2026
DESCRIPTION:Donate April 8–22 \nStarting Wednesday\, April 8 through Wednesday\, April 22\, 2026 (Giving Day) our community comes together to support the amazing work of Alexandria nonprofits through Spring2ACTion\, hosted by ACT for Alexandria. Please remember Del Ray Artisans is one of those worthy causes! \nDel Ray Artisans has been promoting art for the benefit of local artists and the community since 1992. Del Ray Artisans supports the development of artists at all levels and serves as a center for thriving artistic activity in Alexandria\, Virginia. \nDuring Spring2ACTion\, please show your support for Del Ray Artisans’ exhibits\, programs\, youth and outreach activities which help members of our community grow as individuals and as artists. \nIf you are in a position to do so\, please donate to Del Ray Artisans nonprofit today. Other ways to support: \n\nBuy artwork from local artists during our exhibits or from members’ websites.\nShare our Spring2ACTion fundraising page with your network. Crowdsourcing adds up\, and we absolutely appreciate every single donation and shout-out.\nRegister for a Creative Workshop or attend an upcoming Creative Program. Learn something new and have fun!\n\nPlease consider a tax-deductible donation and spread the word to friends and family. Every donation is appreciated. Thank you for supporting the arts! \nDonate April 8–22
URL:https://delrayartisans.org/event/spring2action-2026/
LOCATION:Online
CATEGORIES:Community Event,Fundraising,Program
ATTACH;FMTTYPE=image/jpeg:https://delrayartisans.org/wp-content/uploads/2022/04/S2A-JoinYourCommunity.jpg
ORGANIZER;CN="Dawn Wyse Hurto%2C President":MAILTO:president@delrayartisans.org
END:VEVENT
BEGIN:VEVENT
DTSTART;TZID=America/New_York:20260423T190000
DTEND;TZID=America/New_York:20260423T210000
DTSTAMP:20260422T190733
CREATED:20251115T124601Z
LAST-MODIFIED:20260112T003708Z
UID:10002086-1776970800-1776978000@delrayartisans.org
SUMMARY:Life Drawing – Gesture and Short Poses Session
DESCRIPTION:Drop-in and practice figure drawing on select Tuesday and Thursday evenings each month. Bring your supplies and join us at the gallery to draw or paint our nude model. \nTraditional drawing media (such as pencils\, pens\, and charcoal) are welcome; and pastels\, watercolor and ink are permissible. Please do not bring acrylics or oil paints. We don’t supply easels – only plenty of chairs – but you are welcome to bring your own easel if you want to use one. All skill levels are welcome. \nThe first part of this session will be focused on gesture poses (dynamic 1-5 minute poses) to loosen up and participate in a fun\, fast-paced drawing experience. The second hour will be a few short poses for more detailed drawings leading up to up to two 20-minute poses. \nFee for each session is $10 for Del Ray Artisans members and $15 for non-members.  If you have any questions or would like to participate as a model for our sessions\, please contact LifeDrawing@DelRayArtisans.org. \nView artwork from past DRA Figure Drawing Sessions on Instagram! Tag #dralifedraw or @dralifedraw for your work to be featured. \nRegister Now  |  View Upcoming Sessions \n\nArtwork credit: “To The Beat” by Katherine Rand
URL:https://delrayartisans.org/event/life-drawing-2026/2026-04-23/
LOCATION:Del Ray Artisans Gallery\, 2704 Mount Vernon Avenue\, Alexandria\, VA\, 22301\, United States
CATEGORIES:Life Drawing,Program
ATTACH;FMTTYPE=image/jpeg:https://delrayartisans.org/wp-content/uploads/2019/01/To-The-Beat-by-Katherine-Rand.jpg
ORGANIZER;CN="Life Drawing Coordinator":MAILTO:LifeDrawing@DelRayArtisans.org
END:VEVENT
BEGIN:VEVENT
DTSTART;TZID=America/New_York:20260425T100000
DTEND;TZID=America/New_York:20260425T120000
DTSTAMP:20260422T190733
CREATED:20260302T175833Z
LAST-MODIFIED:20260302T175857Z
UID:10001958-1777111200-1777118400@delrayartisans.org
SUMMARY:Nature Journaling Club
DESCRIPTION:Practiced by artists and naturalists alike\, nature journaling is a centuries-old exercise in refining our powers of observation\, appreciation for nature\, drawing skills\, and mindful presence. This group is open to all experience levels as we meet to sketch\, connect\, and learn together! \nDel Ray Artisans’ Nature Journaling Club meets at 10am in front of Del Ray Artisans on the final Saturday morning of the month (except not in July\, November\, and December). Mark your calendar or set a reminder in Eventbrite. \nParticipants will need to bring their own sketchbooks and supplies. We will have plenty of time for sketching in nature before gathering again at 11:30am to share our sketches and observations and discuss tips and tools for nature journaling in the wild. We hope you will join us as we strengthen our art and inquiry practice together! \nSuggested supplies: sketchbook\, pens\, pencils\, colored pencils\, watercolor pencils\, or other portable media\, and a water bottle since we will be outdoors. You may also want to bring something to sit on (folding chair or blanket). \nNOTE: This program is held outdoors and will be canceled if raining. \nThis program is FREE! Donations to our nonprofit arts organization are appreciated. \nFor more information\, contact the coordinators: Stephanie Darlene Greenwald (stephanie@stephaniedarlene.com) and Meredith D’Amore (meredith.w.damore@gmail.com). \nRSVP (Optional) | View Upcoming Dates \n\nArtwork credit: Drawing by Meredith D’Amore
URL:https://delrayartisans.org/event/nature-journaling-2026/2026-04-25/
LOCATION:Del Ray Artisans Gallery\, 2704 Mount Vernon Avenue\, Alexandria\, VA\, 22301\, United States
CATEGORIES:Nature Journaling Club,Program
ATTACH;FMTTYPE=image/jpeg:https://delrayartisans.org/wp-content/uploads/2023/10/Nature-Journaling-Club-square.jpg
ORGANIZER;CN="Meredith D%E2%80%99Amore":MAILTO:meredith.w.damore@gmail.com
END:VEVENT
END:VCALENDAR