BEGIN:VCALENDAR
VERSION:2.0
PRODID:-//Del Ray Artisans - ECPv6.15.20//NONSGML v1.0//EN
CALSCALE:GREGORIAN
METHOD:PUBLISH
X-ORIGINAL-URL:https://delrayartisans.org
X-WR-CALDESC:Events for Del Ray Artisans
REFRESH-INTERVAL;VALUE=DURATION:PT1H
X-Robots-Tag:noindex
X-PUBLISHED-TTL:PT1H
BEGIN:VTIMEZONE
TZID:America/New_York
BEGIN:DAYLIGHT
TZOFFSETFROM:-0500
TZOFFSETTO:-0400
TZNAME:EDT
DTSTART:20250309T070000
END:DAYLIGHT
BEGIN:STANDARD
TZOFFSETFROM:-0400
TZOFFSETTO:-0500
TZNAME:EST
DTSTART:20251102T060000
END:STANDARD
BEGIN:DAYLIGHT
TZOFFSETFROM:-0500
TZOFFSETTO:-0400
TZNAME:EDT
DTSTART:20260308T070000
END:DAYLIGHT
BEGIN:STANDARD
TZOFFSETFROM:-0400
TZOFFSETTO:-0500
TZNAME:EST
DTSTART:20261101T060000
END:STANDARD
BEGIN:DAYLIGHT
TZOFFSETFROM:-0500
TZOFFSETTO:-0400
TZNAME:EDT
DTSTART:20270314T070000
END:DAYLIGHT
BEGIN:STANDARD
TZOFFSETFROM:-0400
TZOFFSETTO:-0500
TZNAME:EST
DTSTART:20271107T060000
END:STANDARD
END:VTIMEZONE
BEGIN:VEVENT
DTSTART;TZID=America/New_York:20260519T190000
DTEND;TZID=America/New_York:20260519T210000
DTSTAMP:20260422T215146
CREATED:20251115T004608Z
LAST-MODIFIED:20251115T134522Z
UID:10002053-1779217200-1779224400@delrayartisans.org
SUMMARY:Partners in Art Evening (RSVP in Advance)
DESCRIPTION:Calling fellow artists\, beginners to professionals\, you are invited to join our art-support group\, to share artistic goals\, techniques\, and the local art scene. Participants may show one or two artworks\, any medium\, in any stage\, for advice and feedback. \nTo join our small\, friendly\, and supportive artists’ group\, contact Michele Reday Cook at mredaycook@gmail.com for details and registration BEFORE the day of the meeting. \nThis program is free. Donations ($1-3) are greatly appreciated. Contact Michele Reday Cook (mredaycook@gmail.com) with questions. \nView Upcoming Meetings
URL:https://delrayartisans.org/event/partners-in-art-evening-2026/2026-05-19/
LOCATION:Del Ray Artisans Gallery\, 2704 Mount Vernon Avenue\, Alexandria\, VA\, 22301\, United States
CATEGORIES:Partners in Art,Program
ATTACH;FMTTYPE=image/jpeg:https://delrayartisans.org/wp-content/uploads/2019/10/partners-in-art-evenings.jpg
ORGANIZER;CN="Michele Reday Cook":MAILTO:mredaycook@gmail.com
END:VEVENT
END:VCALENDAR