BEGIN:VCALENDAR
VERSION:2.0
PRODID:-//Del Ray Artisans - ECPv6.15.20//NONSGML v1.0//EN
CALSCALE:GREGORIAN
METHOD:PUBLISH
X-WR-CALNAME:Del Ray Artisans
X-ORIGINAL-URL:https://delrayartisans.org
X-WR-CALDESC:Events for Del Ray Artisans
REFRESH-INTERVAL;VALUE=DURATION:PT1H
X-Robots-Tag:noindex
X-PUBLISHED-TTL:PT1H
BEGIN:VTIMEZONE
TZID:America/New_York
BEGIN:DAYLIGHT
TZOFFSETFROM:-0500
TZOFFSETTO:-0400
TZNAME:EDT
DTSTART:20250309T070000
END:DAYLIGHT
BEGIN:STANDARD
TZOFFSETFROM:-0400
TZOFFSETTO:-0500
TZNAME:EST
DTSTART:20251102T060000
END:STANDARD
BEGIN:DAYLIGHT
TZOFFSETFROM:-0500
TZOFFSETTO:-0400
TZNAME:EDT
DTSTART:20260308T070000
END:DAYLIGHT
BEGIN:STANDARD
TZOFFSETFROM:-0400
TZOFFSETTO:-0500
TZNAME:EST
DTSTART:20261101T060000
END:STANDARD
BEGIN:DAYLIGHT
TZOFFSETFROM:-0500
TZOFFSETTO:-0400
TZNAME:EDT
DTSTART:20270314T070000
END:DAYLIGHT
BEGIN:STANDARD
TZOFFSETFROM:-0400
TZOFFSETTO:-0500
TZNAME:EST
DTSTART:20271107T060000
END:STANDARD
END:VTIMEZONE
BEGIN:VEVENT
DTSTART;TZID=America/New_York:20260404T103000
DTEND;TZID=America/New_York:20260404T120000
DTSTAMP:20260422T203432
CREATED:20260304T225954Z
LAST-MODIFIED:20260401T184347Z
UID:10002212-1775298600-1775304000@delrayartisans.org
SUMMARY:Darn It! Mending Clothes with Darning (Register ASAP)
DESCRIPTION:Instructor: Syd Grossman\nDate/Time: Saturday\, April 4\, 10:30am-12pm\nCost: $20 Del Ray Artisans member / $30 Non-member\nClass size: 5-10 participants\n(Register in advance; Walk-ins welcome\, space permitting.) \nLearn how to mend holes or weak spots in your clothes with the heirloom art of darning! \nThis workshop will help participants take clothes that have been well-loved and put them back into rotation. Socks\, pants\, shirts\, and more can be mended with beautifully decorative or nearly invisible darning patches. We will cover a simple two-color patching method\, and participants are encouraged to bring an item of clothing that they would like to mend. \nAll mending and instructional supplies are included. Students are encouraged to bring an item of clothing to mend. \nRegister Now \n\nView other upcoming workshops\, information about the facility\, and policies on the Upcoming Workshops page.
URL:https://delrayartisans.org/event/darn-it-mending/
LOCATION:Del Ray Artisans Gallery\, 2704 Mount Vernon Avenue\, Alexandria\, VA\, 22301\, United States
CATEGORIES:Program,Workshop
ATTACH;FMTTYPE=image/jpeg:https://delrayartisans.org/wp-content/uploads/2026/03/DarnIt-by-SydGrossman.jpg
ORGANIZER;CN="Tracy Wilkerson%2C Programs Director":MAILTO:programs@delrayartisans.org
END:VEVENT
BEGIN:VEVENT
DTSTART;TZID=America/New_York:20260404T180000
DTEND;TZID=America/New_York:20260404T210000
DTSTAMP:20260422T203432
CREATED:20260227T202138Z
LAST-MODIFIED:20260324T202434Z
UID:10002209-1775325600-1775336400@delrayartisans.org
SUMMARY:Card Making in Memory of Donna Gallo and Rusty Lynn
DESCRIPTION:All are welcome to the ARTFUL Card Making evening on Saturday\, April 4 from 6-9pm. This free event will honor the memory of two longtime DRA members and “Cardies” Donna Lee Gallo and Rusty Lynn who both passed away in February. \nCome and enjoy the camaraderie and share stories about Donna and Rusty. Hostess Karen Schmitz encourages all levels of “cardie” enthusiasts to drop-in (no registration required). Plenty of art making materials will be on hand through generous donations from Donna’s husband Bill and artists Theresa Kulstad and Becky Rife. Snacks to share always appreciated. \nDonated all-occasion cards are needed to freshen gallery card display (selling for $4 to $10 to benefit our nonprofit) and also to spread joy through the Sunshine Committee (Sunshine@DelRayArtisans.org) for members and friends who could use a little “shine” to brighten their day. \nCard Making Parties are FUN: \n\nLearn and share new art techniques/mini-demos\nDRA members can count this time toward their required volunteer hours\nDonations appreciated for making cards you are taking home\nSee the Fast and Fabulous exhibit!\n\nVolunteers needed to help with event and clean-up; please contact Karen at kschmitzart@gmail.com.
URL:https://delrayartisans.org/event/card-making-april-2026/
LOCATION:Del Ray Artisans Gallery\, 2704 Mount Vernon Avenue\, Alexandria\, VA\, 22301\, United States
CATEGORIES:Program
ATTACH;FMTTYPE=image/jpeg:https://delrayartisans.org/wp-content/uploads/2026/02/card-making-spring-2026.jpg
ORGANIZER;CN="Karen Schmitz":MAILTO:kschmitzart@gmail.com
END:VEVENT
END:VCALENDAR