BEGIN:VCALENDAR
VERSION:2.0
PRODID:-//Del Ray Artisans - ECPv6.15.20//NONSGML v1.0//EN
CALSCALE:GREGORIAN
METHOD:PUBLISH
X-WR-CALNAME:Del Ray Artisans
X-ORIGINAL-URL:https://delrayartisans.org
X-WR-CALDESC:Events for Del Ray Artisans
REFRESH-INTERVAL;VALUE=DURATION:PT1H
X-Robots-Tag:noindex
X-PUBLISHED-TTL:PT1H
BEGIN:VTIMEZONE
TZID:America/New_York
BEGIN:DAYLIGHT
TZOFFSETFROM:-0500
TZOFFSETTO:-0400
TZNAME:EDT
DTSTART:20250309T070000
END:DAYLIGHT
BEGIN:STANDARD
TZOFFSETFROM:-0400
TZOFFSETTO:-0500
TZNAME:EST
DTSTART:20251102T060000
END:STANDARD
BEGIN:DAYLIGHT
TZOFFSETFROM:-0500
TZOFFSETTO:-0400
TZNAME:EDT
DTSTART:20260308T070000
END:DAYLIGHT
BEGIN:STANDARD
TZOFFSETFROM:-0400
TZOFFSETTO:-0500
TZNAME:EST
DTSTART:20261101T060000
END:STANDARD
BEGIN:DAYLIGHT
TZOFFSETFROM:-0500
TZOFFSETTO:-0400
TZNAME:EDT
DTSTART:20270314T070000
END:DAYLIGHT
BEGIN:STANDARD
TZOFFSETFROM:-0400
TZOFFSETTO:-0500
TZNAME:EST
DTSTART:20271107T060000
END:STANDARD
END:VTIMEZONE
BEGIN:VEVENT
DTSTART;TZID=America/New_York:20260402T183000
DTEND;TZID=America/New_York:20260402T200000
DTSTAMP:20260422T203432
CREATED:20260324T194645Z
LAST-MODIFIED:20260324T194704Z
UID:10002124-1775154600-1775160000@delrayartisans.org
SUMMARY:First Thursday: Photo Scavenger Hunt 6:30-8pm (Gallery Open 12-9pm)
DESCRIPTION:Join us inside Del Ray Artisans gallery from 6:30-8pm on the first Thursday of the month from April through September for our family-friendly activity! The activity is free of charge and all ages are welcome. \nCome to Del Ray Artisans gallery on Thursday\, April 2 from 6:30-8pm for a Fast and Fabulous photo scavenger hunt. Solve the clues with your cellphone images as proof. Use the written clues provided or be inspired by the art on exhibit to challenge your phone-tography skills. What makes a car fabulous? What makes a photograph fabulous? \nPlus get a sneak peek of the upcoming art exhibit\, Fast and Fabulous! Del Ray Artisans gallery is open 12-9pm on First Thursdays from April through September (except closed on July 2nd).\n  \n\nEvery year from April through September Del Ray Business Association celebrates First Thursday\, a Del Ray community event along Mount Vernon Avenue from 6pm until dusk on the first Thursday of the month. \nJoin the Del Ray community each First Thursday for themed activities\, a donation drive to support a local nonprofit\, and live music. The theme and nonprofit will be announced in advance\, and donations will be collected at the Pat Miller Neighborhood Square at the intersection of Mount Vernon and Oxford Avenues. \nDel Ray Artisans is a member of Del Ray Business Association.
URL:https://delrayartisans.org/event/first-thursday-april-2026/
LOCATION:Del Ray Artisans Gallery\, 2704 Mount Vernon Avenue\, Alexandria\, VA\, 22301\, United States
CATEGORIES:Community Event,Program,Youth
ATTACH;FMTTYPE=image/jpeg:https://delrayartisans.org/wp-content/uploads/2023/05/DRBA-FirstThursday-2024.jpg
ORGANIZER;CN="Kelly MacConomy%2C Outreach Director":MAILTO:outreach@delrayartisans.org
END:VEVENT
END:VCALENDAR