BEGIN:VCALENDAR
VERSION:2.0
PRODID:-//Del Ray Artisans - ECPv6.15.20//NONSGML v1.0//EN
CALSCALE:GREGORIAN
METHOD:PUBLISH
X-WR-CALNAME:Del Ray Artisans
X-ORIGINAL-URL:https://delrayartisans.org
X-WR-CALDESC:Events for Del Ray Artisans
REFRESH-INTERVAL;VALUE=DURATION:PT1H
X-Robots-Tag:noindex
X-PUBLISHED-TTL:PT1H
BEGIN:VTIMEZONE
TZID:America/New_York
BEGIN:DAYLIGHT
TZOFFSETFROM:-0500
TZOFFSETTO:-0400
TZNAME:EDT
DTSTART:20250309T070000
END:DAYLIGHT
BEGIN:STANDARD
TZOFFSETFROM:-0400
TZOFFSETTO:-0500
TZNAME:EST
DTSTART:20251102T060000
END:STANDARD
BEGIN:DAYLIGHT
TZOFFSETFROM:-0500
TZOFFSETTO:-0400
TZNAME:EDT
DTSTART:20260308T070000
END:DAYLIGHT
BEGIN:STANDARD
TZOFFSETFROM:-0400
TZOFFSETTO:-0500
TZNAME:EST
DTSTART:20261101T060000
END:STANDARD
BEGIN:DAYLIGHT
TZOFFSETFROM:-0500
TZOFFSETTO:-0400
TZNAME:EDT
DTSTART:20270314T070000
END:DAYLIGHT
BEGIN:STANDARD
TZOFFSETFROM:-0400
TZOFFSETTO:-0500
TZNAME:EST
DTSTART:20271107T060000
END:STANDARD
END:VTIMEZONE
BEGIN:VEVENT
DTSTART;TZID=America/New_York:20260219T190000
DTEND;TZID=America/New_York:20260219T210000
DTSTAMP:20260423T020805
CREATED:20260129T154312Z
LAST-MODIFIED:20260129T155103Z
UID:10002186-1771527600-1771534800@delrayartisans.org
SUMMARY:Del Ray Urban Sketchers @ Del Ray Pizzeria
DESCRIPTION:Urban sketchbooking emphasizes storytelling that conveys a sense of place or a moment in time through drawings completed from direct observations. \nBring your supplies and join us outside at Del Ray Pizzaria (2218 Mt Vernon Ave\, Alexandria VA) on Thursday\, February 19 to produce still life\, figure\, or architecture subjects in your sketchbook. Participants will spend some time putting their skills into practice and then reconvene for a review of finished works. \nDel Ray Urban Sketchers operates on a drop-in basis and meets on the third Sunday of the month (except not in July\, August\, and December) at St. Elmo’s Coffee Pub in Del Ray\, as well as on the third Thursday of most months at a time and location that is varied (view upcoming dates). \nThis program is FREE! Donations appreciated. Contact the organizer\, KC Hodge (email coming soon)\, with any questions. \n View Upcoming Dates \n\nPhoto courtesy of Joan Bickelhaupt
URL:https://delrayartisans.org/event/urban-sketchers-2026-02-19/
LOCATION:Del Ray Pizzeria\, 2218 Mount Vernon Avenue\, Alexandria\, VA\, 22301\, United States
CATEGORIES:Program,Urban Sketchers
ATTACH;FMTTYPE=image/jpeg:https://delrayartisans.org/wp-content/uploads/2024/11/Del-Ray-Urban-Sketchers-2025-square.jpg
END:VEVENT
END:VCALENDAR