BEGIN:VCALENDAR
VERSION:2.0
PRODID:-//Del Ray Artisans - ECPv6.15.20//NONSGML v1.0//EN
CALSCALE:GREGORIAN
METHOD:PUBLISH
X-ORIGINAL-URL:https://delrayartisans.org
X-WR-CALDESC:Events for Del Ray Artisans
REFRESH-INTERVAL;VALUE=DURATION:PT1H
X-Robots-Tag:noindex
X-PUBLISHED-TTL:PT1H
BEGIN:VTIMEZONE
TZID:America/New_York
BEGIN:DAYLIGHT
TZOFFSETFROM:-0500
TZOFFSETTO:-0400
TZNAME:EDT
DTSTART:20250309T070000
END:DAYLIGHT
BEGIN:STANDARD
TZOFFSETFROM:-0400
TZOFFSETTO:-0500
TZNAME:EST
DTSTART:20251102T060000
END:STANDARD
BEGIN:DAYLIGHT
TZOFFSETFROM:-0500
TZOFFSETTO:-0400
TZNAME:EDT
DTSTART:20260308T070000
END:DAYLIGHT
BEGIN:STANDARD
TZOFFSETFROM:-0400
TZOFFSETTO:-0500
TZNAME:EST
DTSTART:20261101T060000
END:STANDARD
BEGIN:DAYLIGHT
TZOFFSETFROM:-0500
TZOFFSETTO:-0400
TZNAME:EDT
DTSTART:20270314T070000
END:DAYLIGHT
BEGIN:STANDARD
TZOFFSETFROM:-0400
TZOFFSETTO:-0500
TZNAME:EST
DTSTART:20271107T060000
END:STANDARD
END:VTIMEZONE
BEGIN:VEVENT
DTSTART;TZID=America/New_York:20260218T190000
DTEND;TZID=America/New_York:20260218T210000
DTSTAMP:20260423T050906
CREATED:20260109T221911Z
LAST-MODIFIED:20260215T143800Z
UID:10002147-1771441200-1771448400@delrayartisans.org
SUMMARY:Tiny Lunar New Year Altars (Register by 2/17)
DESCRIPTION:Instructor: Mallory Henig\nDate/Time: Wednesday\, February 18 from 7-9pm\nCost: $30 Del Ray Artisans member / $40 Non-member\, plus a $10 supply fee\nClass size: 6-12 participants\n(Register before noon on February 17) \nA tiny Lunar New Year altar is a miniature\, personal space for honoring ancestors\, setting intentions\, and welcoming prosperity\, using small items like beads to represent symbolic fruits\, red lanterns\, gold ornaments\, crystals\, family photos\, flowers\, and zodiac figurines all fitting in a tin can. \nAll supplies are included and attendees are welcome to bring their own items such as photos. During this workshop you will create your tiny altar assemblage and learn some tips in working in miniature and upcycled art. \nRegister Now \n\nImage credit: Mallory Henig \n\nView other upcoming workshops\, information about the facility and policies on the Upcoming Workshops page.
URL:https://delrayartisans.org/event/lunar-new-year-altars/
LOCATION:Del Ray Artisans Gallery\, 2704 Mount Vernon Avenue\, Alexandria\, VA\, 22301\, United States
CATEGORIES:Program,Workshop
ATTACH;FMTTYPE=image/jpeg:https://delrayartisans.org/wp-content/uploads/2026/01/Tiny-Altar-by-Mallory-Henig.jpg
ORGANIZER;CN="Tracy Wilkerson%2C Programs Director":MAILTO:programs@delrayartisans.org
END:VEVENT
END:VCALENDAR