BEGIN:VCALENDAR
VERSION:2.0
PRODID:-//Del Ray Artisans - ECPv6.15.20//NONSGML v1.0//EN
CALSCALE:GREGORIAN
METHOD:PUBLISH
X-WR-CALNAME:Del Ray Artisans
X-ORIGINAL-URL:https://delrayartisans.org
X-WR-CALDESC:Events for Del Ray Artisans
REFRESH-INTERVAL;VALUE=DURATION:PT1H
X-Robots-Tag:noindex
X-PUBLISHED-TTL:PT1H
BEGIN:VTIMEZONE
TZID:America/New_York
BEGIN:DAYLIGHT
TZOFFSETFROM:-0500
TZOFFSETTO:-0400
TZNAME:EDT
DTSTART:20250309T070000
END:DAYLIGHT
BEGIN:STANDARD
TZOFFSETFROM:-0400
TZOFFSETTO:-0500
TZNAME:EST
DTSTART:20251102T060000
END:STANDARD
BEGIN:DAYLIGHT
TZOFFSETFROM:-0500
TZOFFSETTO:-0400
TZNAME:EDT
DTSTART:20260308T070000
END:DAYLIGHT
BEGIN:STANDARD
TZOFFSETFROM:-0400
TZOFFSETTO:-0500
TZNAME:EST
DTSTART:20261101T060000
END:STANDARD
BEGIN:DAYLIGHT
TZOFFSETFROM:-0500
TZOFFSETTO:-0400
TZNAME:EDT
DTSTART:20270314T070000
END:DAYLIGHT
BEGIN:STANDARD
TZOFFSETFROM:-0400
TZOFFSETTO:-0500
TZNAME:EST
DTSTART:20271107T060000
END:STANDARD
END:VTIMEZONE
BEGIN:VEVENT
DTSTART;TZID=America/New_York:20260107T183000
DTEND;TZID=America/New_York:20260107T203000
DTSTAMP:20260423T020834
CREATED:20251114T211043Z
LAST-MODIFIED:20260104T144915Z
UID:10002034-1767810600-1767817800@delrayartisans.org
SUMMARY:Packing Tape Image Transfers and Collage (Register ASAP)
DESCRIPTION:Instructor: Viki Walchak\nDate/Time: Wednesday\, January 7\, 6:30-8:30pm\nCost: $55 Del Ray Artisans member / $65 Non-member\, plus a $10 supply fee\nClass size: 6-12 participants\n(Register in advance; Walk-ins welcome if space permits) \nParticipants will create mixed-media collages that incorporate packing tape image transfers. Image transfer and collage is a great way to include in a visual journal\, create stand alone fine art works or graphic designs for posters\, cards and invitations. \nParticipants will learn about the history of collage in art\, make packing tape transfers and create at least one mixed-media collage as a spread in their visual journal or a stand alone work of art. \nAll supplies are included but participants are encouraged to bring collage and transfer fodder that reflects their personal interests and concerns as an artist. \nRegister Now \n\nArtwork credit: Collage by Viki Walchak \n\nView other upcoming workshops\, information about the facility\, and policies on the Upcoming Workshops page.
URL:https://delrayartisans.org/event/packing-tape-image-transfers/
LOCATION:Del Ray Artisans Gallery\, 2704 Mount Vernon Avenue\, Alexandria\, VA\, 22301\, United States
CATEGORIES:Program,Workshop
ATTACH;FMTTYPE=image/jpeg:https://delrayartisans.org/wp-content/uploads/2025/11/Collage-by-Viki-Walchak.jpg
ORGANIZER;CN="Tracy Wilkerson%2C Programs Director":MAILTO:programs@delrayartisans.org
END:VEVENT
END:VCALENDAR