BEGIN:VCALENDAR
VERSION:2.0
PRODID:-//Del Ray Artisans - ECPv6.15.20//NONSGML v1.0//EN
CALSCALE:GREGORIAN
METHOD:PUBLISH
X-ORIGINAL-URL:https://delrayartisans.org
X-WR-CALDESC:Events for Del Ray Artisans
REFRESH-INTERVAL;VALUE=DURATION:PT1H
X-Robots-Tag:noindex
X-PUBLISHED-TTL:PT1H
BEGIN:VTIMEZONE
TZID:America/New_York
BEGIN:DAYLIGHT
TZOFFSETFROM:-0500
TZOFFSETTO:-0400
TZNAME:EDT
DTSTART:20240310T070000
END:DAYLIGHT
BEGIN:STANDARD
TZOFFSETFROM:-0400
TZOFFSETTO:-0500
TZNAME:EST
DTSTART:20241103T060000
END:STANDARD
BEGIN:DAYLIGHT
TZOFFSETFROM:-0500
TZOFFSETTO:-0400
TZNAME:EDT
DTSTART:20250309T070000
END:DAYLIGHT
BEGIN:STANDARD
TZOFFSETFROM:-0400
TZOFFSETTO:-0500
TZNAME:EST
DTSTART:20251102T060000
END:STANDARD
BEGIN:DAYLIGHT
TZOFFSETFROM:-0500
TZOFFSETTO:-0400
TZNAME:EDT
DTSTART:20260308T070000
END:DAYLIGHT
BEGIN:STANDARD
TZOFFSETFROM:-0400
TZOFFSETTO:-0500
TZNAME:EST
DTSTART:20261101T060000
END:STANDARD
END:VTIMEZONE
BEGIN:VEVENT
DTSTART;TZID=America/New_York:20251011T100000
DTEND;TZID=America/New_York:20251011T120000
DTSTAMP:20260423T120324
CREATED:20241030T195518Z
LAST-MODIFIED:20250814T225535Z
UID:10001546-1760176800-1760184000@delrayartisans.org
SUMMARY:Creative Book Club: "Ways of Seeing" by John Berger
DESCRIPTION:Book: “Ways of Seeing” by John Berger\nFacilitator: Marshall Carolus\nMeeting Date: Saturday\, October 11\, 10am-12pm\n(Drop-in\, set a reminder in Eventbrite) \nJoin us on October 11 at 10am to discuss John Berger’s “Ways of Seeing”. It’s an adaptation of a 4-part series he did for the BBC. As described by Michael Messmer\, “Berger challenges the notion that Western art is solely the product of individual geniuses by exploring the social and economic contexts in which art is produced and consumed. The book comprises seven essays\, some of which combine text and images\, presenting a non-linear format that invites readers to engage critically with visual culture.” \nThe Creative Book Club meets on select Saturday mornings at Del Ray Artisans gallery to discuss readings by a variety of authors. The club is open to all who are interested in keeping their creative muse flowing and connecting with other creative people. This is a free event; donations are appreciated. Del Ray Artisans is a 501(c)(3) nonprofit arts organization. Future book selections will be announced on this website and in the Weekly eNews email in advance. \nIf you have questions\, please contact Marshall Carolus at marshallcarolus@aol.com. \n.
URL:https://delrayartisans.org/event/book-club-oct-2025/
LOCATION:Del Ray Artisans Gallery\, 2704 Mount Vernon Avenue\, Alexandria\, VA\, 22301\, United States
CATEGORIES:Book Club,Program
ATTACH;FMTTYPE=image/jpeg:https://delrayartisans.org/wp-content/uploads/2025/08/Ways-Of-Seeing-by-John-Berger.jpg
ORGANIZER;CN="Marshall Carolus":MAILTO:marshallcarolus@aol.com
END:VEVENT
BEGIN:VEVENT
DTSTART;TZID=America/New_York:20251011T180000
DTEND;TZID=America/New_York:20251011T200000
DTSTAMP:20260423T120324
CREATED:20250617T164326Z
LAST-MODIFIED:20251027T205453Z
UID:10001896-1760205600-1760212800@delrayartisans.org
SUMMARY:Radical Sewing Club-ALX 2025
DESCRIPTION:Welcome to Radical Sewing Club-ALX! \nStarted in LA by Scout Quiquivix\, the Alexandria chapter is a monthly drop-in style meeting where you can learn clothing repair\, hand and machine sewing\, or bring your own project to work on with the community. \nRadical Sewing Club is about more than sewing–it’s a space to reimagine craft outside of capitalism\, to resist exploitation and oppression\, and to stitch together a world based on care and solidarity. All who share these values are welcome. \nRegistration: Registration is not required\, but you may set a reminder in Eventbrite. \nCost: Recommended donation of $10 or pay what you can. No one turned away for lack of funds! Monetary donations will be split between Del Ray Artisans (our wonderful hosts) and Radical Sewing Club for continued materials. \nHave materials to donate? We welcome fabric (full cuts and scraps alike)\, thread\, needles\, interfacing\, embroidery hoops\, buttons\, pins\, trims\, lace\, and functional zippers. \nContact: radicalsewingclubalx@pm.me or @radicalsewingclub_alx on Instagram \nView All Upcoming Dates
URL:https://delrayartisans.org/event/radical-sewing-club-2025/2025-10-11/
LOCATION:Del Ray Artisans Gallery\, 2704 Mount Vernon Avenue\, Alexandria\, VA\, 22301\, United States
CATEGORIES:Program,Radical Sewing Club
ATTACH;FMTTYPE=image/jpeg:https://delrayartisans.org/wp-content/uploads/2025/06/RSC-ALX.jpg
ORGANIZER;CN="Syd Grossman%2C Radical Sewing Club-ALX":MAILTO:radicalsewingclubalx@pm.me
END:VEVENT
END:VCALENDAR