BEGIN:VCALENDAR
VERSION:2.0
PRODID:-//Del Ray Artisans - ECPv6.15.20//NONSGML v1.0//EN
CALSCALE:GREGORIAN
METHOD:PUBLISH
X-ORIGINAL-URL:https://delrayartisans.org
X-WR-CALDESC:Events for Del Ray Artisans
REFRESH-INTERVAL;VALUE=DURATION:PT1H
X-Robots-Tag:noindex
X-PUBLISHED-TTL:PT1H
BEGIN:VTIMEZONE
TZID:America/New_York
BEGIN:DAYLIGHT
TZOFFSETFROM:-0500
TZOFFSETTO:-0400
TZNAME:EDT
DTSTART:20240310T070000
END:DAYLIGHT
BEGIN:STANDARD
TZOFFSETFROM:-0400
TZOFFSETTO:-0500
TZNAME:EST
DTSTART:20241103T060000
END:STANDARD
BEGIN:DAYLIGHT
TZOFFSETFROM:-0500
TZOFFSETTO:-0400
TZNAME:EDT
DTSTART:20250309T070000
END:DAYLIGHT
BEGIN:STANDARD
TZOFFSETFROM:-0400
TZOFFSETTO:-0500
TZNAME:EST
DTSTART:20251102T060000
END:STANDARD
BEGIN:DAYLIGHT
TZOFFSETFROM:-0500
TZOFFSETTO:-0400
TZNAME:EDT
DTSTART:20260308T070000
END:DAYLIGHT
BEGIN:STANDARD
TZOFFSETFROM:-0400
TZOFFSETTO:-0500
TZNAME:EST
DTSTART:20261101T060000
END:STANDARD
END:VTIMEZONE
BEGIN:VEVENT
DTSTART;TZID=America/New_York:20250927T100000
DTEND;TZID=America/New_York:20250927T120000
DTSTAMP:20260423T165519
CREATED:20250927T181138Z
LAST-MODIFIED:20250927T181159Z
UID:10001566-1758967200-1758974400@delrayartisans.org
SUMMARY:CANCELED: Nature Journaling Club on 9/27 due to the weather
DESCRIPTION:Practiced by artists and naturalists alike\, nature journaling is a centuries-old exercise in refining our powers of observation\, appreciation for nature\, drawing skills\, and mindful presence. This group is open to all experience levels as we meet to sketch\, connect\, and learn together! \nDel Ray Artisans’ Nature Journaling Club meets at 10am in front of Del Ray Artisans on the final Saturday morning of the month (except not in July\, November\, and December).  \nParticipants will need to bring their own sketchbooks and supplies. We will have plenty of time for sketching in nature before gathering again at 11:30am to share our sketches and observations and discuss tips and tools for nature journaling in the wild. We hope you will join us as we strengthen our art and inquiry practice together! \nSuggested supplies: sketchbook\, pens\, pencils\, colored pencils\, watercolor pencils\, or other portable media\, and a water bottle since we will be outdoors. You may also want to bring something to sit on (folding chair or blanket). \nNOTE: This program is held outdoors and will be canceled if raining. \nThis program is FREE! Donations appreciated. For more information\, contact the coordinators: Stephanie Darlene Greenwald (stephanie@stephaniedarlene.com) and Meredith D’Amore (meredith.w.damore@gmail.com). \nView Upcoming Dates \n\nArtwork credit: Drawing by Meredith D’Amore
URL:https://delrayartisans.org/event/nature-journaling-sept-2025/
LOCATION:Del Ray Artisans Gallery\, 2704 Mount Vernon Avenue\, Alexandria\, VA\, 22301\, United States
CATEGORIES:Nature Journaling Club,Program
ATTACH;FMTTYPE=image/jpeg:https://delrayartisans.org/wp-content/uploads/2023/10/Nature-Journaling-Club-square.jpg
ORGANIZER;CN="Meredith D%E2%80%99Amore":MAILTO:meredith.w.damore@gmail.com
END:VEVENT
BEGIN:VEVENT
DTSTART;TZID=America/New_York:20250927T193000
DTEND;TZID=America/New_York:20250927T235900
DTSTAMP:20260423T165519
CREATED:20250514T201848Z
LAST-MODIFIED:20250918T200909Z
UID:10001858-1759001400-1759017540@delrayartisans.org
SUMMARY:80s Movie Nite (Register ASAP)
DESCRIPTION:Organizer: Tracy Wilkerson\nDate/Time: Saturday\, September 27\, starting at 7:30pm\nTheater Size: up to 30 movie goers\n(Register in advance) \nWhat better way to celebrate the Second Time Around art exhibit than to watch fun 80s movies\, sitting in a gallery filled with artwork made with recycled materials?!? Join us at Del Ray Artisans on Saturday\, Sept 27 for our movie marathon featuring The Goonies and Night at the Roxbury. Stop in for the first movie or stay for both! \nThere is no fee for this event\, but donations to Del Ray Artisans nonprofit are encouraged (online or at the event). Bring your own drink and popcorn\, as well as a small something to share with other movie-goers (these items will go on a movie snack table for all viewers to enjoy). \n7:30pm – get to the gallery\, find your spot\, prep your movie snacks\, and chat with other movie-goers \n7:45pm – watch The Goonies – run time 1:54 (rated PG back in 1985\, so PG-13 by today’s standards) \n9:45pm – short break\, more chatting\, prep more movie snacks \n10:10pm – watch Night at the Roxbury – run time 1:22 (PG-13) – although this is not an 80s movie\, it epitomizes everything about the 80s \nSpace is limited. Register in advance to save your seat! Movies are not suitable for young children. \nRegister Now
URL:https://delrayartisans.org/event/movie-nite-2025/
LOCATION:Del Ray Artisans Gallery\, 2704 Mount Vernon Avenue\, Alexandria\, VA\, 22301\, United States
CATEGORIES:Program
ATTACH;FMTTYPE=image/jpeg:https://delrayartisans.org/wp-content/uploads/2025/09/80s-movie-nite.jpg
ORGANIZER;CN="Tracy Wilkerson":MAILTO:recycledworks@yahoo.com
END:VEVENT
END:VCALENDAR