BEGIN:VCALENDAR
VERSION:2.0
PRODID:-//Del Ray Artisans - ECPv6.15.20//NONSGML v1.0//EN
CALSCALE:GREGORIAN
METHOD:PUBLISH
X-ORIGINAL-URL:https://delrayartisans.org
X-WR-CALDESC:Events for Del Ray Artisans
REFRESH-INTERVAL;VALUE=DURATION:PT1H
X-Robots-Tag:noindex
X-PUBLISHED-TTL:PT1H
BEGIN:VTIMEZONE
TZID:America/New_York
BEGIN:DAYLIGHT
TZOFFSETFROM:-0500
TZOFFSETTO:-0400
TZNAME:EDT
DTSTART:20240310T070000
END:DAYLIGHT
BEGIN:STANDARD
TZOFFSETFROM:-0400
TZOFFSETTO:-0500
TZNAME:EST
DTSTART:20241103T060000
END:STANDARD
BEGIN:DAYLIGHT
TZOFFSETFROM:-0500
TZOFFSETTO:-0400
TZNAME:EDT
DTSTART:20250309T070000
END:DAYLIGHT
BEGIN:STANDARD
TZOFFSETFROM:-0400
TZOFFSETTO:-0500
TZNAME:EST
DTSTART:20251102T060000
END:STANDARD
BEGIN:DAYLIGHT
TZOFFSETFROM:-0500
TZOFFSETTO:-0400
TZNAME:EDT
DTSTART:20260308T070000
END:DAYLIGHT
BEGIN:STANDARD
TZOFFSETFROM:-0400
TZOFFSETTO:-0500
TZNAME:EST
DTSTART:20261101T060000
END:STANDARD
END:VTIMEZONE
BEGIN:VEVENT
DTSTART;TZID=America/New_York:20250926T200000
DTEND;TZID=America/New_York:20250926T230000
DTSTAMP:20260423T165523
CREATED:20250616T204414Z
LAST-MODIFIED:20250818T211542Z
UID:10001892-1758916800-1758927600@delrayartisans.org
SUMMARY:80s Sing-Along & Dance Party
DESCRIPTION:Do you like 80s music? Do you like to sing or dance to 80s music? Then this is the event for you! \nJoin a bunch of your fellow 80s fans and sing OR dance OR both the night away. We’ll be playing popular 80s music and showing the videos on a screen—lite food and non-alcoholic beverages will be available. Dressing up for the 80s is encouraged! \nSuggested donation is $10 (or more) per person – all donations go to Del Ray Artisans nonprofit to support this and other awesome programs and events. \nAlso enjoy the Second Time Around art exhibit before it closes down on Saturday night. We’ll share small flashlights so you can check out all the awesome recycled materials artwork in more detail while singing and dancing. \nRegister Now
URL:https://delrayartisans.org/event/80s-sing-along-dance-party/
LOCATION:Del Ray Artisans Gallery\, 2704 Mount Vernon Avenue\, Alexandria\, VA\, 22301\, United States
CATEGORIES:Program
ATTACH;FMTTYPE=image/jpeg:https://delrayartisans.org/wp-content/uploads/2025/08/80s-sing-along-square.jpg
ORGANIZER;CN="Tracy Wilkerson%2C Programs Director":MAILTO:programs@delrayartisans.org
END:VEVENT
END:VCALENDAR