BEGIN:VCALENDAR
VERSION:2.0
PRODID:-//Del Ray Artisans - ECPv6.15.20//NONSGML v1.0//EN
CALSCALE:GREGORIAN
METHOD:PUBLISH
X-ORIGINAL-URL:https://delrayartisans.org
X-WR-CALDESC:Events for Del Ray Artisans
REFRESH-INTERVAL;VALUE=DURATION:PT1H
X-Robots-Tag:noindex
X-PUBLISHED-TTL:PT1H
BEGIN:VTIMEZONE
TZID:America/New_York
BEGIN:DAYLIGHT
TZOFFSETFROM:-0500
TZOFFSETTO:-0400
TZNAME:EDT
DTSTART:20240310T070000
END:DAYLIGHT
BEGIN:STANDARD
TZOFFSETFROM:-0400
TZOFFSETTO:-0500
TZNAME:EST
DTSTART:20241103T060000
END:STANDARD
BEGIN:DAYLIGHT
TZOFFSETFROM:-0500
TZOFFSETTO:-0400
TZNAME:EDT
DTSTART:20250309T070000
END:DAYLIGHT
BEGIN:STANDARD
TZOFFSETFROM:-0400
TZOFFSETTO:-0500
TZNAME:EST
DTSTART:20251102T060000
END:STANDARD
BEGIN:DAYLIGHT
TZOFFSETFROM:-0500
TZOFFSETTO:-0400
TZNAME:EDT
DTSTART:20260308T070000
END:DAYLIGHT
BEGIN:STANDARD
TZOFFSETFROM:-0400
TZOFFSETTO:-0500
TZNAME:EST
DTSTART:20261101T060000
END:STANDARD
END:VTIMEZONE
BEGIN:VEVENT
DTSTART;TZID=America/New_York:20250918T183000
DTEND;TZID=America/New_York:20250918T203000
DTSTAMP:20260423T165522
CREATED:20250514T201327Z
LAST-MODIFIED:20250716T212307Z
UID:10001857-1758220200-1758227400@delrayartisans.org
SUMMARY:Jewelry Fix-It Nite
DESCRIPTION:Organizer: Tracy WilkersonDate/Time: Thursday\, September 18 from 6:30-8:30pm (in half-hour appointments) \nDo you have a bracelet/necklace/earrings that need fixing? Maybe your piece is missing a clasp or a hook or needs to be longer or shorter. If so\, mark September 18 between 6:30-8:30pm on your calendar and RSVP. \nHere’s how it works: \n\nRegister for a half-hour appointment.\nBring in 1-3 jewelry items that need fixing. Attending jewelers work in metal so they can fix a gold or sterling silver piece\, but the replacement clasp or loop will not be in the same metal.\nYou will be paired with one of our on-site jewelry artists who will quickly assess what your item needs and repair it. If the piece cannot be repaired on Fix-It Nite\, the artist will discuss repair options with you. You can then choose to commission them to fix your piece for delivery at a later date.\nPlease tip your jewelry repair artist for fixing your item so you can wear it again!  20% of these donations go to Del Ray Artisans.\nEnjoy wearing your jewelry again!\n\nRegistration: This event is free to the public but you must register for a half-hour appointment to help maintain an even flow of people throughout the evening. \nTip/Donation: While this event is free to you\, please plan on tipping the artist who fixes your jewelry. These jewelers are supplying their materials and tools in addition to their time and expertise for this event. We ask that you tip artists in cash. Please also consider making a donation to Del Ray Artisans nonprofit online or at the event. \nRegister Now
URL:https://delrayartisans.org/event/jewelry-fix-it-nite-2025/
LOCATION:Del Ray Artisans Gallery\, 2704 Mount Vernon Avenue\, Alexandria\, VA\, 22301\, United States
CATEGORIES:Program
ATTACH;FMTTYPE=image/jpeg:https://delrayartisans.org/wp-content/uploads/2022/05/jewelry-fix-it-nite.jpg
ORGANIZER;CN="Tracy Wilkerson":MAILTO:recycledworks@yahoo.com
END:VEVENT
END:VCALENDAR