BEGIN:VCALENDAR
VERSION:2.0
PRODID:-//Del Ray Artisans - ECPv6.15.20//NONSGML v1.0//EN
CALSCALE:GREGORIAN
METHOD:PUBLISH
X-ORIGINAL-URL:https://delrayartisans.org
X-WR-CALDESC:Events for Del Ray Artisans
REFRESH-INTERVAL;VALUE=DURATION:PT1H
X-Robots-Tag:noindex
X-PUBLISHED-TTL:PT1H
BEGIN:VTIMEZONE
TZID:America/New_York
BEGIN:DAYLIGHT
TZOFFSETFROM:-0500
TZOFFSETTO:-0400
TZNAME:EDT
DTSTART:20240310T070000
END:DAYLIGHT
BEGIN:STANDARD
TZOFFSETFROM:-0400
TZOFFSETTO:-0500
TZNAME:EST
DTSTART:20241103T060000
END:STANDARD
BEGIN:DAYLIGHT
TZOFFSETFROM:-0500
TZOFFSETTO:-0400
TZNAME:EDT
DTSTART:20250309T070000
END:DAYLIGHT
BEGIN:STANDARD
TZOFFSETFROM:-0400
TZOFFSETTO:-0500
TZNAME:EST
DTSTART:20251102T060000
END:STANDARD
BEGIN:DAYLIGHT
TZOFFSETFROM:-0500
TZOFFSETTO:-0400
TZNAME:EDT
DTSTART:20260308T070000
END:DAYLIGHT
BEGIN:STANDARD
TZOFFSETFROM:-0400
TZOFFSETTO:-0500
TZNAME:EST
DTSTART:20261101T060000
END:STANDARD
END:VTIMEZONE
BEGIN:VEVENT
DTSTART;TZID=America/New_York:20250908T140000
DTEND;TZID=America/New_York:20250908T160000
DTSTAMP:20260423T182544
CREATED:20241030T201832Z
LAST-MODIFIED:20250106T133131Z
UID:10001584-1757340000-1757347200@delrayartisans.org
SUMMARY:Partners in Art (FULL)
DESCRIPTION:The afternoon program is FULL. If you would like to join the evening program\, contact Michele Reday Cook (mredaycook@gmail.com) for information and registration. \nNeed support reaching your art related goals? Join this collegial group of artists to share your goals and get feedback on artwork. Monthly meetings include discussions on exhibit opportunities\, the creative process and the local art scene. Artist can bring 1-2 works – complete or in progress – for feedback. All skill levels and media welcome. \nThis program is free\, but donations ($1-3) are greatly appreciated. Contact Mila Mateu (milaenartes@gmail.com) or Suzanne Tillman (zannet@verizon.net) with questions about the afternoon program. \nView Upcoming Meetings
URL:https://delrayartisans.org/event/partners-in-art-2025/2025-09-08/
LOCATION:Del Ray Artisans Gallery\, 2704 Mount Vernon Avenue\, Alexandria\, VA\, 22301\, United States
CATEGORIES:Partners in Art,Program
ATTACH;FMTTYPE=image/jpeg:https://delrayartisans.org/wp-content/uploads/2016/05/8631736049_f02bbfa92e_z.jpg
ORGANIZER;CN="Suzanne Tillman":MAILTO:zannet@verizon.net
END:VEVENT
BEGIN:VEVENT
DTSTART;TZID=America/New_York:20250908T183000
DTEND;TZID=America/New_York:20250908T203000
DTSTAMP:20260423T182544
CREATED:20250621T224116Z
LAST-MODIFIED:20250904T142704Z
UID:10001903-1757356200-1757363400@delrayartisans.org
SUMMARY:Intro to Acrylic Paint Pour Workshop (Register by 9/4)
DESCRIPTION:Instructor: Ditas Katague\nDate/Time: Monday\, September 8\, 6:30-8:30pm\nCost: $40 Del Ray Artisans member / $50 Non-member; plus a $15 Supply Fee\nClass size: 6-12 participants\n(Register by September 4) \nJoin us for a creative journey into acrylic “dirty pour” technique! In this 2-hour workshop at Del Ray Artisans\, you’ll learn the art of creating mesmerizing abstract paintings using the fluidity of acrylic paints. Ditas Katague\, local painter\, jewelry maker and yoga instructor will guide you through the layered cup “dirty pouring” method\, to achieve stunning\, one-of-a-kind artworks. \nWhether you’re a beginner or looking to refine your pouring skills\, this workshop offers a relaxed and supportive environment for exploration and creativity. You’ll leave your finished artwork to set at the gallery at the end of the workshop\, and pick it up during gallery hours later in the week. \nOption: For a finishing touch\, resin your masterpiece during the Playing with Resin workshop taught by Tracy Wilkerson on Monday\, September 22\, 6-9pm and save $10 when you register for both workshops at the same time! (UPDATE: The resin workshop is sold out. This option is no longer available.) \nThis workshop is designed for adults. Children ages 16-17 may participate with parental permission. Children ages 12-15 may participate only with a co-participating adult guardian (guardian must contact instructor in advance). \nRegister Now \n\nView other upcoming workshops\, information about the facility and policies on the Upcoming Workshops page.
URL:https://delrayartisans.org/event/paint-pour-09-2025/
LOCATION:Del Ray Artisans Gallery\, 2704 Mount Vernon Avenue\, Alexandria\, VA\, 22301\, United States
CATEGORIES:Program,Workshop
ATTACH;FMTTYPE=image/jpeg:https://delrayartisans.org/wp-content/uploads/2025/04/PaintPour-DitasKatague-square.jpg
END:VEVENT
END:VCALENDAR