BEGIN:VCALENDAR
VERSION:2.0
PRODID:-//Del Ray Artisans - ECPv6.15.20//NONSGML v1.0//EN
CALSCALE:GREGORIAN
METHOD:PUBLISH
X-WR-CALNAME:Del Ray Artisans
X-ORIGINAL-URL:https://delrayartisans.org
X-WR-CALDESC:Events for Del Ray Artisans
REFRESH-INTERVAL;VALUE=DURATION:PT1H
X-Robots-Tag:noindex
X-PUBLISHED-TTL:PT1H
BEGIN:VTIMEZONE
TZID:America/New_York
BEGIN:DAYLIGHT
TZOFFSETFROM:-0500
TZOFFSETTO:-0400
TZNAME:EDT
DTSTART:20240310T070000
END:DAYLIGHT
BEGIN:STANDARD
TZOFFSETFROM:-0400
TZOFFSETTO:-0500
TZNAME:EST
DTSTART:20241103T060000
END:STANDARD
BEGIN:DAYLIGHT
TZOFFSETFROM:-0500
TZOFFSETTO:-0400
TZNAME:EDT
DTSTART:20250309T070000
END:DAYLIGHT
BEGIN:STANDARD
TZOFFSETFROM:-0400
TZOFFSETTO:-0500
TZNAME:EST
DTSTART:20251102T060000
END:STANDARD
BEGIN:DAYLIGHT
TZOFFSETFROM:-0500
TZOFFSETTO:-0400
TZNAME:EDT
DTSTART:20260308T070000
END:DAYLIGHT
BEGIN:STANDARD
TZOFFSETFROM:-0400
TZOFFSETTO:-0500
TZNAME:EST
DTSTART:20261101T060000
END:STANDARD
END:VTIMEZONE
BEGIN:VEVENT
DTSTART;TZID=America/New_York:20250119T130000
DTEND;TZID=America/New_York:20250119T180000
DTSTAMP:20260424T204507
CREATED:20250118T233046Z
LAST-MODIFIED:20250119T172905Z
UID:10001757-1737291600-1737309600@delrayartisans.org
SUMMARY:Gallery Open 1-6pm Today (1/19)
DESCRIPTION:UPDATE at 12:30pm: The National Weather Service has decreased expected snow totals\, now anticipating closer to 1 inch of accumulation rather than the higher range initially expected. This adjustment is due to the later-than-expected arrival of the arctic front\, which may bring more rain or a rain/snow mix before transitioning to snow later today. \nThe gallery will be OPEN on Sunday\, January 19 from 1pm-6pm. The City of Alexandria is under a Winter Weather Advisory on Sunday\, January 19 from 7am-7pm.
URL:https://delrayartisans.org/event/gallery-hours-2024-01-19/
LOCATION:Del Ray Artisans Gallery\, 2704 Mount Vernon Avenue\, Alexandria\, VA\, 22301\, United States
CATEGORIES:Program
END:VEVENT
END:VCALENDAR