BEGIN:VCALENDAR
VERSION:2.0
PRODID:-//Del Ray Artisans - ECPv6.15.20//NONSGML v1.0//EN
CALSCALE:GREGORIAN
METHOD:PUBLISH
X-WR-CALNAME:Del Ray Artisans
X-ORIGINAL-URL:https://delrayartisans.org
X-WR-CALDESC:Events for Del Ray Artisans
REFRESH-INTERVAL;VALUE=DURATION:PT1H
X-Robots-Tag:noindex
X-PUBLISHED-TTL:PT1H
BEGIN:VTIMEZONE
TZID:America/New_York
BEGIN:DAYLIGHT
TZOFFSETFROM:-0500
TZOFFSETTO:-0400
TZNAME:EDT
DTSTART:20230312T070000
END:DAYLIGHT
BEGIN:STANDARD
TZOFFSETFROM:-0400
TZOFFSETTO:-0500
TZNAME:EST
DTSTART:20231105T060000
END:STANDARD
BEGIN:DAYLIGHT
TZOFFSETFROM:-0500
TZOFFSETTO:-0400
TZNAME:EDT
DTSTART:20240310T070000
END:DAYLIGHT
BEGIN:STANDARD
TZOFFSETFROM:-0400
TZOFFSETTO:-0500
TZNAME:EST
DTSTART:20241103T060000
END:STANDARD
BEGIN:DAYLIGHT
TZOFFSETFROM:-0500
TZOFFSETTO:-0400
TZNAME:EDT
DTSTART:20250309T070000
END:DAYLIGHT
BEGIN:STANDARD
TZOFFSETFROM:-0400
TZOFFSETTO:-0500
TZNAME:EST
DTSTART:20251102T060000
END:STANDARD
END:VTIMEZONE
BEGIN:VEVENT
DTSTART;TZID=America/New_York:20240805T140000
DTEND;TZID=America/New_York:20240805T160000
DTSTAMP:20260425T145229
CREATED:20240519T153830Z
LAST-MODIFIED:20240519T153831Z
UID:10001161-1722866400-1722873600@delrayartisans.org
SUMMARY:Partners in Art (FULL)
DESCRIPTION:The afternoon program is FULL. If you would like to join the evening program\, contact Michele Reday Cook (mredaycook@gmail.com) for information and registration. \nNeed support reaching your art related goals? Join this collegial group of artists to share your goals and get feedback on artwork. Monthly meetings include discussions on exhibit opportunities\, the creative process and the local art scene. Artist can bring 1-2 works – complete or in progress – for feedback. All skill levels and media welcome. \nThis program is free\, but donations ($1-3) are greatly appreciated. Contact Mila Mateu (milaenartes@gmail.com) or Suzanne Tillman (zannet@verizon.net) with questions about the afternoon program. \nView Upcoming Meetings
URL:https://delrayartisans.org/event/partners-in-art-2024-2/2024-08-05/
LOCATION:Del Ray Artisans Gallery\, 2704 Mount Vernon Avenue\, Alexandria\, VA\, 22301\, United States
CATEGORIES:Partners in Art,Program
ATTACH;FMTTYPE=image/jpeg:https://delrayartisans.org/wp-content/uploads/2016/05/8631736049_f02bbfa92e_z.jpg
ORGANIZER;CN="Suzanne Tillman":MAILTO:zannet@verizon.net
END:VEVENT
BEGIN:VEVENT
DTSTART;TZID=America/New_York:20240805T190000
DTEND;TZID=America/New_York:20240805T210000
DTSTAMP:20260425T145229
CREATED:20240613T211556Z
LAST-MODIFIED:20241006T144425Z
UID:10001428-1722884400-1722891600@delrayartisans.org
SUMMARY:CANCELLED: First Crochet Hat: “Just-Like-That Hat” (Two 2-hour classes; Register by 8/1)
DESCRIPTION:Instructor: Dawn Zurell\, dmzurell@gmail.com\nDate/Time: Mondays\, August 5 and 12\, 7-9pm\nCost: $70 Del Ray Artisans member / $80 Non-member; plus students must bring supplies\nClass size: 2-6 participants\n(Register by August 1) \nAre you ready to explore beyond single crochet? This class will get you there! You will learn to work in the round and create a few new stitches for this fun project\, “Just-Like-That Hat” by Jenn Wolfe Kaiser. You’ll have a new hat in just two weeks (2 sessions\, 2 hours each). \nSkills required: Basic crochet knowledge\nSkills learned: Working in the round\, half double crochet\, double crochet\, front and back post stitches\, increases\, decreases. \nMaterials you must bring to class: \n\n150 yds of any bulky weight yarn (lighter colors or multi-colored yarns are easier to work with)\nUS K (6.5mm) crochet hook\ntapestry needle\nscissors\n\nInstructor will provide a printed copy of the pattern. \nRegister Now \n\nView other upcoming workshops\, information about the facility and policies on the Upcoming Workshops page.
URL:https://delrayartisans.org/event/first-crochet-hat-august-2024/
LOCATION:Del Ray Artisans Gallery\, 2704 Mount Vernon Avenue\, Alexandria\, VA\, 22301\, United States
CATEGORIES:Creative Summer Programs,Program,Workshop
ATTACH;FMTTYPE=image/jpeg:https://delrayartisans.org/wp-content/uploads/2024/06/Crochet-hat-by-Dawn-Zurell.jpg
ORGANIZER;CN="Erica Hughes%2C Programs Director":MAILTO:programs@delrayartisans.org
END:VEVENT
END:VCALENDAR