BEGIN:VCALENDAR
VERSION:2.0
PRODID:-//Del Ray Artisans - ECPv6.15.20//NONSGML v1.0//EN
CALSCALE:GREGORIAN
METHOD:PUBLISH
X-ORIGINAL-URL:https://delrayartisans.org
X-WR-CALDESC:Events for Del Ray Artisans
REFRESH-INTERVAL;VALUE=DURATION:PT1H
X-Robots-Tag:noindex
X-PUBLISHED-TTL:PT1H
BEGIN:VTIMEZONE
TZID:America/New_York
BEGIN:DAYLIGHT
TZOFFSETFROM:-0500
TZOFFSETTO:-0400
TZNAME:EDT
DTSTART:20180311T070000
END:DAYLIGHT
BEGIN:STANDARD
TZOFFSETFROM:-0400
TZOFFSETTO:-0500
TZNAME:EST
DTSTART:20181104T060000
END:STANDARD
BEGIN:DAYLIGHT
TZOFFSETFROM:-0500
TZOFFSETTO:-0400
TZNAME:EDT
DTSTART:20190310T070000
END:DAYLIGHT
BEGIN:STANDARD
TZOFFSETFROM:-0400
TZOFFSETTO:-0500
TZNAME:EST
DTSTART:20191103T060000
END:STANDARD
BEGIN:DAYLIGHT
TZOFFSETFROM:-0500
TZOFFSETTO:-0400
TZNAME:EDT
DTSTART:20200308T070000
END:DAYLIGHT
BEGIN:STANDARD
TZOFFSETFROM:-0400
TZOFFSETTO:-0500
TZNAME:EST
DTSTART:20201101T060000
END:STANDARD
END:VTIMEZONE
BEGIN:VEVENT
DTSTART;TZID=America/New_York:20190616T130000
DTEND;TZID=America/New_York:20190616T160000
DTSTAMP:20260425T000724
CREATED:20230410T143715Z
LAST-MODIFIED:20230410T161133Z
UID:10000887-1560690000-1560700800@delrayartisans.org
SUMMARY:Canceled: Magic of Macro Photography
DESCRIPTION:This workshop has been canceled. You may be interested in the Make Photographic Art workshop on July 13. \nInstructor: Lori Lankford\nDates: Sunday\, June 16 from 1-4pm\nClass size: 3-8 participants\n(Register by June 13) \nIt doesn’t take magic to get a great macro photograph. In this workshop students gain an introduction into the world of macro photography. A perfect combination of instruction with a hands on photo shooting experience. Great for beginner through advanced photographers. Participants will need to bring a fully charged camera. All cameras are welcome\, however some techniques are only applicable with a digital camera. \nCourse outline: \n\nBasics of Macro Photography\nTechnical Instruction to ensure a crisp\, focused image\nMacro composition\nColor and how to alter it based on your vision\nCreative techniques Macro editing\n\n. \n\nThis workshop is a part of Del Ray Artisans’ Creative Summer Programs. Schedule your own “stay-cation” this summer with artful workshops! View all upcoming programs in this series\, information about the facility\, and policies on the Creative Summer Programs page.
URL:https://delrayartisans.org/event/macro-photography/
LOCATION:Del Ray Artisans Gallery\, 2704 Mount Vernon Avenue\, Alexandria\, VA\, 22301\, United States
CATEGORIES:Creative Summer Programs,Program,Workshop
ATTACH;FMTTYPE=image/jpeg:https://delrayartisans.org/wp-content/uploads/1992/12/event-archive-image.jpg
END:VEVENT
BEGIN:VEVENT
DTSTART;TZID=America/New_York:20190616T100000
DTEND;TZID=America/New_York:20190616T120000
DTSTAMP:20260425T000724
CREATED:20230410T143713Z
LAST-MODIFIED:20230410T161120Z
UID:10000886-1560679200-1560686400@delrayartisans.org
SUMMARY:Sold out: SmartPhone Photography Workshop
DESCRIPTION:This workshop is sold out. \nInstructor: Lisa McBride\nDates: Sunday\, June 16 from 10am-12noon\nClass size: 2-7 participants\n(Register by June 14) \nLearn to use the camera that’s always with you and go beyond taking a simple snapshot to creating a photograph that is an artistic expression unique to your vision. We’ll start with the basics of learning to use a smartphone camera and review the settings for optimal image capture to pro tips and techniques of exposure\, composition and focus that produce the best results. We’ll explore the Del Ray neighborhood and practice what we’ve learned. \nTopics include: \n\nProper techniques and settings for smartphone image capture\nTips and techniques for using phone’s native camera\nLearn exciting capture and editing apps\nHands-on capture and editing\nImage critique and feedback\n\nRequirements: \n\nParticipants will need to bring a fully charged smartphone.\nCharger designed for that smart phone as batteries can drain quickly.\nBe able to walk 1 mile outside on uneven surfaces.\nAvailable space to store photographs on smartphone.\n\n. \n\nThis workshop is a part of Del Ray Artisans’ Creative Summer Programs. Schedule your own “stay-cation” this summer with artful workshops! View all upcoming programs in this series\, information about the facility\, and policies on the Creative Summer Programs page.
URL:https://delrayartisans.org/event/smartphone-photography/
LOCATION:Del Ray Artisans Gallery\, 2704 Mount Vernon Avenue\, Alexandria\, VA\, 22301\, United States
CATEGORIES:Creative Summer Programs,Program,Workshop
ATTACH;FMTTYPE=image/jpeg:https://delrayartisans.org/wp-content/uploads/1992/12/event-archive-image.jpg
END:VEVENT
BEGIN:VEVENT
DTSTART;TZID=America/New_York:20190615T100000
DTEND;TZID=America/New_York:20190615T120000
DTSTAMP:20260425T000724
CREATED:20230410T143711Z
LAST-MODIFIED:20230410T161057Z
UID:10000885-1560592800-1560600000@delrayartisans.org
SUMMARY:Painting the Chakra Energies Workshop
DESCRIPTION:Instructor: Nancy RamseyDate: Saturday\, June 15 from 10am-12pm\nClass size: 2-12 participants\n(Register by June 14; Walk-ins welcome\, space & supplies permitting.) \nChakra Energies by Nancy Ramsey\nParticipants will use a variety of tools for layering and taking away paint to create works in acrylic that represent the energies of the chakras. The process of adding and taking away the different colors will create unique works reflecting each student’s journey with the chakras. \nParticipants will practice layering wet acrylic paints on paper. Then\, will explore a variety of tools for etching into the paint. After exploring the possibilities\, they will choose some favorite techniques to use on their canvases. We will discuss the chakras\, pausing to add a new layer of color after each one. As they add each layer\, participants can consider their own strengths and needs and consider setting intentions as they add and subtract color. The finished abstraction can serve as a visual reminder of our self reflection and intentions going forth. \nEach participant will take home: \n\nA 12? x 12? acrylic painting on canvas\nFour mini paintings on paper\nA handout with information about the chakra colors\n\n. \n\nView other upcoming workshops\, information about the facility\, and policies on the Upcoming Workshops page.
URL:https://delrayartisans.org/event/painting-the-chakras/
LOCATION:Del Ray Artisans Gallery\, 2704 Mount Vernon Avenue\, Alexandria\, VA\, 22301\, United States
CATEGORIES:Creative Summer Programs,Program,Workshop
ATTACH;FMTTYPE=image/jpeg:https://delrayartisans.org/wp-content/uploads/1992/12/event-archive-image.jpg
END:VEVENT
BEGIN:VEVENT
DTSTART;TZID=America/New_York:20190613T183000
DTEND;TZID=America/New_York:20190613T203000
DTSTAMP:20260425T000724
CREATED:20230410T143709Z
LAST-MODIFIED:20230410T152502Z
UID:10000884-1560450600-1560457800@delrayartisans.org
SUMMARY:Chakras Revealed
DESCRIPTION:Instructor: David Kosar\, Yoga in Daily LifeDate: Thursday\, June 13 from 6:30-8:30pm\nClass size: 5-20 participants\n(Register by June 11. Walk-ins are welcome\, space permitting.) \nChakras are the energy centers of the body. Awakening and accessing these inner power centers is accomplished through yoga. Through them\, we get in touch with our own potential; the spiritual powers of the cosmos; recognize our original nature\, our true self; and improve our own well-being\, harmony\, and happiness. \nThe instructor will give an overview of the primary chakras and how they help in life\, especially those in creative fields; then participants will practice asanas (exercises)\, pranayama (breathing technique)\, and meditation specific to a selected chakra. \nWith this workshop\, you will receive the beautifully designed and written\, 270-page\, hardbound book\, “The Hidden Powers in Humans: Chakras and Kundalini” by Paramhans Swami Maheshwarnanda\, founder of Yoga in Daily Life. \n. \n\nView other upcoming workshops\, information about the facility\, and policies on the Upcoming Workshops page.
URL:https://delrayartisans.org/event/chakras-revealed/
LOCATION:Del Ray Artisans Gallery\, 2704 Mount Vernon Avenue\, Alexandria\, VA\, 22301\, United States
CATEGORIES:Creative Summer Programs,Program,Workshop
ATTACH;FMTTYPE=image/jpeg:https://delrayartisans.org/wp-content/uploads/1992/12/event-archive-image.jpg
END:VEVENT
BEGIN:VEVENT
DTSTART;TZID=America/New_York:20190612T183000
DTEND;TZID=America/New_York:20190612T213000
DTSTAMP:20260425T000724
CREATED:20230409T161155Z
LAST-MODIFIED:20230409T164709Z
UID:10000795-1560364200-1560375000@delrayartisans.org
SUMMARY:Life Drawing - Long Poses
DESCRIPTION:Artwork by Linda Lowery \nLooking for a chance to hone your figure drawing skills? Del Ray Artisans offers a range of open life drawing sessions for just this purpose. Both nude and clothed models are featured. (Models will be nude unless otherwise noted.) These sessions operate on a drop-in basis so there is no need to register in advance. Bring your supplies and join us at the gallery to draw or paint from our live models. We don’t supply easels but you are welcome to bring your own if you want to use one. Please no acrylics or oils; pastels\, watercolor and ink are permissible. All skill levels are welcome. \nThe fee for each three-hour session is $10 for DRA members and $12 for non-members. Two-hour sessions are $8 for members and $10 for non-members. \nLong Pose Sessions\nIf you want to spend an extended amount of time on a pose\, come to our long pose sessions. These sessions are generally composed of two long poses with perhaps a few warm-ups at the start. \nView Upcoming Sessions
URL:https://delrayartisans.org/event/life-drawing-long-poses-csp-2019/2019-06-12/
LOCATION:Del Ray Artisans Gallery\, 2704 Mount Vernon Avenue\, Alexandria\, VA\, 22301\, United States
CATEGORIES:Creative Summer Programs,Life Drawing,Program
ATTACH;FMTTYPE=image/jpeg:https://delrayartisans.org/wp-content/uploads/2016/05/artwork-by-linda-lowery.jpg
END:VEVENT
BEGIN:VEVENT
DTSTART;TZID=America/New_York:20190612T140000
DTEND;TZID=America/New_York:20190612T170000
DTSTAMP:20260425T000724
CREATED:20230410T143705Z
LAST-MODIFIED:20230410T152424Z
UID:10000883-1560348000-1560358800@delrayartisans.org
SUMMARY:Life Drawing - Short/Long Poses
DESCRIPTION:Looking for a chance to hone your figure drawing skills? Del Ray Artisans offers a range of open life drawing sessions for just this purpose. Both nude and clothed models are featured. (Models will be nude unless otherwise noted.) These sessions operate on a drop-in basis so there is no need to register in advance. Bring your supplies and join us at the gallery to draw or paint from our live models. We don’t supply easels but you are welcome to bring your own if you want to use one. Please no acrylics or oils; pastels\, watercolor and ink are permissible. All skill levels are welcome. \nThe fee for each three-hour session is $10 for DRA members and $12 for non-members. Two-hour sessions are $8 for members and $10 for non-members. \nShort/Long Pose Sessions\nThe three-hour short/long pose sessions start with some short 1 to 5-minute warm-up poses and progressively move into longer poses lasting 10 to 45 minutes. These sessions provide a great opportunity to refine your drawing and observation skills. \n\nArtwork credit: Drawing by Linda Lowery
URL:https://delrayartisans.org/event/life-drawing-short-long-csp-2019/2019-06-12/
LOCATION:Del Ray Artisans Gallery\, 2704 Mount Vernon Avenue\, Alexandria\, VA\, 22301\, United States
CATEGORIES:Creative Summer Programs,Life Drawing,Program
ATTACH;FMTTYPE=image/jpeg:https://delrayartisans.org/wp-content/uploads/2019/10/LD-Short-Long-Lowery-Linda.jpg
END:VEVENT
BEGIN:VEVENT
DTSTART;TZID=America/New_York:20190610T140000
DTEND;TZID=America/New_York:20190610T160000
DTSTAMP:20260425T000724
CREATED:20230410T143658Z
LAST-MODIFIED:20230410T152532Z
UID:10000881-1560175200-1560182400@delrayartisans.org
SUMMARY:Partners in Art (June 2019)
DESCRIPTION:Need support reaching your art related goals? Join this collegial group of artists to share your goals and get feedback on artwork. Monthly meetings include discussions on exhibit opportunities\, the creative process and the local art scene. Artist can bring 1-3 works – complete or in progress – for feedback. All skill levels and media welcome. Donations ($1-3) greatly appreciated. Meetings held at the Del Ray Artisans gallery. Members and non-members invited. \nContact Katherine Rand (katherine@katherinerand.com) or Suzanne Tillman (zannet@verizon.net) with questions. \nView Upcoming Meetings
URL:https://delrayartisans.org/event/partners-in-art-june-2019/
LOCATION:Del Ray Artisans Gallery\, 2704 Mount Vernon Avenue\, Alexandria\, VA\, 22301\, United States
CATEGORIES:Creative Summer Programs,Partners in Art,Program
ATTACH;FMTTYPE=image/jpeg:https://delrayartisans.org/wp-content/uploads/1992/12/event-archive-image.jpg
END:VEVENT
BEGIN:VEVENT
DTSTART;TZID=America/New_York:20190609T140000
DTEND;TZID=America/New_York:20190609T160000
DTSTAMP:20260425T000724
CREATED:20230410T143655Z
LAST-MODIFIED:20230410T152543Z
UID:10000880-1560088800-1560096000@delrayartisans.org
SUMMARY:Urban Sketchbooking (June 2019)
DESCRIPTION:Meets second Sundays from November-June \nUrban Sketchbooking emphasizes storytelling that conveys a sense of place or a moment in time through drawings completed from direct observations. This Del Ray meeting operates on a drop-in basis during afternoons of the second Sunday of each month\, so there is no need to register in advance. Bring your supplies and join us at the cafe to produce still life\, figure\, or architecture subjects in your sketchbook. Participants will spend some time putting their skills into practice and then reconvene for a review of finished works. The fee for each 2-hour session is $8 for members and $10 for non-members. \nThe June 9th meetup will be at Nectar Del Ray (106 Hume Avenue\, Alexandria\, VA 22301).
URL:https://delrayartisans.org/event/urban-sketchbooking-june-2019/
LOCATION:VA
CATEGORIES:Creative Summer Programs,Program,Urban Sketchers
ATTACH;FMTTYPE=image/jpeg:https://delrayartisans.org/wp-content/uploads/1992/12/event-archive-image.jpg
END:VEVENT
BEGIN:VEVENT
DTSTART;TZID=America/New_York:20190609T130000
DTEND;TZID=America/New_York:20190609T150000
DTSTAMP:20260425T000724
CREATED:20230410T143653Z
LAST-MODIFIED:20230410T160817Z
UID:10000879-1560085200-1560092400@delrayartisans.org
SUMMARY:Nature Journaling in Del Ray Artisans Garden
DESCRIPTION:Registration is now closed. \nInstructor: Margaret Wohler\nDates: Sunday\, June 9 from 1-3pm\nClass size: 2-22 participants\n(Register by June 7) \nEnjoy the flowers in Del Ray Artisans garden in a new way: by drawing them! You will learn about and observe the plant structures and pollinators as we draw. You will also learn how to set up a field sketch page and methods to learn about natural subjects through drawing. \nA field art kit (includes sketchbook\, pencil\, eraser\, sharpener\, and set of watercolor pencils) is available for $20\, or you may bring your own sketchbook and art supplies. \n. \n\nThis workshop is a part of Del Ray Artisans’ Creative Summer Programs. Schedule your own “stay-cation” this summer with artful workshops! View all upcoming programs in this series\, information about the facility\, and policies on the Creative Summer Programs page.
URL:https://delrayartisans.org/event/nature-journaling-june-2019/
LOCATION:Del Ray Artisans Gallery\, 2704 Mount Vernon Avenue\, Alexandria\, VA\, 22301\, United States
CATEGORIES:Creative Summer Programs,Program,Workshop
ATTACH;FMTTYPE=image/jpeg:https://delrayartisans.org/wp-content/uploads/1992/12/event-archive-image.jpg
END:VEVENT
BEGIN:VEVENT
DTSTART;TZID=America/New_York:20190608T100000
DTEND;TZID=America/New_York:20190608T233000
DTSTAMP:20260425T000724
CREATED:20230410T143647Z
LAST-MODIFIED:20230410T152626Z
UID:10000878-1559988000-1560036600@delrayartisans.org
SUMMARY:Workshop: Meditation\, Breath\, and Sound with Dante
DESCRIPTION:Instructor Dante Baker\nInstructor: Dante Baker\nDate: Saturday\, June 8 from 10-11:30am\nClass size: 5-20 participants\n(Register by June 7. Walk-ins allowed\, space permitting.) \nUsing crystal and Tibetan bowls\, Dante will lead a soothing asana and breathwork class to prepare the body for sound meditation. In the last hour\, Dante will conclude with a soothing and unique exploration of the chakra energy points through sound vibration. \nIn this workshop\, sound healing is the use of tuned\, deep-vibrational instruments such as crystal and Tibetan bowls during healing and meditation\, which can balance dissonant frequencies in the body and bring them into harmony. The tones and frequencies the bowls carry affect us in specific ways-each tone activates a different energy center\, chakra\, and organ system within the body. \n. \n\nView other upcoming workshops\, information about the facility\, and policies on the Upcoming Workshops page.
URL:https://delrayartisans.org/event/meditation-with-dante/
LOCATION:Del Ray Artisans Gallery\, 2704 Mount Vernon Avenue\, Alexandria\, VA\, 22301\, United States
CATEGORIES:Creative Summer Programs,Program,Workshop
ATTACH;FMTTYPE=image/jpeg:https://delrayartisans.org/wp-content/uploads/1992/12/event-archive-image.jpg
END:VEVENT
BEGIN:VEVENT
DTSTART;TZID=America/New_York:20190607T090000
DTEND;TZID=America/New_York:20190607T130000
DTSTAMP:20260425T000724
CREATED:20230410T143642Z
LAST-MODIFIED:20230410T152652Z
UID:10000876-1559898000-1559912400@delrayartisans.org
SUMMARY:Photos in the Garden Workshop
DESCRIPTION:Registration is now closed. You must have registered by June 2 to attend. \nInstructor: Lori Lankford\nDates: Friday\, June 7 from 9 AM to 1 PM\nClass size: 3-12 participants\n(Register by June 2) \nAlthough you may have walked a location numerous times\, you’ll suddenly notice new details about your surroundings when you’re on a photowalk with a camera in your hand. In this class we will take a photowalk looking for patterns\, textures\, reflections\, shadows\, architectural details\, plants\, insects and more. \nStudents must bring their own camera.  \nStudents are responsible for providing their own transportation. The workshop begins at River Farm Gardens (7931 E Boulevard Dr\, Alexandria VA 22308) at 9am. We will depart River Farm Gardens at 11am and meet back at Del Ray Artisans (2704 Mount Vernon Avenue\, Alexandria VA 22301) for the 2nd half of the program. \nPlease bring a lunch or snack. We will break from 11:30am-12pm to eat lunch. The last part of the workshop will be a photo review\, editing tips\, and discussion by the instructor. \n. \n\nThis workshop is a part of Del Ray Artisans’ Creative Summer Programs. Schedule your own “stay-cation” this summer with artful workshops! View all upcoming programs in this series\, information about the facility\, and policies on the Creative Summer Programs page.
URL:https://delrayartisans.org/event/photos-in-the-garden/
LOCATION:VA
CATEGORIES:Creative Summer Programs,Program,Workshop
ATTACH;FMTTYPE=image/jpeg:https://delrayartisans.org/wp-content/uploads/1992/12/event-archive-image.jpg
END:VEVENT
BEGIN:VEVENT
DTSTART;TZID=America/New_York:20190601T140000
DTEND;TZID=America/New_York:20190601T170000
DTSTAMP:20260425T000724
CREATED:20230410T143624Z
LAST-MODIFIED:20230410T160429Z
UID:10000870-1559397600-1559408400@delrayartisans.org
SUMMARY:Painting Flowers with Cut Paper Workshop
DESCRIPTION:Registration is now closed. You must have registered by May 29 to attend. \nInstructor: Tina McCoy\nSaturdays: June 1\, June 8\, and June 15 from 2-5pm (3-weekend class)\nClass size: 4-15 participants\n(Register by May 29) \nLearn how to create a beautiful flower painting using commercial and hand-painted papers.You’ll learn basic techniques to make hand-painted papers and to assemble a collage and more\, so that you can continue exploring on your own. You’ll be working from your imagination to get you to that place of free exploration and expression. You’ll be encouraged to play and discover. All skill levels welcome. Must be at least 18 years old. Expect to learn about drawing\, painting\, collage\, color-mixing and composition. \nStudents bring own supplies: \n\nCanson Mixed Media – XL series – 7?x10?\, 98 lb.\nCanson Universal Sketch – Artist series 5.5? x 8.5?\nBlack ink pen (one): Sharpie Ultra Fine Permanent Marker or Faber Castell Pitt Pen Fine\nWatercolor pan set (any brand)\nWatercolor Brushes: Round #8 and #10; and\n1? Flat Brush\nDrawing pencil\nScissor\nGlue\nYour favorite magazine with color images\n\n. \n\nThis workshop is a part of Del Ray Artisans’ Creative Summer Programs. Schedule your own “stay-cation” this summer with artful workshops! View all upcoming programs in this series\, information about the facility\, and policies on the Creative Summer Programs page.
URL:https://delrayartisans.org/event/painting-flowers-with-cut-paper/
LOCATION:Del Ray Artisans Gallery\, 2704 Mount Vernon Avenue\, Alexandria\, VA\, 22301\, United States
CATEGORIES:Creative Summer Programs,Program,Workshop
ATTACH;FMTTYPE=image/jpeg:https://delrayartisans.org/wp-content/uploads/1992/12/event-archive-image.jpg
END:VEVENT
END:VCALENDAR