BEGIN:VCALENDAR
VERSION:2.0
PRODID:-//Del Ray Artisans - ECPv6.15.20//NONSGML v1.0//EN
CALSCALE:GREGORIAN
METHOD:PUBLISH
X-WR-CALNAME:Del Ray Artisans
X-ORIGINAL-URL:https://delrayartisans.org
X-WR-CALDESC:Events for Del Ray Artisans
REFRESH-INTERVAL;VALUE=DURATION:PT1H
X-Robots-Tag:noindex
X-PUBLISHED-TTL:PT1H
BEGIN:VTIMEZONE
TZID:America/New_York
BEGIN:DAYLIGHT
TZOFFSETFROM:-0500
TZOFFSETTO:-0400
TZNAME:EDT
DTSTART:20230312T070000
END:DAYLIGHT
BEGIN:STANDARD
TZOFFSETFROM:-0400
TZOFFSETTO:-0500
TZNAME:EST
DTSTART:20231105T060000
END:STANDARD
BEGIN:DAYLIGHT
TZOFFSETFROM:-0500
TZOFFSETTO:-0400
TZNAME:EDT
DTSTART:20240310T070000
END:DAYLIGHT
BEGIN:STANDARD
TZOFFSETFROM:-0400
TZOFFSETTO:-0500
TZNAME:EST
DTSTART:20241103T060000
END:STANDARD
BEGIN:DAYLIGHT
TZOFFSETFROM:-0500
TZOFFSETTO:-0400
TZNAME:EDT
DTSTART:20250309T070000
END:DAYLIGHT
BEGIN:STANDARD
TZOFFSETFROM:-0400
TZOFFSETTO:-0500
TZNAME:EST
DTSTART:20251102T060000
END:STANDARD
END:VTIMEZONE
BEGIN:VEVENT
DTSTART;TZID=America/New_York:20240826T183000
DTEND;TZID=America/New_York:20240826T203000
DTSTAMP:20260425T084219
CREATED:20240722T195812Z
LAST-MODIFIED:20240825T144120Z
UID:10001450-1724697000-1724704200@delrayartisans.org
SUMMARY:Advanced Resin Techniques Lecture (Register ASAP)
DESCRIPTION:Presenter: Tracy Wilkerson\, recycledworks@yahoo.com\nDate/Time: Monday\, August 26\, 6:30-8:30pm\nCost: $20 Del Ray Artisans member / $30 Non-member\nClass size: 7-20 participants\n(Register in advance; Walk-ins welcome\, space permitting) \nDo you like working with resin but want to get a little more creative? In this class\, we will discuss advanced resin techniques such as layering\, tilting\, building in three dimensions\, adding lights\, and more. The instructor will show physical examples of these techniques and discuss what to be aware of when using each technique. There will be time for questions and discussions during the class. This class will NOT cover resin dyes or pigment powder usage\, but will touch on other possible additions to resin (such as glitter and alcohol inks). \nYou must already know how to use resin before taking this class. This is a lecture rather than a hands-on workshop\, so registrants will not be creating anything during the class. \nRegister Now \n\nView other upcoming workshops\, information about the facility and policies on the Upcoming Workshops page.
URL:https://delrayartisans.org/event/advanced-resin-techniques/
LOCATION:Del Ray Artisans Gallery\, 2704 Mount Vernon Avenue\, Alexandria\, VA\, 22301\, United States
CATEGORIES:Creative Summer Programs,Program,Workshop
ATTACH;FMTTYPE=image/jpeg:https://delrayartisans.org/wp-content/uploads/2024/07/Tracy-Wilkerson-Advanced-Resin-Techniques.jpg
ORGANIZER;CN="Tracy Wilkerson":MAILTO:recycledworks@yahoo.com
END:VEVENT
END:VCALENDAR