BEGIN:VCALENDAR
VERSION:2.0
PRODID:-//Del Ray Artisans - ECPv6.15.20//NONSGML v1.0//EN
CALSCALE:GREGORIAN
METHOD:PUBLISH
X-WR-CALNAME:Del Ray Artisans
X-ORIGINAL-URL:https://delrayartisans.org
X-WR-CALDESC:Events for Del Ray Artisans
REFRESH-INTERVAL;VALUE=DURATION:PT1H
X-Robots-Tag:noindex
X-PUBLISHED-TTL:PT1H
BEGIN:VTIMEZONE
TZID:America/New_York
BEGIN:DAYLIGHT
TZOFFSETFROM:-0500
TZOFFSETTO:-0400
TZNAME:EDT
DTSTART:20230312T070000
END:DAYLIGHT
BEGIN:STANDARD
TZOFFSETFROM:-0400
TZOFFSETTO:-0500
TZNAME:EST
DTSTART:20231105T060000
END:STANDARD
BEGIN:DAYLIGHT
TZOFFSETFROM:-0500
TZOFFSETTO:-0400
TZNAME:EDT
DTSTART:20240310T070000
END:DAYLIGHT
BEGIN:STANDARD
TZOFFSETFROM:-0400
TZOFFSETTO:-0500
TZNAME:EST
DTSTART:20241103T060000
END:STANDARD
BEGIN:DAYLIGHT
TZOFFSETFROM:-0500
TZOFFSETTO:-0400
TZNAME:EDT
DTSTART:20250309T070000
END:DAYLIGHT
BEGIN:STANDARD
TZOFFSETFROM:-0400
TZOFFSETTO:-0500
TZNAME:EST
DTSTART:20251102T060000
END:STANDARD
END:VTIMEZONE
BEGIN:VEVENT
DTSTART;TZID=America/New_York:20240811T130000
DTEND;TZID=America/New_York:20240811T150000
DTSTAMP:20260425T084219
CREATED:20240612T203605Z
LAST-MODIFIED:20240806T171748Z
UID:10001423-1723381200-1723388400@delrayartisans.org
SUMMARY:Del Ray Sketchcrawl (Register in advance)
DESCRIPTION:Instructor: Joan Bicklehaupt\nDate/Time: Sunday\, August 11\, 1-3pm\nCost: $15 Del Ray Artisans member / $25 Non-member; bring your own supplies\nClass size: 3-12 participants\n(Register in advance) \nThe main focus of a sketchcrawl is for everyone to meet up…go out…and sketch! We will rotate through different stops along Mount Vernon Avenue\, starting from Del Ray Artisans gallery and ending at St Elmo’s Coffee Pub in Del Ray. Together\, the group will decide how long they’ll sketch at each site. Bring a hat\, sunscreen and whatever portable art supplies you would like to carry. \nWe will discuss Art on the Go: materials\, subjects\, and approaches to quick\, gestural sketches that help capture images around town \nRegister Now \nArtwork Credit: Photo by Joan Bicklehaupt \n\nView other upcoming workshops\, information about the facility and policies on the Upcoming Workshops page.
URL:https://delrayartisans.org/event/del-ray-sketchcrawl/
LOCATION:Del Ray Artisans Gallery\, 2704 Mount Vernon Avenue\, Alexandria\, VA\, 22301\, United States
CATEGORIES:Creative Summer Programs,Program,Workshop
ATTACH;FMTTYPE=image/jpeg:https://delrayartisans.org/wp-content/uploads/2024/06/Photo-of-Sketches-Joan-Bickelhaupt.jpg
ORGANIZER;CN="Joan Bickelhaupt":MAILTO:joanbickelhaupt@gmail.com
END:VEVENT
END:VCALENDAR