BEGIN:VCALENDAR
VERSION:2.0
PRODID:-//Del Ray Artisans - ECPv6.15.20//NONSGML v1.0//EN
CALSCALE:GREGORIAN
METHOD:PUBLISH
X-ORIGINAL-URL:https://delrayartisans.org
X-WR-CALDESC:Events for Del Ray Artisans
REFRESH-INTERVAL;VALUE=DURATION:PT1H
X-Robots-Tag:noindex
X-PUBLISHED-TTL:PT1H
BEGIN:VTIMEZONE
TZID:America/New_York
BEGIN:DAYLIGHT
TZOFFSETFROM:-0500
TZOFFSETTO:-0400
TZNAME:EDT
DTSTART:20230312T070000
END:DAYLIGHT
BEGIN:STANDARD
TZOFFSETFROM:-0400
TZOFFSETTO:-0500
TZNAME:EST
DTSTART:20231105T060000
END:STANDARD
BEGIN:DAYLIGHT
TZOFFSETFROM:-0500
TZOFFSETTO:-0400
TZNAME:EDT
DTSTART:20240310T070000
END:DAYLIGHT
BEGIN:STANDARD
TZOFFSETFROM:-0400
TZOFFSETTO:-0500
TZNAME:EST
DTSTART:20241103T060000
END:STANDARD
BEGIN:DAYLIGHT
TZOFFSETFROM:-0500
TZOFFSETTO:-0400
TZNAME:EDT
DTSTART:20250309T070000
END:DAYLIGHT
BEGIN:STANDARD
TZOFFSETFROM:-0400
TZOFFSETTO:-0500
TZNAME:EST
DTSTART:20251102T060000
END:STANDARD
END:VTIMEZONE
BEGIN:VEVENT
DTSTART;TZID=America/New_York:20240808T180000
DTEND;TZID=America/New_York:20240808T200000
DTSTAMP:20260425T103035
CREATED:20240627T202831Z
LAST-MODIFIED:20240809T222512Z
UID:10001436-1723140000-1723147200@delrayartisans.org
SUMMARY:RESCHEDULED: Unleash Your Creativity: Acrylic Painting Class (Register by 8/3)
DESCRIPTION:Instructor: Edom Alagaw\, E21edomgeta@gmail.com\nDate/Time: Thursday\, August 8\, 6-8pm – Rescheduled to September 26\nCost: $32 Del Ray Artisans member / $42 Non-member; participants bring own supplies\nClass size: 4-12 participants\n(Register by August 3) \nJoin our acrylic painting class and unleash your creativity! This class is perfect for beginners and experienced artists alike. You’ll learn essential techniques\, such as color mixing\, brushwork\, and layering\, while creating your own vibrant masterpiece. Our step-by-step instruction ensures a fun and supportive environment where you can explore your artistic potential. Bring your own acrylic paints and brushes and enjoy a relaxing\, inspiring experience. \nMaterials you must bring to class: \n\nAcrylic Paints: A basic set of primary colors (red\, blue\, yellow)\, plus black and white. You may expand with secondary colors (green\, orange\, purple) and some earth tones (brown\, sienna).\nBrushes: A variety of brush sizes and shapes\, including flat\, round\, and detail brushes. Synthetic brushes are suitable for acrylics.\nPalette: A palette for mixing your paints. A plastic or glass palette is ideal\, but a disposable paper palette also works.\nCanvas or Painting Surface: Stretched canvas\, canvas boards\, or canvas paper. For beginners\, canvas boards or paper are usually more economical.\nPalette Knife: For mixing paints and creating texture on your painting.\nWater Container: A container for rinsing your brushes.\nCloths/Paper Towels: For cleaning brushes and wiping up spills.\nApron/Old Clothes: Acrylic paint can be hard to remove from fabric once dry\, so wear something you don’t mind getting messy.\nSpray Bottle: To keep your paints moist on the palette.\nPencil and Eraser: For sketching your initial design on the canvas.\nStorage Box/Bag: To keep all your supplies organized and easy to transport.\n\nOptional materials: \n\nEasel: A tabletop easel if you prefer to paint at an angle\, though this is optional and depends on your comfort.\nMixing Mediums: Optional\, but you might want to have some acrylic mediums like gloss medium\, matte medium\, or modeling paste to experiment with different textures and finishes.\n\nRegister Now \n\nView other upcoming workshops\, information about the facility and policies on the Upcoming Workshops page.
URL:https://delrayartisans.org/event/acrylic-painting-class-rescheduled/
LOCATION:Del Ray Artisans Gallery\, 2704 Mount Vernon Avenue\, Alexandria\, VA\, 22301\, United States
CATEGORIES:Creative Summer Programs,Program,Workshop
ATTACH;FMTTYPE=image/jpeg:https://delrayartisans.org/wp-content/uploads/2024/06/edom.jpg
ORGANIZER;CN="Erica Hughes%2C Programs Director":MAILTO:programs@delrayartisans.org
END:VEVENT
END:VCALENDAR