BEGIN:VCALENDAR
VERSION:2.0
PRODID:-//Del Ray Artisans - ECPv6.15.20//NONSGML v1.0//EN
CALSCALE:GREGORIAN
METHOD:PUBLISH
X-ORIGINAL-URL:https://delrayartisans.org
X-WR-CALDESC:Events for Del Ray Artisans
REFRESH-INTERVAL;VALUE=DURATION:PT1H
X-Robots-Tag:noindex
X-PUBLISHED-TTL:PT1H
BEGIN:VTIMEZONE
TZID:America/New_York
BEGIN:DAYLIGHT
TZOFFSETFROM:-0500
TZOFFSETTO:-0400
TZNAME:EDT
DTSTART:20230312T070000
END:DAYLIGHT
BEGIN:STANDARD
TZOFFSETFROM:-0400
TZOFFSETTO:-0500
TZNAME:EST
DTSTART:20231105T060000
END:STANDARD
BEGIN:DAYLIGHT
TZOFFSETFROM:-0500
TZOFFSETTO:-0400
TZNAME:EDT
DTSTART:20240310T070000
END:DAYLIGHT
BEGIN:STANDARD
TZOFFSETFROM:-0400
TZOFFSETTO:-0500
TZNAME:EST
DTSTART:20241103T060000
END:STANDARD
BEGIN:DAYLIGHT
TZOFFSETFROM:-0500
TZOFFSETTO:-0400
TZNAME:EDT
DTSTART:20250309T070000
END:DAYLIGHT
BEGIN:STANDARD
TZOFFSETFROM:-0400
TZOFFSETTO:-0500
TZNAME:EST
DTSTART:20251102T060000
END:STANDARD
END:VTIMEZONE
BEGIN:VEVENT
DTSTART;TZID=America/New_York:20240807T190000
DTEND;TZID=America/New_York:20240807T210000
DTSTAMP:20260425T103028
CREATED:20240613T210327Z
LAST-MODIFIED:20241006T145342Z
UID:10001426-1723057200-1723064400@delrayartisans.org
SUMMARY:CANCELLED: First Knitted Hat: “Simple Hat - the World's Simplest!” (Two 2-hour classes; Register by 8/4)
DESCRIPTION:Instructor: Dawn Zurell\, dmzurell@gmail.com\nDate/Time: Wednesdays\, August 7 and 14\, 7-9pm\nCost: $70 Del Ray Artisans member / $80 Non-member; plus students must bring supplies\nClass size: 2-6 participants\n(Register by August 4) \nAre you ready to explore projects beyond flat knitting? This workshop will get you there. You will learn to work in the round and knit ribbing for this fun project\, “Simple Hat – the World’s Simplest!” by Stuart Moulder. You’ll have a new hat in just two weeks (2 sessions\, 2 hours each). \nSkills required: Basic knitting knowledge\nSkills learned: Working in the round\, ribbing\, increases\, decreases. \nMaterials you must bring to class: \n\n120 yds of any bulky weight yarn (lighter colors or multi-colored yarns are easier to work with)\nUS 8 (5.0mm) 6-7” double pointed needles\, set of 5\nUS 8 (5.0mm) 16” circular needle\ntapestry needle\nscissors\n\nThe instructor will provide a printed copy of the pattern. \nRegister Now \n\nView other upcoming workshops\, information about the facility and policies on the Upcoming Workshops page.
URL:https://delrayartisans.org/event/first-knitted-hat-august-2024/
LOCATION:Del Ray Artisans Gallery\, 2704 Mount Vernon Avenue\, Alexandria\, VA\, 22301\, United States
CATEGORIES:Creative Summer Programs,Program,Workshop
ATTACH;FMTTYPE=image/jpeg:https://delrayartisans.org/wp-content/uploads/2024/06/Knit-hat-by-Dawn-Zurell.jpg
ORGANIZER;CN="Erica Hughes%2C Programs Director":MAILTO:programs@delrayartisans.org
END:VEVENT
END:VCALENDAR