BEGIN:VCALENDAR
VERSION:2.0
PRODID:-//Del Ray Artisans - ECPv6.15.20//NONSGML v1.0//EN
CALSCALE:GREGORIAN
METHOD:PUBLISH
X-ORIGINAL-URL:https://delrayartisans.org
X-WR-CALDESC:Events for Del Ray Artisans
REFRESH-INTERVAL;VALUE=DURATION:PT1H
X-Robots-Tag:noindex
X-PUBLISHED-TTL:PT1H
BEGIN:VTIMEZONE
TZID:America/New_York
BEGIN:DAYLIGHT
TZOFFSETFROM:-0500
TZOFFSETTO:-0400
TZNAME:EDT
DTSTART:20230312T070000
END:DAYLIGHT
BEGIN:STANDARD
TZOFFSETFROM:-0400
TZOFFSETTO:-0500
TZNAME:EST
DTSTART:20231105T060000
END:STANDARD
BEGIN:DAYLIGHT
TZOFFSETFROM:-0500
TZOFFSETTO:-0400
TZNAME:EDT
DTSTART:20240310T070000
END:DAYLIGHT
BEGIN:STANDARD
TZOFFSETFROM:-0400
TZOFFSETTO:-0500
TZNAME:EST
DTSTART:20241103T060000
END:STANDARD
BEGIN:DAYLIGHT
TZOFFSETFROM:-0500
TZOFFSETTO:-0400
TZNAME:EDT
DTSTART:20250309T070000
END:DAYLIGHT
BEGIN:STANDARD
TZOFFSETFROM:-0400
TZOFFSETTO:-0500
TZNAME:EST
DTSTART:20251102T060000
END:STANDARD
END:VTIMEZONE
BEGIN:VEVENT
DTSTART;TZID=America/New_York:20240612T180000
DTEND;TZID=America/New_York:20240612T210000
DTSTAMP:20260425T111247
CREATED:20240520T161731Z
LAST-MODIFIED:20240520T205513Z
UID:10001415-1718215200-1718226000@delrayartisans.org
SUMMARY:Hands-on Help: Instagram for Artists Follow-up (DRA Member Benefit)
DESCRIPTION:DRA Member Benefit: Get Hands-on help with your Instagram account!  \nFollowing our May Members Benefit meeting which featured a tutorial on ‘Instagram for Artists’\, DRA’s Technology Director\, Dina Wise\, will be holding ‘Instagram Office Hours’ for DRA members\, 6-9pm in the gallery. Drop-in with specific questions about the app and/or to listen in on FAQs and walk-throughs!
URL:https://delrayartisans.org/event/hands-on-help-instagram-for-artists-follow-up-meeting/
LOCATION:Del Ray Artisans Gallery\, 2704 Mount Vernon Avenue\, Alexandria\, VA\, 22301\, United States
CATEGORIES:Creative Summer Programs,Program
ATTACH;FMTTYPE=image/jpeg:https://delrayartisans.org/wp-content/uploads/2024/05/handson-1000x1000-1.jpg
ORGANIZER;CN="Dina Wise%2C Technology Director":MAILTO:technology@delrayartisans.org
END:VEVENT
END:VCALENDAR