BEGIN:VCALENDAR
VERSION:2.0
PRODID:-//Del Ray Artisans - ECPv6.15.20//NONSGML v1.0//EN
CALSCALE:GREGORIAN
METHOD:PUBLISH
X-ORIGINAL-URL:https://delrayartisans.org
X-WR-CALDESC:Events for Del Ray Artisans
REFRESH-INTERVAL;VALUE=DURATION:PT1H
X-Robots-Tag:noindex
X-PUBLISHED-TTL:PT1H
BEGIN:VTIMEZONE
TZID:America/New_York
BEGIN:DAYLIGHT
TZOFFSETFROM:-0500
TZOFFSETTO:-0400
TZNAME:EDT
DTSTART:20230312T070000
END:DAYLIGHT
BEGIN:STANDARD
TZOFFSETFROM:-0400
TZOFFSETTO:-0500
TZNAME:EST
DTSTART:20231105T060000
END:STANDARD
BEGIN:DAYLIGHT
TZOFFSETFROM:-0500
TZOFFSETTO:-0400
TZNAME:EDT
DTSTART:20240310T070000
END:DAYLIGHT
BEGIN:STANDARD
TZOFFSETFROM:-0400
TZOFFSETTO:-0500
TZNAME:EST
DTSTART:20241103T060000
END:STANDARD
BEGIN:DAYLIGHT
TZOFFSETFROM:-0500
TZOFFSETTO:-0400
TZNAME:EDT
DTSTART:20250309T070000
END:DAYLIGHT
BEGIN:STANDARD
TZOFFSETFROM:-0400
TZOFFSETTO:-0500
TZNAME:EST
DTSTART:20251102T060000
END:STANDARD
END:VTIMEZONE
BEGIN:VEVENT
DTSTART;TZID=America/New_York:20240609T130000
DTEND;TZID=America/New_York:20240609T150000
DTSTAMP:20260425T105253
CREATED:20231110T185929Z
LAST-MODIFIED:20231110T190710Z
UID:10001264-1717938000-1717945200@delrayartisans.org
SUMMARY:Del Ray Urban Sketchers
DESCRIPTION:Del Ray Urban Sketchers operates on a drop-in basis and meets the second Sunday of most months at St. Elmo’s Coffee Pub in Del Ray. (Del Ray Urban Sketchers does not meet in July\, August\, and December.) Mark your calendar or set a reminder in Eventbrite. \nUrban sketchbooking emphasizes storytelling that conveys a sense of place or a moment in time through drawings completed from direct observations. \nBring your supplies and join us outside at the cafe to produce still life\, figure\, or architecture subjects in your sketchbook. Participants will spend some time putting their skills into practice and then reconvene for a review of finished works. \nThis program is FREE! Donations appreciated. Meet outside at St. Elmo’s Coffee Pub (2300 Mount Vernon Avenue\, Alexandria\, VA 22301). Contact the organizer\, Joan Bickelhaupt (joanbickelhaupt@gmail.com)\, with any questions. \nRSVP via Eventbrite | View Upcoming Dates \n\nArtwork credit: Detail of “Working Out (St. Elmo’s)” by Cathy Messina
URL:https://delrayartisans.org/event/urban-sketchers-june-2024/
LOCATION:St. Elmo’s Coffee Pub\, 2300 Mount Vernon Avenue\, Alexandria\, VA\, 22301\, United States
CATEGORIES:Creative Summer Programs,Program,Urban Sketchers
ATTACH;FMTTYPE=image/jpeg:https://delrayartisans.org/wp-content/uploads/2023/11/Working-Out-St-Elmos-by-Cathy-Messina-square.jpg
ORGANIZER;CN="Joan Bickelhaupt":MAILTO:joanbickelhaupt@gmail.com
END:VEVENT
END:VCALENDAR