BEGIN:VCALENDAR
VERSION:2.0
PRODID:-//Del Ray Artisans - ECPv6.15.20//NONSGML v1.0//EN
CALSCALE:GREGORIAN
METHOD:PUBLISH
X-ORIGINAL-URL:https://delrayartisans.org
X-WR-CALDESC:Events for Del Ray Artisans
REFRESH-INTERVAL;VALUE=DURATION:PT1H
X-Robots-Tag:noindex
X-PUBLISHED-TTL:PT1H
BEGIN:VTIMEZONE
TZID:America/New_York
BEGIN:DAYLIGHT
TZOFFSETFROM:-0500
TZOFFSETTO:-0400
TZNAME:EDT
DTSTART:20240310T070000
END:DAYLIGHT
BEGIN:STANDARD
TZOFFSETFROM:-0400
TZOFFSETTO:-0500
TZNAME:EST
DTSTART:20241103T060000
END:STANDARD
BEGIN:DAYLIGHT
TZOFFSETFROM:-0500
TZOFFSETTO:-0400
TZNAME:EDT
DTSTART:20250309T070000
END:DAYLIGHT
BEGIN:STANDARD
TZOFFSETFROM:-0400
TZOFFSETTO:-0500
TZNAME:EST
DTSTART:20251102T060000
END:STANDARD
BEGIN:DAYLIGHT
TZOFFSETFROM:-0500
TZOFFSETTO:-0400
TZNAME:EDT
DTSTART:20260308T070000
END:DAYLIGHT
BEGIN:STANDARD
TZOFFSETFROM:-0400
TZOFFSETTO:-0500
TZNAME:EST
DTSTART:20261101T060000
END:STANDARD
END:VTIMEZONE
BEGIN:VEVENT
DTSTART;TZID=America/New_York:20250412T100000
DTEND;TZID=America/New_York:20250412T120000
DTSTAMP:20260423T181100
CREATED:20241030T195352Z
LAST-MODIFIED:20250321T001320Z
UID:10001544-1744452000-1744459200@delrayartisans.org
SUMMARY:Creative Book Club: “Falling Rocket: James Whistler\, John Ruskin\, and the Battle for Modern Art” by Paul Thomas Murphy
DESCRIPTION:Book: “Falling Rocket: James Whistler\, John Ruskin\, and the Battle for Modern Art” by Paul Thomas Murphy\nFacilitator: Marshall Carolus\nMeeting Date: Saturday\, April 12\, 10am-12pm\n(Drop-in\, set a reminder in Eventbrite) \n“The untold story of the artistic battle between James Abbot MacNeill Whistler and John Ruskin over Whistler’s controversial\, ground-breaking Nocturne in Black and Gold: The Falling Rocket. \n“In November 1878\, America’s greatest painter sued England’s greatest critic for a bad review. The painter won—but ruined himself in the process. The painter: James Abbot MacNeill Whistler\, whose combination of incredible talent\, unflagging energy\, and relentless self-promotion had by that time brought him to the very edge of artistic preeminence. The critic: John Ruskin\, Slade Professor of Art at Oxford University\, whose four-decades’ worth of prolific and highly respected literary output on aesthetics had made him England’s unchallenged and seemingly unchallengeable arbiter of art. \n“Though Whistler and Ruskin both lived in London and moved in the same artistic world\, they had\, until June\, 1877\, managed to remain entirely clear of one another. This was unusual because Whistler had a mercurial temperament\, a belligerent personality\, and seemed to thrive on opposition: he once challenged a man to a duel because the man accused the painter of sleeping with his wife. (Whistler had\, in fact\, slept with the man’s wife.)” \n—Excerpt from Pegasus Books\, Publisher \nThe Creative Book Club meets on select Saturday mornings to discuss readings by a variety of authors. The club is free and open to all who are interested in keeping their creative muse flowing and connecting with other creative people. Future book selections will be announced on this website and in the Weekly eNews email in advance. \nIf you have questions\, please contact Marshall Carolus at marshallcarolus@aol.com. \n.
URL:https://delrayartisans.org/event/book-club-apr-2025/
LOCATION:Del Ray Artisans Gallery\, 2704 Mount Vernon Avenue\, Alexandria\, VA\, 22301\, United States
CATEGORIES:Book Club,Program
ATTACH;FMTTYPE=image/jpeg:https://delrayartisans.org/wp-content/uploads/2024/10/fallingrocket-by-paulthomasmurphy.jpg
ORGANIZER;CN="Marshall Carolus":MAILTO:marshallcarolus@aol.com
END:VEVENT
END:VCALENDAR