BEGIN:VCALENDAR
VERSION:2.0
PRODID:-//Del Ray Artisans - ECPv6.15.20//NONSGML v1.0//EN
CALSCALE:GREGORIAN
METHOD:PUBLISH
X-WR-CALNAME:Del Ray Artisans
X-ORIGINAL-URL:https://delrayartisans.org
X-WR-CALDESC:Events for Del Ray Artisans
REFRESH-INTERVAL;VALUE=DURATION:PT1H
X-Robots-Tag:noindex
X-PUBLISHED-TTL:PT1H
BEGIN:VTIMEZONE
TZID:America/New_York
BEGIN:DAYLIGHT
TZOFFSETFROM:-0500
TZOFFSETTO:-0400
TZNAME:EDT
DTSTART:20230312T070000
END:DAYLIGHT
BEGIN:STANDARD
TZOFFSETFROM:-0400
TZOFFSETTO:-0500
TZNAME:EST
DTSTART:20231105T060000
END:STANDARD
BEGIN:DAYLIGHT
TZOFFSETFROM:-0500
TZOFFSETTO:-0400
TZNAME:EDT
DTSTART:20240310T070000
END:DAYLIGHT
BEGIN:STANDARD
TZOFFSETFROM:-0400
TZOFFSETTO:-0500
TZNAME:EST
DTSTART:20241103T060000
END:STANDARD
BEGIN:DAYLIGHT
TZOFFSETFROM:-0500
TZOFFSETTO:-0400
TZNAME:EDT
DTSTART:20250309T070000
END:DAYLIGHT
BEGIN:STANDARD
TZOFFSETFROM:-0400
TZOFFSETTO:-0500
TZNAME:EST
DTSTART:20251102T060000
END:STANDARD
END:VTIMEZONE
BEGIN:VEVENT
DTSTART;TZID=America/New_York:20240203T100000
DTEND;TZID=America/New_York:20240203T120000
DTSTAMP:20260425T093153
CREATED:20230911T204445Z
LAST-MODIFIED:20240117T185324Z
UID:10001067-1706954400-1706961600@delrayartisans.org
SUMMARY:Creative Book Club - “Muse: Uncovering the Hidden Figures Behind Art History’s Masterpieces” by Ruth Millington
DESCRIPTION:Book: “Muse: Uncovering the Hidden Figures Behind Art History’s Masterpieces” by Ruth Millington\nFacilitator: Rusty Lynn\nMeeting Date: Saturday\, February 3 from 10am-12pm\n(Drop-in\, set a reminder in Eventbrite) \nJoin us on Saturday\, February 3 from 10am-12pm to discuss “Muse: Uncovering the Hidden Figures Behind Art History’s Masterpieces” by Ruth Millington. This book explores the persons who were the inspiration for 29 artists over the past five centuries. Some are those we probably already know and others are quite surprising to discover. \nThe Creative Book Club meets on select Saturday mornings to discuss readings by a variety of authors. The club is free and open to all who are interested in keeping their creative muse flowing and connecting with other creative people. Future book selections will be announced on this website and in the Weekly eNews email in advance. \nIf you have questions\, please contact our book club leader Rusty Lynn at rustylynn@earthlink.net. \nFace masks are recommended inside the gallery. \n.
URL:https://delrayartisans.org/event/book-club-jan-2024/
LOCATION:Del Ray Artisans Gallery\, 2704 Mount Vernon Avenue\, Alexandria\, VA\, 22301\, United States
CATEGORIES:Book Club,Program
ATTACH;FMTTYPE=image/jpeg:https://delrayartisans.org/wp-content/uploads/2023/09/Muse-by-Ruth-Millington.jpg
ORGANIZER;CN="Rusty Lynn":MAILTO:rustylynn@earthlink.net
END:VEVENT
END:VCALENDAR