BEGIN:VCALENDAR
VERSION:2.0
PRODID:-//Del Ray Artisans - ECPv6.15.20//NONSGML v1.0//EN
CALSCALE:GREGORIAN
METHOD:PUBLISH
X-WR-CALNAME:Del Ray Artisans
X-ORIGINAL-URL:https://delrayartisans.org
X-WR-CALDESC:Events for Del Ray Artisans
REFRESH-INTERVAL;VALUE=DURATION:PT1H
X-Robots-Tag:noindex
X-PUBLISHED-TTL:PT1H
BEGIN:VTIMEZONE
TZID:America/New_York
BEGIN:DAYLIGHT
TZOFFSETFROM:-0500
TZOFFSETTO:-0400
TZNAME:EDT
DTSTART:20230312T070000
END:DAYLIGHT
BEGIN:STANDARD
TZOFFSETFROM:-0400
TZOFFSETTO:-0500
TZNAME:EST
DTSTART:20231105T060000
END:STANDARD
BEGIN:DAYLIGHT
TZOFFSETFROM:-0500
TZOFFSETTO:-0400
TZNAME:EDT
DTSTART:20240310T070000
END:DAYLIGHT
BEGIN:STANDARD
TZOFFSETFROM:-0400
TZOFFSETTO:-0500
TZNAME:EST
DTSTART:20241103T060000
END:STANDARD
BEGIN:DAYLIGHT
TZOFFSETFROM:-0500
TZOFFSETTO:-0400
TZNAME:EDT
DTSTART:20250309T070000
END:DAYLIGHT
BEGIN:STANDARD
TZOFFSETFROM:-0400
TZOFFSETTO:-0500
TZNAME:EST
DTSTART:20251102T060000
END:STANDARD
END:VTIMEZONE
BEGIN:VEVENT
DTSTART;TZID=America/New_York:20240518T100000
DTEND;TZID=America/New_York:20240518T120000
DTSTAMP:20260424T185723
CREATED:20230911T235603Z
LAST-MODIFIED:20240301T012839Z
UID:10001117-1716026400-1716033600@delrayartisans.org
SUMMARY:Creative Book Club – “Studio of the South: Van Gogh in Provence” by Martin Bailey
DESCRIPTION:Book: “Studio of the South: Van Gogh in Provence” by Martin Bailey\nFacilitator: Rusty Lynn\nMeeting Date: Saturday\, May 18 from 10am-12pm\n(Drop-in\, set a reminder in Eventbrite) \nJoin us to discuss “Studio of the South: Van Gogh in Provence” by Martin Bailey. The book tells the story of Van Gogh’s stay in Arles. \n“For Van Gogh\, the south of France was an exciting new land\, bursting with life. He walked into the hills inspired by the landscapes\, and painted harvest scenes in the heat of summer. He visited a fishing village where he saw the Mediterranean for the first time\, energetically capturing it in paint. He painted portraits of friends and locals\, and flower still life paintings\, culminating in the now iconic Sunflowers. He rented the Yellow House\, and gradually did it up\, calling it ‘an artist’s house’\, inviting Paul Gauguin to join him there. This encounter was to have a profound impact on both of the artists. They painted side by side\, their collaboration coming to a dramatic end a few months later. The difficulties Van Gogh faced led to his eventual decision to retreat to the asylum at Saint-Remy. \n“Based on extensive original research\, the book reveals discoveries that throw new light on the legendary artist and give a definitive account of his fifteen months in Provence\, including his time at the Yellow House\, his collaboration with Gauguin and its tragic and shocking ending.” \n–Frances Lincoln\, Publisher \nThe Creative Book Club meets on select Saturday mornings to discuss readings by a variety of authors. The club is free and open to all who are interested in keeping their creative muse flowing and connecting with other creative people. Future book selections will be announced on this website and in the Weekly eNews email in advance. \nIf you have questions\, please contact our book club leader Rusty Lynn at rustylynn@earthlink.net. \nFace masks are recommended inside the gallery. \n.
URL:https://delrayartisans.org/event/book-club-may-2024/
LOCATION:Del Ray Artisans Gallery\, 2704 Mount Vernon Avenue\, Alexandria\, VA\, 22301\, United States
CATEGORIES:Book Club,Program
ATTACH;FMTTYPE=image/jpeg:https://delrayartisans.org/wp-content/uploads/2023/09/studio-of-the-south-by-martin-bailey.jpg
ORGANIZER;CN="Rusty Lynn":MAILTO:rustylynn@earthlink.net
END:VEVENT
BEGIN:VEVENT
DTSTART;TZID=America/New_York:20240523T190000
DTEND;TZID=America/New_York:20240523T210000
DTSTAMP:20260424T185723
CREATED:20240124T190828Z
LAST-MODIFIED:20240428T003210Z
UID:10001345-1716490800-1716498000@delrayartisans.org
SUMMARY:Author Talk: "Get the Picture" with Bianca Bosker
DESCRIPTION:Join us for an enlightening author talk and book signing at Del Ray Artisans gallery\, featuring Bianca Bosker. In Get the Picture\, Bosker immerses herself in the nerve center of art and the people who live for it: gallerists\, collectors\, curators\, and\, of course\, artists themselves—the kind who work multiple jobs to afford their studios while scrabbling to get eyes on their art. Bosker stretches canvases until her fingers blister\, talks her way into A-list parties for billionaire collectors\, sells art as a gallerist\, and has her face sat on by a nearly-naked performance artist. As a museum security guard\, she forces herself to stare at a single sculpture for hours on end. Bosker discovers not only the inner workings of the art machine but also a more expansive way of living. Probing everything from cave paintings to Instagram\, from the science of sight to the importance of beauty\, Get the Picture examines art’s role in our culture\, our economy\, and our hearts. \nPlease register in advance through the Alexandria Library website. This event is organized by the Friends of the Duncan Library\, a neighbor volunteer-run 501(c)(3) nonprofit. \nRegister Now
URL:https://delrayartisans.org/event/bianca-bosker-get-the-picture/
LOCATION:Del Ray Artisans Gallery\, 2704 Mount Vernon Avenue\, Alexandria\, VA\, 22301\, United States
CATEGORIES:Book Club,Community Event,Program
ATTACH;FMTTYPE=image/jpeg:https://delrayartisans.org/wp-content/uploads/2024/01/Get-the-Picture-by-Bianca-Bosker.jpg
ORGANIZER;CN="Sean Crumley%2C Community Liaison Director":MAILTO:Community@DelRayArtisans.org
END:VEVENT
END:VCALENDAR