BEGIN:VCALENDAR
VERSION:2.0
PRODID:-//Del Ray Artisans - ECPv6.15.20//NONSGML v1.0//EN
CALSCALE:GREGORIAN
METHOD:PUBLISH
X-WR-CALNAME:Del Ray Artisans
X-ORIGINAL-URL:https://delrayartisans.org
X-WR-CALDESC:Events for Del Ray Artisans
REFRESH-INTERVAL;VALUE=DURATION:PT1H
X-Robots-Tag:noindex
X-PUBLISHED-TTL:PT1H
BEGIN:VTIMEZONE
TZID:America/New_York
BEGIN:DAYLIGHT
TZOFFSETFROM:-0500
TZOFFSETTO:-0400
TZNAME:EDT
DTSTART:20220313T070000
END:DAYLIGHT
BEGIN:STANDARD
TZOFFSETFROM:-0400
TZOFFSETTO:-0500
TZNAME:EST
DTSTART:20221106T060000
END:STANDARD
BEGIN:DAYLIGHT
TZOFFSETFROM:-0500
TZOFFSETTO:-0400
TZNAME:EDT
DTSTART:20230312T070000
END:DAYLIGHT
BEGIN:STANDARD
TZOFFSETFROM:-0400
TZOFFSETTO:-0500
TZNAME:EST
DTSTART:20231105T060000
END:STANDARD
BEGIN:DAYLIGHT
TZOFFSETFROM:-0500
TZOFFSETTO:-0400
TZNAME:EDT
DTSTART:20240310T070000
END:DAYLIGHT
BEGIN:STANDARD
TZOFFSETFROM:-0400
TZOFFSETTO:-0500
TZNAME:EST
DTSTART:20241103T060000
END:STANDARD
END:VTIMEZONE
BEGIN:VEVENT
DTSTART;TZID=America/New_York:20231118T100000
DTEND;TZID=America/New_York:20231118T120000
DTSTAMP:20260425T113229
CREATED:20230324T194638Z
LAST-MODIFIED:20231001T205738Z
UID:10000130-1700301600-1700308800@delrayartisans.org
SUMMARY:Creative Book Club - “Fierce Poise: Helen Frankenthaler and 1950s New York” by Alexander Nemerov
DESCRIPTION:Book: “Fierce Poise: Helen Frankenthaler and 1950s New York” by Alexander Nemerov\nFacilitator: Rusty Lynn\nMeeting Date: Saturday\, November 18 from 10am-12pm\n(Drop-in\, set a reminder in Eventbrite) \nJoin us on Saturday\, November 18 from 10am-12pm to discuss “Fierce Poise: Helen Frankenthaler and 1950s New York” by Alexander Nemerov. \nThe book is an in depth look at the life and loves of Helen Frankenthaler\, who took the New York art scene by storm when she began to pour turpentine thinned paint onto her large canvas laid out on the floor of her studio on October 26\,1952. The painting she made that day\, “Mountains and Sea\,” became the hallmark of her new\, radical style of painting. An approach that was to become known as Color Field Painting. (You can see that painting at the National Gallery here in Washington\, DC.) Helen had returned to NYC after graduating from Bennington in May 1950 with a desire to become a famous artist in the soon-to-be-center of the world’s art scene. The book’s primary focus is on what happened to Helen in the New York art scene in the 1950s. \nThe Creative Book Club meets on select Saturday mornings to discuss readings by a variety of authors. The club is free and open to all who are interested in keeping their creative muse flowing and connecting with other creative people. Future book selections will be announced on this website and in the Weekly eNews email in advance. \nIf you have questions\, please contact our book club leader Rusty Lynn at rustylynn@earthlink.net. \nFace masks are recommended inside the gallery. \n.
URL:https://delrayartisans.org/event/creative-book-club-nov-2023/
LOCATION:Del Ray Artisans Gallery\, 2704 Mount Vernon Avenue\, Alexandria\, VA\, 22301\, United States
CATEGORIES:Book Club,Program
ATTACH;FMTTYPE=image/jpeg:https://delrayartisans.org/wp-content/uploads/2023/03/Fierce-Poise-by-Alexander-Nemerov.jpg
ORGANIZER;CN="Rusty Lynn":MAILTO:rustylynn@earthlink.net
END:VEVENT
END:VCALENDAR