BEGIN:VCALENDAR
VERSION:2.0
PRODID:-//Del Ray Artisans - ECPv6.15.20//NONSGML v1.0//EN
CALSCALE:GREGORIAN
METHOD:PUBLISH
X-WR-CALNAME:Del Ray Artisans
X-ORIGINAL-URL:https://delrayartisans.org
X-WR-CALDESC:Events for Del Ray Artisans
REFRESH-INTERVAL;VALUE=DURATION:PT1H
X-Robots-Tag:noindex
X-PUBLISHED-TTL:PT1H
BEGIN:VTIMEZONE
TZID:America/New_York
BEGIN:DAYLIGHT
TZOFFSETFROM:-0500
TZOFFSETTO:-0400
TZNAME:EDT
DTSTART:20250309T070000
END:DAYLIGHT
BEGIN:STANDARD
TZOFFSETFROM:-0400
TZOFFSETTO:-0500
TZNAME:EST
DTSTART:20251102T060000
END:STANDARD
BEGIN:DAYLIGHT
TZOFFSETFROM:-0500
TZOFFSETTO:-0400
TZNAME:EDT
DTSTART:20260308T070000
END:DAYLIGHT
BEGIN:STANDARD
TZOFFSETFROM:-0400
TZOFFSETTO:-0500
TZNAME:EST
DTSTART:20261101T060000
END:STANDARD
BEGIN:DAYLIGHT
TZOFFSETFROM:-0500
TZOFFSETTO:-0400
TZNAME:EDT
DTSTART:20270314T070000
END:DAYLIGHT
BEGIN:STANDARD
TZOFFSETFROM:-0400
TZOFFSETTO:-0500
TZNAME:EST
DTSTART:20271107T060000
END:STANDARD
END:VTIMEZONE
BEGIN:VEVENT
DTSTART;TZID=America/New_York:20260606T100000
DTEND;TZID=America/New_York:20260606T130000
DTSTAMP:20260422T214814
CREATED:20260409T185626Z
LAST-MODIFIED:20260417T190519Z
UID:10002225-1780740000-1780750800@delrayartisans.org
SUMMARY:Junk Journaling Workshop (Register by 6/2)
DESCRIPTION:Instructor: Azita R. Houshiar\nDate/Time: Saturday\, June 6\, 10am-1pm\nCost: $40 Del Ray Artisans member / $50 Non-member; plus $10 supply fee\nClass size: 5-12 participants\n(Register by June 2) \nCollage by Azita Houshiar\nCome to play and experiment freely\, and leave with pages started and ideas you can continue exploring long after the class ends. Junk Journaling blends the art of collage with the practice of journaling\, offering a playful\, low-pressure way to explore creativity without worrying about perfection. The emphasis is on curiosity\, intuition\, experimentation\, and discovering your own expressive style. \nIn this workshop\, you’ll learn practical techniques for collage\, layering\, and composition\, and receive guidance on using found paper\, packaging\, tags\, embellishments\, and everyday “junk” to create layered\, expressive journal pages that reflect your personal perspective and storytelling style. \nPlease bring your own journal. If you don’t have one yet\, high-quality paper will be provided so you can experiment and create during class. All other supplies will be included\, such as paper\, ephemera\, stickers\, tape\, glue\, and basic tools. You’re also welcome to bring old photographs\, mementos\, or personal collage materials you enjoy using\, especially items that hold meaning for you. \nThis beginner-friendly class is open to teenagers and adults of all skill levels. \nRegister Now \n\nImage credit: Azita R. Houshiar \n\nView other upcoming workshops\, information about the facility\, and policies on the Upcoming Workshops page.
URL:https://delrayartisans.org/event/junk-journaling-2026-06/
LOCATION:Del Ray Artisans Gallery\, 2704 Mount Vernon Avenue\, Alexandria\, VA\, 22301\, United States
CATEGORIES:Program,Workshop
ATTACH;FMTTYPE=image/jpeg:https://delrayartisans.org/wp-content/uploads/2025/12/Azita-Houshiar-collage-square.jpg
ORGANIZER;CN="Tracy Wilkerson%2C Programs Director":MAILTO:programs@delrayartisans.org
END:VEVENT
BEGIN:VEVENT
DTSTART;TZID=America/New_York:20260608T140000
DTEND;TZID=America/New_York:20260608T160000
DTSTAMP:20260422T214814
CREATED:20251115T003538Z
LAST-MODIFIED:20260101T182511Z
UID:10002049-1780927200-1780934400@delrayartisans.org
SUMMARY:Partners in Art (RSVP in Advance)
DESCRIPTION:Need support reaching your art related goals? Join this collegial group of artists to share your goals and get feedback on artwork. Monthly meetings include discussions on exhibit opportunities\, the creative process and the local art scene. Artist can bring 1-2 works – complete or in progress – for feedback. All skill levels and media welcome. \nThis program is free\, but donations ($1-3) are greatly appreciated. \nRSVP to Mila Mateu (milaenartes@gmail.com) and Suzanne Tillman (zannet@verizon.net) for details before the day of the meeting. \nView Upcoming Meetings
URL:https://delrayartisans.org/event/partners-in-art-2026/2026-06-08/
LOCATION:Del Ray Artisans Gallery\, 2704 Mount Vernon Avenue\, Alexandria\, VA\, 22301\, United States
CATEGORIES:Partners in Art,Program
ATTACH;FMTTYPE=image/jpeg:https://delrayartisans.org/wp-content/uploads/2018/05/Partners-in-Art.jpg
ORGANIZER;CN="Milagros Mateu":MAILTO:milagros.mateu@gmail.com
END:VEVENT
BEGIN:VEVENT
DTSTART;TZID=America/New_York:20260613T100000
DTEND;TZID=America/New_York:20260613T120000
DTSTAMP:20260422T214814
CREATED:20260409T190950Z
LAST-MODIFIED:20260417T190954Z
UID:10002226-1781344800-1781352000@delrayartisans.org
SUMMARY:Persian Mulberry Sweets: A No-Bake Confectionery Class
DESCRIPTION:Instructor: Azita R. Houshiar\nDate/Time: Saturday\, June 13\, 10am-12pm\nCost: $40 Del Ray Artisans member / $50 Non-member; plus $10 supply fee\nClass size: 4-20 participants\n(Register by June 9.) \nMore information and registration coming soon!  \n\nView other upcoming workshops\, information about the facility\, and policies on the Upcoming Workshops page.
URL:https://delrayartisans.org/event/persian-mulberry-sweets/
LOCATION:Del Ray Artisans Gallery\, 2704 Mount Vernon Avenue\, Alexandria\, VA\, 22301\, United States
CATEGORIES:Program,Workshop
ATTACH;FMTTYPE=image/jpeg:https://delrayartisans.org/wp-content/uploads/2026/04/Persian-Mulberry-by-Azita-Houshiar.jpg
ORGANIZER;CN="Tracy Wilkerson%2C Programs Director":MAILTO:programs@delrayartisans.org
END:VEVENT
BEGIN:VEVENT
DTSTART;TZID=America/New_York:20260614T130000
DTEND;TZID=America/New_York:20260614T150000
DTSTAMP:20260422T214814
CREATED:20251027T193118Z
LAST-MODIFIED:20260101T172523Z
UID:10001977-1781442000-1781449200@delrayartisans.org
SUMMARY:Del Ray Urban Sketchers @ St. Elmo's Coffee Pub
DESCRIPTION:Urban sketchbooking emphasizes storytelling that conveys a sense of place or a moment in time through drawings completed from direct observations. \nBring your supplies and join us outside St. Elmo’s Coffee Pub (2300 Mount Vernon Avenue\, Alexandria\, VA 22301) to produce still life\, figure\, or architecture subjects in your sketchbook. Participants will spend some time putting their skills into practice and then reconvene for a review of finished works. \nDel Ray Urban Sketchers operates on a drop-in basis and meets on the second Sunday of the month (except not in July\, August\, and December) at St. Elmo’s Coffee Pub in Del Ray\, as well as on the third Thursday of most months at a time and location that is varied (view upcoming dates). \nThis program is FREE! Donations appreciated. Contact the organizer\, Joan Bickelhaupt (joanbickelhaupt@gmail.com)\, with any questions. \nRSVP via Eventbrite | View Upcoming Dates \n\nPhoto courtesy of Joan Bickelhaupt
URL:https://delrayartisans.org/event/urban-sketchers-2026-st-elmos/2026-06-14/
LOCATION:St. Elmo’s Coffee Pub\, 2300 Mount Vernon Avenue\, Alexandria\, VA\, 22301\, United States
CATEGORIES:Program,Urban Sketchers
ATTACH;FMTTYPE=image/jpeg:https://delrayartisans.org/wp-content/uploads/2024/11/Del-Ray-Urban-Sketchers-2025-square.jpg
ORGANIZER;CN="Joan Bickelhaupt":MAILTO:joanbickelhaupt@gmail.com
END:VEVENT
BEGIN:VEVENT
DTSTART;TZID=America/New_York:20260616T190000
DTEND;TZID=America/New_York:20260616T210000
DTSTAMP:20260422T214815
CREATED:20251115T004608Z
LAST-MODIFIED:20251115T134522Z
UID:10002054-1781636400-1781643600@delrayartisans.org
SUMMARY:Partners in Art Evening (RSVP in Advance)
DESCRIPTION:Calling fellow artists\, beginners to professionals\, you are invited to join our art-support group\, to share artistic goals\, techniques\, and the local art scene. Participants may show one or two artworks\, any medium\, in any stage\, for advice and feedback. \nTo join our small\, friendly\, and supportive artists’ group\, contact Michele Reday Cook at mredaycook@gmail.com for details and registration BEFORE the day of the meeting. \nThis program is free. Donations ($1-3) are greatly appreciated. Contact Michele Reday Cook (mredaycook@gmail.com) with questions. \nView Upcoming Meetings
URL:https://delrayartisans.org/event/partners-in-art-evening-2026/2026-06-16/
LOCATION:Del Ray Artisans Gallery\, 2704 Mount Vernon Avenue\, Alexandria\, VA\, 22301\, United States
CATEGORIES:Partners in Art,Program
ATTACH;FMTTYPE=image/jpeg:https://delrayartisans.org/wp-content/uploads/2019/10/partners-in-art-evenings.jpg
ORGANIZER;CN="Michele Reday Cook":MAILTO:mredaycook@gmail.com
END:VEVENT
BEGIN:VEVENT
DTSTART;TZID=America/New_York:20260618T190000
DTEND;TZID=America/New_York:20260618T210000
DTSTAMP:20260422T214815
CREATED:20251027T195236Z
LAST-MODIFIED:20260226T172804Z
UID:10002189-1781809200-1781816400@delrayartisans.org
SUMMARY:Del Ray Urban Sketchers (location TBD)
DESCRIPTION:Urban sketchbooking emphasizes storytelling that conveys a sense of place or a moment in time through drawings completed from direct observations. \nBring your supplies and join us outside at TBD to produce still life\, figure\, or architecture subjects in your sketchbook. Participants will spend some time putting their skills into practice and then reconvene for a review of finished works. \nDel Ray Urban Sketchers operates on a drop-in basis and meets on the third Sunday of the month (except not in July\, August\, and December) at St. Elmo’s Coffee Pub in Del Ray\, as well as on the third Thursday of most months at a time and location that is varied (view upcoming dates). \nThis program is FREE! Donations appreciated. Contact the organizer\, KC Hodge (email coming soon)\, with any questions. \nRSVP via Eventbrite coming soon. \n View Upcoming Dates \n\nPhoto courtesy of Joan Bickelhaupt
URL:https://delrayartisans.org/event/urban-sketchers-2026/2026-06-18/
LOCATION:VA
CATEGORIES:Program,Urban Sketchers
ATTACH;FMTTYPE=image/jpeg:https://delrayartisans.org/wp-content/uploads/2024/11/Del-Ray-Urban-Sketchers-2025-square.jpg
END:VEVENT
BEGIN:VEVENT
DTSTART;TZID=America/New_York:20260620T100000
DTEND;TZID=America/New_York:20260620T120000
DTSTAMP:20260422T214815
CREATED:20251027T205305Z
LAST-MODIFIED:20260101T170325Z
UID:10002011-1781949600-1781956800@delrayartisans.org
SUMMARY:Radical Sewing Club-ALX
DESCRIPTION:Welcome to Radical Sewing Club-ALX! \nStarted in LA by Scout Quiquivix\, the Alexandria chapter is a monthly drop-in style meeting where you can learn clothing repair\, hand and machine sewing\, or bring your own project to work on with the community. \nRadical Sewing Club is about more than sewing–it’s a space to reimagine craft outside of capitalism\, to resist exploitation and oppression\, and to stitch together a world based on care and solidarity. All who share these values are welcome. \nRegistration: Registration is not required\, but you may set a reminder in Eventbrite. \nCost: Recommended donation of $10 or pay what you can. No one turned away for lack of funds! Monetary donations will be split between Del Ray Artisans (our wonderful hosts) and Radical Sewing Club for continued materials. \nHave materials to donate? We welcome fabric (full cuts and scraps alike)\, thread\, needles\, interfacing\, embroidery hoops\, buttons\, pins\, trims\, lace\, and functional zippers. \nContact: radicalsewingclubalx@pm.me or @radicalsewingclub_alx on Instagram \nView All Upcoming Dates
URL:https://delrayartisans.org/event/radical-sewing-club-2026/2026-06-20/
LOCATION:Del Ray Artisans Gallery\, 2704 Mount Vernon Avenue\, Alexandria\, VA\, 22301\, United States
CATEGORIES:Program,Radical Sewing Club
ATTACH;FMTTYPE=image/jpeg:https://delrayartisans.org/wp-content/uploads/2025/06/RSC-ALX.jpg
ORGANIZER;CN="Syd Grossman%2C Radical Sewing Club-ALX":MAILTO:radicalsewingclubalx@pm.me
END:VEVENT
BEGIN:VEVENT
DTSTART;TZID=America/New_York:20260621T140000
DTEND;TZID=America/New_York:20260621T153000
DTSTAMP:20260422T214815
CREATED:20251115T122239Z
LAST-MODIFIED:20251130T212506Z
UID:10002073-1782050400-1782055800@delrayartisans.org
SUMMARY:Live From Your Studio - Connect with fellow DRA artists
DESCRIPTION:Live From Your Studio is a free\, members-only\, virtual gathering where Del Ray Artisans members can connect from their art-making space. This virtual event will take place monthly on the third Sunday of the month (excluding December) over Zoom. Artists are encouraged (but not required) to join from their studios and make art during the session. These events will allow members to paint and create art together\, and forge deeper connections to other members. \nRSVP at least a week before the gathering to help organizers prepare. Zoom connection information will be emailed to you two days before the gathering. If you have any questions\, please contact organizer Laura Flynn Geissel at flynnmail52@proton.me and Membership Director Kara Macek at membership@delrayartisans.org. \nNot a member?  It’s easy to join Del Ray Artisans. Artist ($30-$110) and Patron ($250+) level memberships enjoy exhibition and program privileges. Supporter level memberships ($40/year) do not have exhibition privileges\, but supporters have program privileges and may participate in programs such as this one! \nAlthough this is a free event\, as a nonprofit organization\, donations are always welcome to support our mission of promoting art for the benefit of artists and the community. Donate online or at the gallery. \nRSVP Now
URL:https://delrayartisans.org/event/live-from-your-studio-2026/2026-06-21/
LOCATION:Online
CATEGORIES:Live From Your Studio,Partners in Art,Program
ATTACH;FMTTYPE=image/jpeg:https://delrayartisans.org/wp-content/uploads/2025/10/LiveFromYourStudio.jpg
ORGANIZER;CN="Laura Flynn Geissel":MAILTO:flynnmail52@proton.me
END:VEVENT
BEGIN:VEVENT
DTSTART;TZID=America/New_York:20260621T180000
DTEND;TZID=America/New_York:20260621T210000
DTSTAMP:20260422T214815
CREATED:20260327T185804Z
LAST-MODIFIED:20260327T185855Z
UID:10002222-1782064800-1782075600@delrayartisans.org
SUMMARY:Playing with Resin Workshop
DESCRIPTION:Instructor: Tracy Wilkerson\, recycledworks@yahoo.com\nDate/Time: Sunday\, June 21\, 6-9pm\nCost: $40 Del Ray Artisans member / $50 Non-member; plus a $10 Supply Fee\nClass size: 6-12 participants\n(Register in advance to guarantee a spot; walk-ins welcome\, space permitting.) \nLearn the ins and outs of prepping for and mixing resin\, and how to use it as an adhesive\, a covering\, or the main medium. There’s lots of creative time during this 3-hour workshop… No need to rush\, which is one of the first lessons in using resin! All supplies are provided\, but feel free to bring personal embellishments for your piece(s). \nThis workshop does not get into using dyes with resin or building big molds to create one-of-a-kind resined tables (as seen on YouTube)\, but this workshop will provide you with a good understanding of how resin works so you can be bold enough to take the next steps in your creative interests. \nAlthough the class is listed for 3 hours\, you can leave once you have finished your creations. Some students finish very quickly while others take the whole 3 hours to create – there is plenty of time for each person to enjoy the creative process while not feeling rushed. You’ll leave your finished masterpiece(s) to set at the gallery at the end of the workshop\, and pick them up during gallery hours later in the week. \nThe workshop is designed for adults. Children ages 16-17 may participate with parental permission. Children ages 12-15 may participate only with a co-participating adult guardian (guardian must contact instructor in advance). \nRegistration coming soon!  \n\nView other upcoming workshops\, information about the facility and policies on the Upcoming Workshops page.
URL:https://delrayartisans.org/event/playing-with-resin-2026-06/
LOCATION:Del Ray Artisans Gallery\, 2704 Mount Vernon Avenue\, Alexandria\, VA\, 22301\, United States
CATEGORIES:Program,Workshop
ATTACH;FMTTYPE=image/jpeg:https://delrayartisans.org/wp-content/uploads/1992/12/playing-with-resin-vMKzOK.tmp.jpg
ORGANIZER;CN="Tracy Wilkerson":MAILTO:recycledworks@yahoo.com
END:VEVENT
BEGIN:VEVENT
DTSTART;TZID=America/New_York:20260623T190000
DTEND;TZID=America/New_York:20260623T210000
DTSTAMP:20260422T214815
CREATED:20251115T124601Z
LAST-MODIFIED:20260112T003708Z
UID:10002089-1782241200-1782248400@delrayartisans.org
SUMMARY:Life Drawing – Gesture and Short Poses Session
DESCRIPTION:Drop-in and practice figure drawing on select Tuesday and Thursday evenings each month. Bring your supplies and join us at the gallery to draw or paint our nude model. \nTraditional drawing media (such as pencils\, pens\, and charcoal) are welcome; and pastels\, watercolor and ink are permissible. Please do not bring acrylics or oil paints. We don’t supply easels – only plenty of chairs – but you are welcome to bring your own easel if you want to use one. All skill levels are welcome. \nThe first part of this session will be focused on gesture poses (dynamic 1-5 minute poses) to loosen up and participate in a fun\, fast-paced drawing experience. The second hour will be a few short poses for more detailed drawings leading up to up to two 20-minute poses. \nFee for each session is $10 for Del Ray Artisans members and $15 for non-members.  If you have any questions or would like to participate as a model for our sessions\, please contact LifeDrawing@DelRayArtisans.org. \nView artwork from past DRA Figure Drawing Sessions on Instagram! Tag #dralifedraw or @dralifedraw for your work to be featured. \nRegister Now  |  View Upcoming Sessions \n\nArtwork credit: “To The Beat” by Katherine Rand
URL:https://delrayartisans.org/event/life-drawing-2026/2026-06-23/
LOCATION:Del Ray Artisans Gallery\, 2704 Mount Vernon Avenue\, Alexandria\, VA\, 22301\, United States
CATEGORIES:Life Drawing,Program
ATTACH;FMTTYPE=image/jpeg:https://delrayartisans.org/wp-content/uploads/2019/01/To-The-Beat-by-Katherine-Rand.jpg
ORGANIZER;CN="Life Drawing Coordinator":MAILTO:LifeDrawing@DelRayArtisans.org
END:VEVENT
BEGIN:VEVENT
DTSTART;TZID=America/New_York:20260627T100000
DTEND;TZID=America/New_York:20260627T120000
DTSTAMP:20260422T214815
CREATED:20260302T175833Z
LAST-MODIFIED:20260302T175857Z
UID:10001960-1782554400-1782561600@delrayartisans.org
SUMMARY:Nature Journaling Club
DESCRIPTION:Practiced by artists and naturalists alike\, nature journaling is a centuries-old exercise in refining our powers of observation\, appreciation for nature\, drawing skills\, and mindful presence. This group is open to all experience levels as we meet to sketch\, connect\, and learn together! \nDel Ray Artisans’ Nature Journaling Club meets at 10am in front of Del Ray Artisans on the final Saturday morning of the month (except not in July\, November\, and December). Mark your calendar or set a reminder in Eventbrite. \nParticipants will need to bring their own sketchbooks and supplies. We will have plenty of time for sketching in nature before gathering again at 11:30am to share our sketches and observations and discuss tips and tools for nature journaling in the wild. We hope you will join us as we strengthen our art and inquiry practice together! \nSuggested supplies: sketchbook\, pens\, pencils\, colored pencils\, watercolor pencils\, or other portable media\, and a water bottle since we will be outdoors. You may also want to bring something to sit on (folding chair or blanket). \nNOTE: This program is held outdoors and will be canceled if raining. \nThis program is FREE! Donations to our nonprofit arts organization are appreciated. \nFor more information\, contact the coordinators: Stephanie Darlene Greenwald (stephanie@stephaniedarlene.com) and Meredith D’Amore (meredith.w.damore@gmail.com). \nRSVP (Optional) | View Upcoming Dates \n\nArtwork credit: Drawing by Meredith D’Amore
URL:https://delrayartisans.org/event/nature-journaling-2026/2026-06-27/
LOCATION:Del Ray Artisans Gallery\, 2704 Mount Vernon Avenue\, Alexandria\, VA\, 22301\, United States
CATEGORIES:Nature Journaling Club,Program
ATTACH;FMTTYPE=image/jpeg:https://delrayartisans.org/wp-content/uploads/2023/10/Nature-Journaling-Club-square.jpg
ORGANIZER;CN="Meredith D%E2%80%99Amore":MAILTO:meredith.w.damore@gmail.com
END:VEVENT
BEGIN:VEVENT
DTSTART;TZID=America/New_York:20260630T190000
DTEND;TZID=America/New_York:20260630T210000
DTSTAMP:20260422T214815
CREATED:20251115T124601Z
LAST-MODIFIED:20260112T003708Z
UID:10002090-1782846000-1782853200@delrayartisans.org
SUMMARY:Life Drawing – Gesture and Short Poses Session
DESCRIPTION:Drop-in and practice figure drawing on select Tuesday and Thursday evenings each month. Bring your supplies and join us at the gallery to draw or paint our nude model. \nTraditional drawing media (such as pencils\, pens\, and charcoal) are welcome; and pastels\, watercolor and ink are permissible. Please do not bring acrylics or oil paints. We don’t supply easels – only plenty of chairs – but you are welcome to bring your own easel if you want to use one. All skill levels are welcome. \nThe first part of this session will be focused on gesture poses (dynamic 1-5 minute poses) to loosen up and participate in a fun\, fast-paced drawing experience. The second hour will be a few short poses for more detailed drawings leading up to up to two 20-minute poses. \nFee for each session is $10 for Del Ray Artisans members and $15 for non-members.  If you have any questions or would like to participate as a model for our sessions\, please contact LifeDrawing@DelRayArtisans.org. \nView artwork from past DRA Figure Drawing Sessions on Instagram! Tag #dralifedraw or @dralifedraw for your work to be featured. \nRegister Now  |  View Upcoming Sessions \n\nArtwork credit: “To The Beat” by Katherine Rand
URL:https://delrayartisans.org/event/life-drawing-2026/2026-06-30/
LOCATION:Del Ray Artisans Gallery\, 2704 Mount Vernon Avenue\, Alexandria\, VA\, 22301\, United States
CATEGORIES:Life Drawing,Program
ATTACH;FMTTYPE=image/jpeg:https://delrayartisans.org/wp-content/uploads/2019/01/To-The-Beat-by-Katherine-Rand.jpg
ORGANIZER;CN="Life Drawing Coordinator":MAILTO:LifeDrawing@DelRayArtisans.org
END:VEVENT
END:VCALENDAR