BEGIN:VCALENDAR
VERSION:2.0
PRODID:-//Del Ray Artisans - ECPv6.15.20//NONSGML v1.0//EN
CALSCALE:GREGORIAN
METHOD:PUBLISH
X-ORIGINAL-URL:https://delrayartisans.org
X-WR-CALDESC:Events for Del Ray Artisans
REFRESH-INTERVAL;VALUE=DURATION:PT1H
X-Robots-Tag:noindex
X-PUBLISHED-TTL:PT1H
BEGIN:VTIMEZONE
TZID:America/New_York
BEGIN:DAYLIGHT
TZOFFSETFROM:-0500
TZOFFSETTO:-0400
TZNAME:EDT
DTSTART:20240310T070000
END:DAYLIGHT
BEGIN:STANDARD
TZOFFSETFROM:-0400
TZOFFSETTO:-0500
TZNAME:EST
DTSTART:20241103T060000
END:STANDARD
BEGIN:DAYLIGHT
TZOFFSETFROM:-0500
TZOFFSETTO:-0400
TZNAME:EDT
DTSTART:20250309T070000
END:DAYLIGHT
BEGIN:STANDARD
TZOFFSETFROM:-0400
TZOFFSETTO:-0500
TZNAME:EST
DTSTART:20251102T060000
END:STANDARD
BEGIN:DAYLIGHT
TZOFFSETFROM:-0500
TZOFFSETTO:-0400
TZNAME:EDT
DTSTART:20260308T070000
END:DAYLIGHT
BEGIN:STANDARD
TZOFFSETFROM:-0400
TZOFFSETTO:-0500
TZNAME:EST
DTSTART:20261101T060000
END:STANDARD
END:VTIMEZONE
BEGIN:VEVENT
DTSTART;TZID=America/New_York:20251108T100000
DTEND;TZID=America/New_York:20251108T120000
DTSTAMP:20260423T083345
CREATED:20250924T235632Z
LAST-MODIFIED:20251107T001134Z
UID:10001942-1762596000-1762603200@delrayartisans.org
SUMMARY:POSTPONED: STEAM-tastic: Cardboard Creatures Workshop (All Ages)
DESCRIPTION:This workshop has been postponed. New date coming soon. \nInstructor: Morgan Parr\nDate/Time: Saturday\, November 8\, 10am-12pm\nCost: $30 child / $45 adult; plus a $5 Supply Fee\nClass size: 3-15 participants\n(Register by November 4) \nExplore your creativity through a hands-on STEAM activity: build and assemble a 3D cardboard collage of your favorite animal—such as a horse\, unicorn\, panda\, raccoon\, fox\, alligator\, and more! Learn about spatial reasoning\, artistic engineering\, and sustainable design while using recycled materials. \nAll supplies are provided\, but you’re encouraged to bring flat\, reusable materials from home to add a personal touch to your eco-friendly creation. \nThis activity combines art\, design\, and basic construction skills in a fun\, family-friendly environment. Geared towards youth\, but all ages and experience levels are welcome—including children under 12! \nRegister Now \n  \n\nSTEAM-tastic @ DRA – Come join us at Del Ray Artisans for interactive classes about Science\, Technology\, Engineering\, Arts and Math (STEAM)\, taught by professionals from each field! Geared toward youth\, each lesson has a short talk or demonstration and a hands-on craft project. Del Ray Artisans’ STEAM-tastic workshops are made possible with support from the City of Alexandria through the FY2026 Annual Arts Program Grant.\n \n\nView other upcoming workshops\, information about the facility\, and policies on the Upcoming Workshops page.
URL:https://delrayartisans.org/event/steam-cardboard-creatures/
LOCATION:Del Ray Artisans Gallery\, 2704 Mount Vernon Avenue\, Alexandria\, VA\, 22301\, United States
CATEGORIES:Program,Workshop,Youth
ATTACH;FMTTYPE=image/jpeg:https://delrayartisans.org/wp-content/uploads/2025/06/STEAM-Cardboard-Creatures-Morgan-Parr.jpg
ORGANIZER;CN="Morgan Parr":MAILTO:rmorganparr@gmail.com
END:VEVENT
BEGIN:VEVENT
DTSTART;TZID=America/New_York:20251108T130000
DTEND;TZID=America/New_York:20251108T143000
DTSTAMP:20260423T083345
CREATED:20250709T211346Z
LAST-MODIFIED:20250924T233139Z
UID:10001910-1762606800-1762612200@delrayartisans.org
SUMMARY:Tea & Herbs with Area 2 Farms (RSVP)
DESCRIPTION:Meet Area 2 Farms\, the neighborhood organic farm based in Shirlington (less than 3 miles away)\, at Del Ray Artisans gallery for an afternoon of sensory exploration. Area 2 Farms does more than just grow food for you\, they build community around it. \nJoin us for an immersive journey into the world of herbs–where you’ll explore their origins\, benefits\, aromas\, and flavors. You’ll harvest fresh herbs and blend your own tea to sip and enjoy a relaxed conversation with your farmers. \nWhether you’re herb-curious or already tending a garden full\, this is your invitation to slow down\, connect\, and bring a little bit of the farm into your daily rituals. \nSpace is limited—reserve your spot and experience what it means to sip slowly with your farmers. Note: Registration is through Area 2 Farms. \nRSVP Now
URL:https://delrayartisans.org/event/tea-herbs-with-area-2-farms-nov-8-2025/
LOCATION:Del Ray Artisans Gallery\, 2704 Mount Vernon Avenue\, Alexandria\, VA\, 22301\, United States
CATEGORIES:Program
ATTACH;FMTTYPE=image/jpeg:https://delrayartisans.org/wp-content/uploads/2025/06/Area2Farms-event-square.jpg
ORGANIZER;CN="Tracy Wilkerson%2C Programs Director":MAILTO:programs@delrayartisans.org
END:VEVENT
BEGIN:VEVENT
DTSTART;TZID=America/New_York:20251109T130000
DTEND;TZID=America/New_York:20251109T150000
DTSTAMP:20260423T083345
CREATED:20241030T210027Z
LAST-MODIFIED:20251027T193223Z
UID:10001670-1762693200-1762700400@delrayartisans.org
SUMMARY:Del Ray Urban Sketchers 2025
DESCRIPTION:Del Ray Urban Sketchers operates on a drop-in basis and meets the second Sunday of most months at St. Elmo’s Coffee Pub in Del Ray. (Del Ray Urban Sketchers does not meet in July\, August\, and December.)  \nUrban sketchbooking emphasizes storytelling that conveys a sense of place or a moment in time through drawings completed from direct observations. \nBring your supplies and join us outside at the cafe to produce still life\, figure\, or architecture subjects in your sketchbook. Participants will spend some time putting their skills into practice and then reconvene for a review of finished works. \nThis program is FREE! Donations appreciated. Meet outside at St. Elmo’s Coffee Pub (2300 Mount Vernon Avenue\, Alexandria\, VA 22301). Contact the organizer\, Joan Bickelhaupt (joanbickelhaupt@gmail.com)\, with any questions. \nRSVP via Eventbrite | View Upcoming Dates \n\nPhoto courtesy of Joan Bickelhaupt
URL:https://delrayartisans.org/event/urban-sketchers-2025/2025-11-09/
LOCATION:St. Elmo’s Coffee Pub\, 2300 Mount Vernon Avenue\, Alexandria\, VA\, 22301\, United States
CATEGORIES:Program,Urban Sketchers
ATTACH;FMTTYPE=image/jpeg:https://delrayartisans.org/wp-content/uploads/2024/11/Del-Ray-Urban-Sketchers-2025-square.jpg
ORGANIZER;CN="Joan Bickelhaupt":MAILTO:joanbickelhaupt@gmail.com
END:VEVENT
BEGIN:VEVENT
DTSTART;TZID=America/New_York:20251110T140000
DTEND;TZID=America/New_York:20251110T160000
DTSTAMP:20260423T083345
CREATED:20251027T195954Z
LAST-MODIFIED:20251027T200015Z
UID:10001586-1762783200-1762790400@delrayartisans.org
SUMMARY:Partners in Art (RSVP in Advance)
DESCRIPTION:Need support reaching your art related goals? Join this collegial group of artists to share your goals and get feedback on artwork. Monthly meetings include discussions on exhibit opportunities\, the creative process and the local art scene. Artist can bring 1-2 works – complete or in progress – for feedback. All skill levels and media welcome. \nThis program is free\, but donations ($1-3) are greatly appreciated. RSVP to Mila Mateu (milaenartes@gmail.com) and Suzanne Tillman (zannet@verizon.net) for details before the day of the meeting. \nView Upcoming Meetings
URL:https://delrayartisans.org/event/partners-in-art-nov-2025/
LOCATION:Del Ray Artisans Gallery\, 2704 Mount Vernon Avenue\, Alexandria\, VA\, 22301\, United States
CATEGORIES:Partners in Art,Program
ATTACH;FMTTYPE=image/jpeg:https://delrayartisans.org/wp-content/uploads/2016/05/8631736049_f02bbfa92e_z.jpg
ORGANIZER;CN="Suzanne Tillman":MAILTO:zannet@verizon.net
END:VEVENT
BEGIN:VEVENT
DTSTART;TZID=America/New_York:20251112T190000
DTEND;TZID=America/New_York:20251112T210000
DTSTAMP:20260423T083345
CREATED:20250910T130909Z
LAST-MODIFIED:20251107T204341Z
UID:10001929-1762974000-1762981200@delrayartisans.org
SUMMARY:Linocut Block Printing Workshop (Register ASAP)
DESCRIPTION:Instructor: Mallory Henig\, malloryroseart@gmail.com\nDate/Time: Wednesday\, November 12\, 7-9pm\nCost: $40 Del Ray Artisans member / $50 Non-member; Plus a $20 Supplies Fee\nClass size: 6-15 participants\n(Register in advance to guarantee a spot; walk-ins welcome if space permits.) \nEmpower yourself to make unique and personalized greeting cards and prints. Learn the technique of linocut to create rubber stamps for block printing. Mallory will teach you how to carve and print the stamp. You will take home your unique stamp to be reused again and again\, as well as five greeting cards and envelopes. \nAll supplies are included in the supplies fee. \nRegister Now \n\nView other upcoming workshops\, information about the facility\, and policies on the Upcoming Workshops page.
URL:https://delrayartisans.org/event/block-printing/
LOCATION:Del Ray Artisans Gallery\, 2704 Mount Vernon Avenue\, Alexandria\, VA\, 22301\, United States
CATEGORIES:Program,Workshop
ATTACH;FMTTYPE=image/jpeg:https://delrayartisans.org/wp-content/uploads/2025/09/Linocut-Workshop-Mallory-Henig.jpg
ORGANIZER;CN="Tracy Wilkerson%2C Programs Director":MAILTO:programs@delrayartisans.org
END:VEVENT
BEGIN:VEVENT
DTSTART;TZID=America/New_York:20251113T190000
DTEND;TZID=America/New_York:20251113T210000
DTSTAMP:20260423T083345
CREATED:20250526T202116Z
LAST-MODIFIED:20250526T202724Z
UID:10001640-1763060400-1763067600@delrayartisans.org
SUMMARY:Figure Drawing – Gesture and Short Poses Session
DESCRIPTION:Drop-in and practice figure drawing on two select Tuesday* evenings each month. Bring your supplies and join us at the gallery to draw or paint our nude model.\n*Most sessions are on Tuesday evenings\, but in 2025 there will be a session on Thursday\, November 13 and a few costumed sessions on Thursday evenings in October. \nTraditional drawing media (such as pencils\, pens\, and charcoal) are welcome; and pastels\, watercolor and ink are permissible. Please do not bring acrylics or oil paints. We don’t supply easels – only plenty of chairs – but you are welcome to bring your own easel if you want to use one. All skill levels are welcome. \nThe first part of this session will be focused on gesture poses (dynamic 1-5 minute poses) to loosen up and participate in a fun\, fast-paced drawing experience. The second hour will be a few short poses for more detailed drawings leading up to up to two 20-minute poses. \nFee for each session is $10 for Del Ray Artisans members and $15 for non-members.  If you have any questions or would like to participate as a model for our sessions\, please contact Brando Gould at LifeDrawing@DelRayArtisans.org. \nView artwork from past DRA Figure Drawing Sessions on Instagram! Tag #dralifedraw or @dralifedraw for your work to be featured. \nRegister Now  |  View Upcoming Sessions \n\nArtwork credit: “To The Beat” by Katherine Rand
URL:https://delrayartisans.org/event/figure-drawing-2025/2025-11-13/
LOCATION:Del Ray Artisans Gallery\, 2704 Mount Vernon Avenue\, Alexandria\, VA\, 22301\, United States
CATEGORIES:Life Drawing,Program
ATTACH;FMTTYPE=image/jpeg:https://delrayartisans.org/wp-content/uploads/2019/01/To-The-Beat-by-Katherine-Rand.jpg
ORGANIZER;CN="Brando Gould%2C Figure Drawing Coordinator":MAILTO:lifedrawing@delrayartisans.org
END:VEVENT
BEGIN:VEVENT
DTSTART;TZID=America/New_York:20251115T180000
DTEND;TZID=America/New_York:20251115T200000
DTSTAMP:20260423T083345
CREATED:20250617T164326Z
LAST-MODIFIED:20251027T205453Z
UID:10001897-1763229600-1763236800@delrayartisans.org
SUMMARY:Radical Sewing Club-ALX 2025
DESCRIPTION:Welcome to Radical Sewing Club-ALX! \nStarted in LA by Scout Quiquivix\, the Alexandria chapter is a monthly drop-in style meeting where you can learn clothing repair\, hand and machine sewing\, or bring your own project to work on with the community. \nRadical Sewing Club is about more than sewing–it’s a space to reimagine craft outside of capitalism\, to resist exploitation and oppression\, and to stitch together a world based on care and solidarity. All who share these values are welcome. \nRegistration: Registration is not required\, but you may set a reminder in Eventbrite. \nCost: Recommended donation of $10 or pay what you can. No one turned away for lack of funds! Monetary donations will be split between Del Ray Artisans (our wonderful hosts) and Radical Sewing Club for continued materials. \nHave materials to donate? We welcome fabric (full cuts and scraps alike)\, thread\, needles\, interfacing\, embroidery hoops\, buttons\, pins\, trims\, lace\, and functional zippers. \nContact: radicalsewingclubalx@pm.me or @radicalsewingclub_alx on Instagram \nView All Upcoming Dates
URL:https://delrayartisans.org/event/radical-sewing-club-2025/2025-11-15/
LOCATION:Del Ray Artisans Gallery\, 2704 Mount Vernon Avenue\, Alexandria\, VA\, 22301\, United States
CATEGORIES:Program,Radical Sewing Club
ATTACH;FMTTYPE=image/jpeg:https://delrayartisans.org/wp-content/uploads/2025/06/RSC-ALX.jpg
ORGANIZER;CN="Syd Grossman%2C Radical Sewing Club-ALX":MAILTO:radicalsewingclubalx@pm.me
END:VEVENT
BEGIN:VEVENT
DTSTART;TZID=America/New_York:20251116T140000
DTEND;TZID=America/New_York:20251116T153000
DTSTAMP:20260423T083345
CREATED:20251013T001012Z
LAST-MODIFIED:20251029T141639Z
UID:10001947-1763301600-1763307000@delrayartisans.org
SUMMARY:Live From Your Studio - Connect with fellow DRA artists
DESCRIPTION:Live From Your Studio is a free\, members-only\, virtual gathering where Del Ray Artisans members can connect from their art-making space. This virtual event will take place monthly on the third Sunday of the month (excluding December) over Zoom. Artists are encouraged (but not required) to join from their studios and make art during the session. These events will allow members to paint and create art together\, and forge deeper connections to other members. \nRSVP at least a week before the gathering to help organizers prepare. Zoom connection information will be emailed to you two days before the gathering. If you have any questions\, please contact organizer Laura Flynn Geissel at flynnmail52@proton.me and Membership Director Kara Macek at membership@delrayartisans.org. \nNot a member?  It’s easy to join Del Ray Artisans. Artist ($30-$110) and Patron ($250+) level memberships enjoy exhibition and program privileges. Supporter level memberships ($40/year) do not have exhibition privileges\, but supporters have program privileges and may participate in programs such as this one! \nAlthough this is a free event\, as a nonprofit organization\, donations are always welcome to support our mission of promoting art for the benefit of artists and the community. Donate online or at the gallery. \nRSVP Now
URL:https://delrayartisans.org/event/live-from-your-studio-nov-2025/
LOCATION:Online
CATEGORIES:Partners in Art,Program
ATTACH;FMTTYPE=image/jpeg:https://delrayartisans.org/wp-content/uploads/2025/10/LiveFromYourStudio.jpg
ORGANIZER;CN="Laura Flynn Geissel":MAILTO:flynnmail52@proton.me
END:VEVENT
BEGIN:VEVENT
DTSTART;TZID=America/New_York:20251117T180000
DTEND;TZID=America/New_York:20251117T210000
DTSTAMP:20260423T083345
CREATED:20250829T210853Z
LAST-MODIFIED:20251107T204506Z
UID:10001925-1763402400-1763413200@delrayartisans.org
SUMMARY:Playing with Resin Workshop (Register ASAP)
DESCRIPTION:Instructor: Tracy Wilkerson\, recycledworks@yahoo.com\nDate/Time: Monday\, November 17\, 6-9pm\nCost: $40 Del Ray Artisans member / $50 Non-member; plus a $10 Supply Fee\nClass size: 6-12 participants\n(Register in advance to guarantee a spot; walk-ins welcome if space permits.) \nLearn the ins and outs of prepping for and mixing resin\, and how to use it as an adhesive\, a covering\, or the main medium. There’s lots of creative time during this 3-hour workshop… No need to rush\, which is one of the first lessons in using resin! All supplies are provided\, but feel free to bring personal embellishments for your piece(s). \nThis workshop does not get into using dyes with resin or building big molds to create one-of-a-kind resined tables (as seen on YouTube)\, but this workshop will provide you with a good understanding of how resin works so you can be bold enough to take the next steps in your creative interests. \nAlthough the class is listed for 3 hours\, you can leave once you have finished your creations. Some students finish very quickly while others take the whole 3 hours to create – there is plenty of time for each person to enjoy the creative process while not feeling rushed. You’ll leave your finished masterpiece(s) to set at the gallery at the end of the workshop\, and pick them up during gallery hours later in the week. \nThe workshop is designed for adults. Children ages 16-17 may participate with parental permission. Children ages 12-15 may participate only with a co-participating adult guardian (guardian must contact instructor in advance). \nRegister Now \n\nView other upcoming workshops\, information about the facility and policies on the Upcoming Workshops page.
URL:https://delrayartisans.org/event/playing-with-resin-2025-11/
LOCATION:Del Ray Artisans Gallery\, 2704 Mount Vernon Avenue\, Alexandria\, VA\, 22301\, United States
CATEGORIES:Program,Workshop
ATTACH;FMTTYPE=image/jpeg:https://delrayartisans.org/wp-content/uploads/1992/12/playing-with-resin-vMKzOK.tmp.jpg
ORGANIZER;CN="Tracy Wilkerson":MAILTO:recycledworks@yahoo.com
END:VEVENT
BEGIN:VEVENT
DTSTART;TZID=America/New_York:20251118T190000
DTEND;TZID=America/New_York:20251118T210000
DTSTAMP:20260423T083345
CREATED:20250526T202116Z
LAST-MODIFIED:20250526T202724Z
UID:10001641-1763492400-1763499600@delrayartisans.org
SUMMARY:Figure Drawing – Gesture and Short Poses Session
DESCRIPTION:Drop-in and practice figure drawing on two select Tuesday* evenings each month. Bring your supplies and join us at the gallery to draw or paint our nude model.\n*Most sessions are on Tuesday evenings\, but in 2025 there will be a session on Thursday\, November 13 and a few costumed sessions on Thursday evenings in October. \nTraditional drawing media (such as pencils\, pens\, and charcoal) are welcome; and pastels\, watercolor and ink are permissible. Please do not bring acrylics or oil paints. We don’t supply easels – only plenty of chairs – but you are welcome to bring your own easel if you want to use one. All skill levels are welcome. \nThe first part of this session will be focused on gesture poses (dynamic 1-5 minute poses) to loosen up and participate in a fun\, fast-paced drawing experience. The second hour will be a few short poses for more detailed drawings leading up to up to two 20-minute poses. \nFee for each session is $10 for Del Ray Artisans members and $15 for non-members.  If you have any questions or would like to participate as a model for our sessions\, please contact Brando Gould at LifeDrawing@DelRayArtisans.org. \nView artwork from past DRA Figure Drawing Sessions on Instagram! Tag #dralifedraw or @dralifedraw for your work to be featured. \nRegister Now  |  View Upcoming Sessions \n\nArtwork credit: “To The Beat” by Katherine Rand
URL:https://delrayartisans.org/event/figure-drawing-2025/2025-11-18/
LOCATION:Del Ray Artisans Gallery\, 2704 Mount Vernon Avenue\, Alexandria\, VA\, 22301\, United States
CATEGORIES:Life Drawing,Program
ATTACH;FMTTYPE=image/jpeg:https://delrayartisans.org/wp-content/uploads/2019/01/To-The-Beat-by-Katherine-Rand.jpg
ORGANIZER;CN="Brando Gould%2C Figure Drawing Coordinator":MAILTO:lifedrawing@delrayartisans.org
END:VEVENT
BEGIN:VEVENT
DTSTART;TZID=America/New_York:20251119T190000
DTEND;TZID=America/New_York:20251119T210000
DTSTAMP:20260423T083345
CREATED:20241030T202338Z
LAST-MODIFIED:20241030T202456Z
UID:10001601-1763578800-1763586000@delrayartisans.org
SUMMARY:Partners in Art Evening (RSVP in Advance)
DESCRIPTION:Calling fellow artists\, beginners to professionals\, you are invited to join our art-support group\, to share artistic goals\, techniques\, and the local art scene. Participants may show one or two artworks\, any medium\, in any stage\, for advice and feedback. \nTo join our small\, friendly\, and supportive artists’ group\, contact Michele Reday Cook at mredaycook@gmail.com for details and registration BEFORE the day of the meeting. \nThis program is free. Donations ($1-3) are greatly appreciated. Contact Michele Reday Cook (mredaycook@gmail.com) with questions. \nView Upcoming Meetings
URL:https://delrayartisans.org/event/partners-in-art-evening-2025/2025-11-19/
LOCATION:Del Ray Artisans Gallery\, 2704 Mount Vernon Avenue\, Alexandria\, VA\, 22301\, United States
CATEGORIES:Partners in Art,Program
ATTACH;FMTTYPE=image/jpeg:https://delrayartisans.org/wp-content/uploads/2019/10/partners-in-art-evenings.jpg
ORGANIZER;CN="Michele Reday Cook":MAILTO:mredaycook@gmail.com
END:VEVENT
BEGIN:VEVENT
DTSTART;TZID=America/New_York:20251122T100000
DTEND;TZID=America/New_York:20251122T113000
DTSTAMP:20260423T083345
CREATED:20250925T000652Z
LAST-MODIFIED:20251120T012859Z
UID:10001943-1763805600-1763811000@delrayartisans.org
SUMMARY:STEAM-tastic: Monet-Inspired Bridge Workshop (All Ages; Register ASAP)
DESCRIPTION:Instructor: Morgan Parr\nDate/Time: Saturday\, November 22\, 10-11:30am\nCost: $15 child / $30 adult; plus a $10 Supply Fee\nClass size: 3-15 participants\n(Register in advance; Walk-ins welcome if space permits) \nExplore the science of color and light through the art of Claude Monet\, one of the founding fathers of Impressionism. In this hands-on\, STEAM-integrated workshop\, attendees will use oil pastels and watercolors to create their own artworks inspired by Monet’s gardens at Giverny. \nParticipants will learn how color theory\, perception\, and artistic technique come together to create shimmering\, light-filled scenes. Through layering\, optical blending\, and the interaction of oil and water-based media\, attendees will experiment with the similar tools and visual effects that defined the Impressionist movement. \nPerfect for all ages and experience levels\, including children under 12. All materials are included in the supply fee. \nRegister Now \n\nSTEAM-tastic @ DRA – Come join us at Del Ray Artisans for interactive classes about Science\, Technology\, Engineering\, Arts and Math (STEAM)\, taught by professionals from each field! Geared toward youth\, each lesson has a short talk or demonstration and a hands-on craft project. Del Ray Artisans’ STEAM-tastic workshops are made possible with support from the City of Alexandria through the FY2026 Annual Arts Program Grant.\n \n\nView other upcoming workshops\, information about the facility\, and policies on the Upcoming Workshops page.
URL:https://delrayartisans.org/event/steam-monet-bridge/
LOCATION:Del Ray Artisans Gallery\, 2704 Mount Vernon Avenue\, Alexandria\, VA\, 22301\, United States
CATEGORIES:Program,Workshop,Youth
ATTACH;FMTTYPE=image/jpeg:https://delrayartisans.org/wp-content/uploads/2025/06/STEAM-Monet-Bridge-Morgan-Parr.jpg
ORGANIZER;CN="Morgan Parr":MAILTO:rmorganparr@gmail.com
END:VEVENT
BEGIN:VEVENT
DTSTART;TZID=America/New_York:20251122T130000
DTEND;TZID=America/New_York:20251122T143000
DTSTAMP:20260423T083345
CREATED:20250709T211520Z
LAST-MODIFIED:20250924T233922Z
UID:10001911-1763816400-1763821800@delrayartisans.org
SUMMARY:Tea & Herbs with Area 2 Farms (RSVP)
DESCRIPTION:Meet Area 2 Farms\, the neighborhood organic farm based in Shirlington (less than 3 miles away)\, at Del Ray Artisans gallery for an afternoon of sensory exploration. Area 2 Farms does more than just grow food for you\, they build community around it. \nJoin us for an immersive journey into the world of herbs–where you’ll explore their origins\, benefits\, aromas\, and flavors. You’ll harvest fresh herbs and blend your own tea to sip and enjoy a relaxed conversation with your farmers. \nWhether you’re herb-curious or already tending a garden full\, this is your invitation to slow down\, connect\, and bring a little bit of the farm into your daily rituals. \nSpace is limited—reserve your spot and experience what it means to sip slowly with your farmers. Note: Registration is through Area 2 Farms. \nRSVP Now
URL:https://delrayartisans.org/event/tea-herbs-with-area-2-farms-nov-22-2025/
LOCATION:Del Ray Artisans Gallery\, 2704 Mount Vernon Avenue\, Alexandria\, VA\, 22301\, United States
CATEGORIES:Program
ATTACH;FMTTYPE=image/jpeg:https://delrayartisans.org/wp-content/uploads/2025/06/Area2Farms-event-square.jpg
ORGANIZER;CN="Tracy Wilkerson%2C Programs Director":MAILTO:programs@delrayartisans.org
END:VEVENT
BEGIN:VEVENT
DTSTART;TZID=America/New_York:20251129T100000
DTEND;TZID=America/New_York:20251129T120000
DTSTAMP:20260423T083345
CREATED:20251003T205021Z
LAST-MODIFIED:20251128T150945Z
UID:10001946-1764410400-1764417600@delrayartisans.org
SUMMARY:RESCHEDULED: Gaudi Mosaic Lizard (All Ages)
DESCRIPTION:This workshop is being rescheduled. New date/time TBD. \nInstructor: Morgan Parr\nDate/Time: Saturday\, November 29\, 10am-12pm\nCost: $25 child / $40 adult; plus a $20 Supply Fee\nClass size: 3-15 participants\n(Register by November 25) \nInspired by Antoni Gaudí’s famous mosaic lizard in Park Güell\, Barcelona\, this activity blends art\, architecture\, and math. \nParticipants will design a cardboard lizard\, apply joint compound to sculpt a 3D form\, and create a mosaic using patterns\, colors\, and repetition—just like Gaudí’s iconic style. Along the way\, explore form\, texture\, symmetry\, and the mathematical principles of tessellation used in mosaic design. \nLearn how cultural heritage and creative engineering combine in Gaudí’s work\, and make your own masterpiece using provided materials—or bring your own mosaic tiles and rhinestones to personalize it! \nThis hands-on\, family-friendly workshop is perfect for all ages and experience levels—including children under 12. \n \n  \n\nSTEAM-tastic @ DRA – Come join us at Del Ray Artisans for interactive classes about Science\, Technology\, Engineering\, Arts and Math (STEAM)\, taught by professionals from each field! Geared toward youth\, each lesson has a short talk or demonstration and a hands-on craft project. Del Ray Artisans’ STEAM-tastic workshops are made possible with support from the City of Alexandria through the FY2026 Annual Arts Program Grant.\n \n\nView other upcoming workshops\, information about the facility\, and policies on the Upcoming Workshops page.
URL:https://delrayartisans.org/event/steam-gaudi-mosaic-lizard/
LOCATION:Del Ray Artisans Gallery\, 2704 Mount Vernon Avenue\, Alexandria\, VA\, 22301\, United States
CATEGORIES:Program,Workshop,Youth
ATTACH;FMTTYPE=image/jpeg:https://delrayartisans.org/wp-content/uploads/2025/06/STEAM-Gaudi-Mosaic-Lizard-Morgan-Parr.jpg
ORGANIZER;CN="Morgan Parr":MAILTO:rmorganparr@gmail.com
END:VEVENT
END:VCALENDAR