BEGIN:VCALENDAR
VERSION:2.0
PRODID:-//Del Ray Artisans - ECPv6.15.20//NONSGML v1.0//EN
CALSCALE:GREGORIAN
METHOD:PUBLISH
X-WR-CALNAME:Del Ray Artisans
X-ORIGINAL-URL:https://delrayartisans.org
X-WR-CALDESC:Events for Del Ray Artisans
REFRESH-INTERVAL;VALUE=DURATION:PT1H
X-Robots-Tag:noindex
X-PUBLISHED-TTL:PT1H
BEGIN:VTIMEZONE
TZID:America/New_York
BEGIN:DAYLIGHT
TZOFFSETFROM:-0500
TZOFFSETTO:-0400
TZNAME:EDT
DTSTART:20230312T070000
END:DAYLIGHT
BEGIN:STANDARD
TZOFFSETFROM:-0400
TZOFFSETTO:-0500
TZNAME:EST
DTSTART:20231105T060000
END:STANDARD
BEGIN:DAYLIGHT
TZOFFSETFROM:-0500
TZOFFSETTO:-0400
TZNAME:EDT
DTSTART:20240310T070000
END:DAYLIGHT
BEGIN:STANDARD
TZOFFSETFROM:-0400
TZOFFSETTO:-0500
TZNAME:EST
DTSTART:20241103T060000
END:STANDARD
BEGIN:DAYLIGHT
TZOFFSETFROM:-0500
TZOFFSETTO:-0400
TZNAME:EDT
DTSTART:20250309T070000
END:DAYLIGHT
BEGIN:STANDARD
TZOFFSETFROM:-0400
TZOFFSETTO:-0500
TZNAME:EST
DTSTART:20251102T060000
END:STANDARD
END:VTIMEZONE
BEGIN:VEVENT
DTSTART;TZID=America/New_York:20241202T180000
DTEND;TZID=America/New_York:20241202T210000
DTSTAMP:20260424T204520
CREATED:20241105T223129Z
LAST-MODIFIED:20241129T232017Z
UID:10001706-1733162400-1733173200@delrayartisans.org
SUMMARY:Playing with Resin Workshop (Register ASAP)
DESCRIPTION:Instructor: Tracy Wilkerson\, recycledworks@yahoo.com\nDate/Time: Monday\, December 2\, 6-9pm\nCost: $40 Del Ray Artisans member / $50 Non-member; plus a $10 Supply Fee\nClass size: 6-12 participants\n(Register in advance; walk-ins welcome\, space permitting) \nLearn the ins and outs of prepping for and mixing resin\, and how to use it as an adhesive\, a covering\, or the main medium. There’s lots of creative time during this 3-hour workshop… No need to rush\, which is one of the first lessons in using resin! All supplies are provided\, but feel free to bring personal embellishments for your piece(s). \nThis workshop does not get into using dyes with resin or building big molds to create one-of-a-kind resined tables (as seen on YouTube)\, but this workshop will provide you with a good understanding of how resin works so you can be bold enough to take the next steps in your creative interests. \nAlthough the class is listed for 3 hours\, you can leave once you have finished your creations. Some students finish very quickly while others take the whole 3 hours to create – there is plenty of time for each person to enjoy the creative process while not feeling rushed. You’ll leave your finished masterpiece(s) to set at the gallery at the end of the workshop\, and pick them up during gallery hours later in the week. \nThe workshop is designed for adults. Children ages 16-17 may participate with parental permission. Children ages 12-15 may participate only with a co-participating adult guardian (guardian must contact instructor in advance). \nRegister Now \n\nView other upcoming workshops\, information about the facility and policies on the Upcoming Workshops page.
URL:https://delrayartisans.org/event/resin-dec-2024/
LOCATION:Del Ray Artisans Gallery\, 2704 Mount Vernon Avenue\, Alexandria\, VA\, 22301\, United States
CATEGORIES:Program,Workshop
ATTACH;FMTTYPE=image/jpeg:https://delrayartisans.org/wp-content/uploads/1992/12/playing-with-resin-vMKzOK.tmp.jpg
ORGANIZER;CN="Tracy Wilkerson":MAILTO:recycledworks@yahoo.com
END:VEVENT
BEGIN:VEVENT
DTSTART;TZID=America/New_York:20241203T190000
DTEND;TZID=America/New_York:20241203T210000
DTSTAMP:20260424T204520
CREATED:20231105T140244Z
LAST-MODIFIED:20231110T122702Z
UID:10001205-1733252400-1733259600@delrayartisans.org
SUMMARY:Life Drawing Session – Gesture and Short Pose
DESCRIPTION:Drop-in and practice life drawing on two select Tuesday evenings each month. Bring your supplies and join us at the gallery to draw or paint our nude model. \nTraditional drawing media (such as pencils\, pens\, and charcoal) are welcome; and pastels\, watercolor and ink are permissible. Please do not bring acrylics or oil paints. We don’t supply easels – only plenty of chairs – but you are welcome to bring your own easel if you want to use one. All skill levels are welcome. \nThe first part of this session will be focused on gesture poses (dynamic 1-5 minute poses) to loosen up and participate in a fun\, fast-paced drawing experience. The second hour will be a few short poses for more detailed drawings leading up to up to two 20-minute poses. \nFee for each session is $8 for Del Ray Artisans members and $10 for non-members. Register now or pay at the gallery before the session. If you have any questions or would like to participate as a model for our sessions\, please contact Brando Gould at LifeDrawing@DelRayArtisans.org. \nView artwork from past DRA Life Drawing Sessions on Instagram! Tag #dralifedraw or @dralifedraw for your work to be featured. \nFace masks are recommended inside the gallery. \nRegister Now  |  View Upcoming Sessions \n\nArtwork credit: “To The Beat” by Katherine Rand
URL:https://delrayartisans.org/event/life-drawing-2024/2024-12-03/
LOCATION:Del Ray Artisans Gallery\, 2704 Mount Vernon Avenue\, Alexandria\, VA\, 22301\, United States
CATEGORIES:Life Drawing,Program
ATTACH;FMTTYPE=image/jpeg:https://delrayartisans.org/wp-content/uploads/2019/01/To-The-Beat-by-Katherine-Rand.jpg
ORGANIZER;CN="Brando Gould%2C Figure Drawing Coordinator":MAILTO:lifedrawing@delrayartisans.org
END:VEVENT
BEGIN:VEVENT
DTSTART;TZID=America/New_York:20241211T180000
DTEND;TZID=America/New_York:20241211T200000
DTSTAMP:20260424T204520
CREATED:20241105T224142Z
LAST-MODIFIED:20241105T230224Z
UID:10001707-1733940000-1733947200@delrayartisans.org
SUMMARY:Neurographic Art Workshop (Register by 12/8)
DESCRIPTION:Instructor: Morgan Parr\nDate/Time: Wednesday\, December 11\, 6-8pm\nCost: $30 Del Ray Artisans member / $40 Non-member; plus $10 Supply Fee\nClass size: 4-25 participants\n(Register in advance. Drop-ins welcome\, space permitting.) \nYou don’t have to be an artist to make art with Neurographic Art. A neuron is a cell that carries messages between the brain and other parts of our body and that is the basic unit of our central nervous system. Graphic is the artistic use of pictures\, shapes and words. This activity helps you to connect with the art making process and allows your mind to relax. \nSupplies are provided but please feel free to bring markers\, pens or watercolors to add color to your project. \nRegister Now \n\nImage credit: Neurographic art by Morgan Parr \n\nView other upcoming workshops\, information about the facility\, and policies on the Upcoming Workshops page.
URL:https://delrayartisans.org/event/neurographic-art/
LOCATION:Del Ray Artisans Gallery\, 2704 Mount Vernon Avenue\, Alexandria\, VA\, 22301\, United States
CATEGORIES:Program,Workshop
ATTACH;FMTTYPE=image/jpeg:https://delrayartisans.org/wp-content/uploads/2024/09/Neurographic-art-by-Morgan-Parr-square.jpg
ORGANIZER;CN="Morgan Parr":MAILTO:rmorganparr@gmail.com
END:VEVENT
BEGIN:VEVENT
DTSTART;TZID=America/New_York:20241217T190000
DTEND;TZID=America/New_York:20241217T210000
DTSTAMP:20260424T204520
CREATED:20231105T140244Z
LAST-MODIFIED:20231110T122702Z
UID:10001206-1734462000-1734469200@delrayartisans.org
SUMMARY:Life Drawing Session – Gesture and Short Pose
DESCRIPTION:Drop-in and practice life drawing on two select Tuesday evenings each month. Bring your supplies and join us at the gallery to draw or paint our nude model. \nTraditional drawing media (such as pencils\, pens\, and charcoal) are welcome; and pastels\, watercolor and ink are permissible. Please do not bring acrylics or oil paints. We don’t supply easels – only plenty of chairs – but you are welcome to bring your own easel if you want to use one. All skill levels are welcome. \nThe first part of this session will be focused on gesture poses (dynamic 1-5 minute poses) to loosen up and participate in a fun\, fast-paced drawing experience. The second hour will be a few short poses for more detailed drawings leading up to up to two 20-minute poses. \nFee for each session is $8 for Del Ray Artisans members and $10 for non-members. Register now or pay at the gallery before the session. If you have any questions or would like to participate as a model for our sessions\, please contact Brando Gould at LifeDrawing@DelRayArtisans.org. \nView artwork from past DRA Life Drawing Sessions on Instagram! Tag #dralifedraw or @dralifedraw for your work to be featured. \nFace masks are recommended inside the gallery. \nRegister Now  |  View Upcoming Sessions \n\nArtwork credit: “To The Beat” by Katherine Rand
URL:https://delrayartisans.org/event/life-drawing-2024/2024-12-17/
LOCATION:Del Ray Artisans Gallery\, 2704 Mount Vernon Avenue\, Alexandria\, VA\, 22301\, United States
CATEGORIES:Life Drawing,Program
ATTACH;FMTTYPE=image/jpeg:https://delrayartisans.org/wp-content/uploads/2019/01/To-The-Beat-by-Katherine-Rand.jpg
ORGANIZER;CN="Brando Gould%2C Figure Drawing Coordinator":MAILTO:lifedrawing@delrayartisans.org
END:VEVENT
BEGIN:VEVENT
DTSTART;VALUE=DATE:20241222
DTEND;VALUE=DATE:20241223
DTSTAMP:20260424T204520
CREATED:20241123T193403Z
LAST-MODIFIED:20241210T230213Z
UID:10001710-1734825600-1734911999@delrayartisans.org
SUMMARY:Art Rx for Madison County NC Donation Drive through December 22
DESCRIPTION:In September 2024 Hurricane Helene tore through Western North Carolina and left behind a trail of devastation. Del Ray Artisans member Betsy Lederer has organized Art Rx for Madison County NC to assist with the recovery by equipping the arts community with supplies—for artists\, from artists. \nYou can support this effort by donating new or like new art supplies. Specifically requested are: \n‘Ready for Creating’ kits for both children and adults. Kit examples: \n\nWatercolor paper\, paint and brushes\nAcrylic canvas\, paint and brushes\nDrawing sketch book\, pencils\, pens\, eraser\, sharpener\, colored pencils\nSewing kits with needles\, thread\, material\nKnitting and crocheting kits with yarn needles and patterns\nFelting kit with wool\, felting needle\, foam pads and patterns\nAir dry clay and modeling tools\nWeaving kits with small looms and assorted yarns\nKid’s kit with paper crayons\, markers and glue sticks\nGreeting card making kits with blank envelopes and cards\, stencils\, ink pads\, washi tape and adhesives\n\nClassroom supplies such as the following: \n\nPaper – regular copy paper\, drawing paper\, construction paper\, scrapbooking paper and origami paper\nCrayola Tempura Paint\nYarn\nTape – Clear scotch tape\, making tape\, painter’s tape\, washi tape\nCrayola markers – thick or thin\nBlack sharpies\nElmer’s glue sticks\nRandom fun loose supplies like googly eyes\, foam shape rubber stickers\, brad fasteners\, rubber bands\, pipe cleaners\, feathers\, beads\, popsicle sticks and straws\nLow fire white clay\n\nA collection bin is located in Del Ray Artisans gallery foyer from November 15 through December 22\, 2024. Donated supplies will be delivered by Betsy to the Madison County Art Council and two elementary schools particularly hard hit by Helene\, Brush Creek and Hot Springs. \nGallery hours for drop-offs until December 1:\nThursday 12-6pm; Friday 12-9pm; Saturday & Sunday 12-6pm\nClosed on Thanksgiving Day\, 11/28; Open on Wednesday\, 11/27\, 12-6pm \nHoliday Market hours for drop-offs from December 6–22:\nFridays 6-9pm\, Saturdays 9am-5pm\, Sundays 11am-5pm \nOther ways to help: \n\nGoFundMe Fundraiser – Art Rx for Madison County NC – Supplies for Dreaming\nAmazon Wish List – Art Rx: Post-Helene Art Supply Donations for Western NC\nDonate to Madison County Arts Council via their Art Rx Donation Page\nDonate directly to Brush Creek Elementary School. Checks can be written to BCES PTO\, with “Art supplies” in the memo line. The school mailing address is: Brush Creek Elementary School\, 265 Upper Brush Creek Road\, Marshall\, NC 28753\n\n \nIf you have questions\, please contact Del Ray Artisans Director of Community\, Seán Crumley\, at community@delrayartisans.org.
URL:https://delrayartisans.org/event/donation-drive-art-rx/
LOCATION:Del Ray Artisans Gallery\, 2704 Mount Vernon Avenue\, Alexandria\, VA\, 22301\, United States
CATEGORIES:Community Event,Program
ORGANIZER;CN="Sean Crumley%2C Community Liaison Director":MAILTO:Community@DelRayArtisans.org
END:VEVENT
END:VCALENDAR