BEGIN:VCALENDAR
VERSION:2.0
PRODID:-//Del Ray Artisans - ECPv6.15.20//NONSGML v1.0//EN
CALSCALE:GREGORIAN
METHOD:PUBLISH
X-WR-CALNAME:Del Ray Artisans
X-ORIGINAL-URL:https://delrayartisans.org
X-WR-CALDESC:Events for Del Ray Artisans
REFRESH-INTERVAL;VALUE=DURATION:PT1H
X-Robots-Tag:noindex
X-PUBLISHED-TTL:PT1H
BEGIN:VTIMEZONE
TZID:America/New_York
BEGIN:DAYLIGHT
TZOFFSETFROM:-0500
TZOFFSETTO:-0400
TZNAME:EDT
DTSTART:20230312T070000
END:DAYLIGHT
BEGIN:STANDARD
TZOFFSETFROM:-0400
TZOFFSETTO:-0500
TZNAME:EST
DTSTART:20231105T060000
END:STANDARD
BEGIN:DAYLIGHT
TZOFFSETFROM:-0500
TZOFFSETTO:-0400
TZNAME:EDT
DTSTART:20240310T070000
END:DAYLIGHT
BEGIN:STANDARD
TZOFFSETFROM:-0400
TZOFFSETTO:-0500
TZNAME:EST
DTSTART:20241103T060000
END:STANDARD
BEGIN:DAYLIGHT
TZOFFSETFROM:-0500
TZOFFSETTO:-0400
TZNAME:EDT
DTSTART:20250309T070000
END:DAYLIGHT
BEGIN:STANDARD
TZOFFSETFROM:-0400
TZOFFSETTO:-0500
TZNAME:EST
DTSTART:20251102T060000
END:STANDARD
END:VTIMEZONE
BEGIN:VEVENT
DTSTART;TZID=America/New_York:20241102T100000
DTEND;TZID=America/New_York:20241102T120000
DTSTAMP:20260424T205242
CREATED:20240805T154706Z
LAST-MODIFIED:20241031T151335Z
UID:10001480-1730541600-1730548800@delrayartisans.org
SUMMARY:CANCELLED: Unlock Your Creative Potential: Affirmation Card Workshop
DESCRIPTION:This workshop has been cancelled. \nInstructor: Sharon J. Burton\nDate/Time: Saturday\, November 2\, 10am-12pm\nCost: $35 Del Ray Artisans member / $45 Non-member; plus a $15 Supply Fee\nClass size: 5-10 participants\n(Register by midnight on October 29) \nCollage by Sharon J. Burton\nAre you looking to reignite your creative spark? Do you want to cultivate a mindset that empowers your artistic journey? Join us for a transformative workshop\, inspired by the new book\, Creative Sparks: 21 Affirmations and Inspiration for Creativity at Midlife by instructor Sharon Burton\, where you’ll create personalized affirmation cards designed to inspire and motivate your creative spirit. You’ll learn how to craft affirmations that resonate with your artistic goals and aspirations. \nIn this workshop\, you’ll discover the power of positive affirmations in boosting your creativity and self-confidence. You’ll learn how to craft affirmations that resonate with your artistic goals and aspirations. Through hands-on activities and guided exercises\, you’ll create beautiful affirmation cards that serve as daily reminders of your creative potential. \nThe $15 supply fee includes collage materials\, however participants are welcome and encouraged to bring their own collage materials.  Signed copies of Creative Sparks: 21 Affirmations and Inspiration for Creativity at Midlife (Swiner Publishing Company\, 2024) by the instructor will be available for purchase during the workshop for $15/book.\n \n\nView other upcoming workshops\, information about the facility\, and policies on the Upcoming Workshops page.
URL:https://delrayartisans.org/event/creative-potential/
LOCATION:Del Ray Artisans Gallery\, 2704 Mount Vernon Avenue\, Alexandria\, VA\, 22301\, United States
CATEGORIES:Program,Workshop
ATTACH;FMTTYPE=image/jpeg:https://delrayartisans.org/wp-content/uploads/2024/05/collage-by-sharon-j-burton-square.jpg
ORGANIZER;CN="Sharon J. Burton":MAILTO:sjbcreativeventures@gmail.com
END:VEVENT
BEGIN:VEVENT
DTSTART;TZID=America/New_York:20241104T140000
DTEND;TZID=America/New_York:20241104T160000
DTSTAMP:20260424T205242
CREATED:20240519T153830Z
LAST-MODIFIED:20240519T153831Z
UID:10001164-1730728800-1730736000@delrayartisans.org
SUMMARY:Partners in Art (FULL)
DESCRIPTION:The afternoon program is FULL. If you would like to join the evening program\, contact Michele Reday Cook (mredaycook@gmail.com) for information and registration. \nNeed support reaching your art related goals? Join this collegial group of artists to share your goals and get feedback on artwork. Monthly meetings include discussions on exhibit opportunities\, the creative process and the local art scene. Artist can bring 1-2 works – complete or in progress – for feedback. All skill levels and media welcome. \nThis program is free\, but donations ($1-3) are greatly appreciated. Contact Mila Mateu (milaenartes@gmail.com) or Suzanne Tillman (zannet@verizon.net) with questions about the afternoon program. \nView Upcoming Meetings
URL:https://delrayartisans.org/event/partners-in-art-2024-2/2024-11-04/
LOCATION:Del Ray Artisans Gallery\, 2704 Mount Vernon Avenue\, Alexandria\, VA\, 22301\, United States
CATEGORIES:Partners in Art,Program
ATTACH;FMTTYPE=image/jpeg:https://delrayartisans.org/wp-content/uploads/2016/05/8631736049_f02bbfa92e_z.jpg
ORGANIZER;CN="Suzanne Tillman":MAILTO:zannet@verizon.net
END:VEVENT
BEGIN:VEVENT
DTSTART;TZID=America/New_York:20241104T190000
DTEND;TZID=America/New_York:20241104T210000
DTSTAMP:20260424T205242
CREATED:20241006T144759Z
LAST-MODIFIED:20241105T231239Z
UID:10001518-1730746800-1730754000@delrayartisans.org
SUMMARY:CANCELLED: First Crochet Hat Workshop (Two 2-hour classes)
DESCRIPTION:This workshop has been cancelled. \nInstructor: Dawn Zurell\, dmzurell@gmail.com\nDate/Time: Mondays\, November 4 and 11\, 7-9pm\nCost: $70 Del Ray Artisans member / $80 Non-member; plus students must bring supplies\nClass size: 2-6 participants\n(Register by November 1) \nAre you ready to explore beyond single crochet? This class will get you there! You will learn to work in the round and create a few new stitches for this fun project\, “Itsa Beanie” by West End Fibers. You’ll have a new hat in just two weeks (2 sessions\, 2 hours each). \nSkills required: Basic crochet knowledge\nSkills learned: Working in the round\, half double crochet\, double crochet\, front and back post stitches\, increases\, decreases. \nMaterials you must bring to class: \n\n250 yds of any worsted weight yarn (lighter colors or multi-colored yarns are easier to work with)\nUS I (5.5mm) crochet hook\ntapestry needle\nscissors\n\nInstructor will provide a printed copy of the pattern. \nRegister Now \n\nView other upcoming workshops\, information about the facility and policies on the Upcoming Workshops page.
URL:https://delrayartisans.org/event/first-crochet-hat/
LOCATION:Del Ray Artisans Gallery\, 2704 Mount Vernon Avenue\, Alexandria\, VA\, 22301\, United States
CATEGORIES:Program,Workshop
ATTACH;FMTTYPE=image/jpeg:https://delrayartisans.org/wp-content/uploads/2024/10/Crochet-hat2-by-Dawn-Zurell.jpg
ORGANIZER;CN="Dawn Zurell":MAILTO:dmzurell@gmail.com
END:VEVENT
BEGIN:VEVENT
DTSTART;TZID=America/New_York:20241105T190000
DTEND;TZID=America/New_York:20241105T210000
DTSTAMP:20260424T205242
CREATED:20231105T140244Z
LAST-MODIFIED:20231110T122702Z
UID:10001203-1730833200-1730840400@delrayartisans.org
SUMMARY:Life Drawing Session – Gesture and Short Pose
DESCRIPTION:Drop-in and practice life drawing on two select Tuesday evenings each month. Bring your supplies and join us at the gallery to draw or paint our nude model. \nTraditional drawing media (such as pencils\, pens\, and charcoal) are welcome; and pastels\, watercolor and ink are permissible. Please do not bring acrylics or oil paints. We don’t supply easels – only plenty of chairs – but you are welcome to bring your own easel if you want to use one. All skill levels are welcome. \nThe first part of this session will be focused on gesture poses (dynamic 1-5 minute poses) to loosen up and participate in a fun\, fast-paced drawing experience. The second hour will be a few short poses for more detailed drawings leading up to up to two 20-minute poses. \nFee for each session is $8 for Del Ray Artisans members and $10 for non-members. Register now or pay at the gallery before the session. If you have any questions or would like to participate as a model for our sessions\, please contact Brando Gould at LifeDrawing@DelRayArtisans.org. \nView artwork from past DRA Life Drawing Sessions on Instagram! Tag #dralifedraw or @dralifedraw for your work to be featured. \nFace masks are recommended inside the gallery. \nRegister Now  |  View Upcoming Sessions \n\nArtwork credit: “To The Beat” by Katherine Rand
URL:https://delrayartisans.org/event/life-drawing-2024/2024-11-05/
LOCATION:Del Ray Artisans Gallery\, 2704 Mount Vernon Avenue\, Alexandria\, VA\, 22301\, United States
CATEGORIES:Life Drawing,Program
ATTACH;FMTTYPE=image/jpeg:https://delrayartisans.org/wp-content/uploads/2019/01/To-The-Beat-by-Katherine-Rand.jpg
ORGANIZER;CN="Brando Gould%2C Figure Drawing Coordinator":MAILTO:lifedrawing@delrayartisans.org
END:VEVENT
BEGIN:VEVENT
DTSTART;TZID=America/New_York:20241106T190000
DTEND;TZID=America/New_York:20241106T210000
DTSTAMP:20260424T205242
CREATED:20241006T145613Z
LAST-MODIFIED:20241105T001947Z
UID:10001520-1730919600-1730926800@delrayartisans.org
SUMMARY:First Knitted Hat Workshop (Two 2-hour classes; Register ASAP)
DESCRIPTION:Instructor: Dawn Zurell\, dmzurell@gmail.com\nDate/Time: Wednesdays\, November 6 and 13\, 7-9pm\nCost: $70 Del Ray Artisans member / $80 Non-member; plus students must bring supplies\nClass size: 2-6 participants\n(Register in advance) \nAre you ready to explore projects beyond flat knitting? This workshop will get you there. You will learn to work in the round and knit ribbing for this fun project\, “Simple Hat – the World’s Simplest!” by Stuart Moulder. You’ll have a new hat in just two weeks (2 sessions\, 2 hours each). \nSkills required: Basic knitting knowledge\nSkills learned: Working in the round\, ribbing\, increases\, decreases. \nMaterials you must bring to class: \n\n120 yds of any bulky weight yarn (lighter colors or multi-colored yarns are easier to work with)\nUS 8 (5.0mm) 6-7” double pointed needles\, set of 5\nUS 8 (5.0mm) 16” circular needle\ntapestry needle\nscissors\n\nThe instructor will provide a printed copy of the pattern. \nRegister Now \n\nView other upcoming workshops\, information about the facility and policies on the Upcoming Workshops page.
URL:https://delrayartisans.org/event/first-knitted-hat/
LOCATION:Del Ray Artisans Gallery\, 2704 Mount Vernon Avenue\, Alexandria\, VA\, 22301\, United States
CATEGORIES:Program,Workshop
ATTACH;FMTTYPE=image/jpeg:https://delrayartisans.org/wp-content/uploads/2024/06/Knit-hat-by-Dawn-Zurell.jpg
ORGANIZER;CN="Dawn Zurell":MAILTO:dmzurell@gmail.com
END:VEVENT
BEGIN:VEVENT
DTSTART;TZID=America/New_York:20241107T190000
DTEND;TZID=America/New_York:20241107T203000
DTSTAMP:20260424T205242
CREATED:20241006T150311Z
LAST-MODIFIED:20241105T002032Z
UID:10001522-1731006000-1731011400@delrayartisans.org
SUMMARY:Intro to Tunisian Crochet: Cockatiel Cowl (Three 1.5-hour classes; Register ASAP)
DESCRIPTION:Instructor: Dawn Zurell\, dmzurell@gmail.com\nDate/Time: Nov 7 (Thursday)\, Nov 12 (Tuesday)\, and Nov 14 (Thursday) from 7-8:30pm (Three 1.5-hour classes)\nCost: $90 Del Ray Artisans member / $100 Non-member; bring own supplies\nClass size: 2-6 participants\n(Register in advance) \nTunisian crochet combines crochet and knitting\, then produces a finished fabric that can look woven\, knitted\, or crocheted. Seems like magic\, right? It is certainly fun. Come learn the basics and leave with a lovely cowl. No previous knitting or crocheting experience required. \nYou will learn basic Tunisian crochet skills\, including foundation chains\, forward and return passes\, and a few stitch variations. \nMaterials you must bring to class: \n\n284 yds of any bulky/chunky yarn (142 yds each of 2 colors is recommended)\n100 yds of any worsted weight practice yarn\nUS size N (10mm) Tunisian (Afghan) crochet hook (either 12”-14” or hook with any length cable)\nUS size L (8mm) Tunisian (Afghan) crochet hook (either 12”-14” or hook with any length cable)\ntapestry needle\nscissors\n\nRegister Now \n  \n\nView other upcoming workshops\, information about the facility\, and policies on the Upcoming Workshops page.
URL:https://delrayartisans.org/event/crochet-cowl/
LOCATION:Del Ray Artisans Gallery\, 2704 Mount Vernon Avenue\, Alexandria\, VA\, 22301\, United States
CATEGORIES:Program,Workshop
ATTACH;FMTTYPE=image/jpeg:https://delrayartisans.org/wp-content/uploads/2024/06/Cowl-by-Dawn-Zurell.jpg
ORGANIZER;CN="Dawn Zurell":MAILTO:dmzurell@gmail.com
END:VEVENT
BEGIN:VEVENT
DTSTART;TZID=America/New_York:20241110T130000
DTEND;TZID=America/New_York:20241110T150000
DTSTAMP:20260424T205242
CREATED:20231110T185555Z
LAST-MODIFIED:20231110T185736Z
UID:10001263-1731243600-1731250800@delrayartisans.org
SUMMARY:Del Ray Urban Sketchers
DESCRIPTION:Del Ray Urban Sketchers operates on a drop-in basis and meets the second Sunday of most months at St. Elmo’s Coffee Pub in Del Ray. (Del Ray Urban Sketchers does not meet in July\, August\, and December.) Mark your calendar or set a reminder in Eventbrite. \nUrban sketchbooking emphasizes storytelling that conveys a sense of place or a moment in time through drawings completed from direct observations. \nBring your supplies and join us outside at the cafe to produce still life\, figure\, or architecture subjects in your sketchbook. Participants will spend some time putting their skills into practice and then reconvene for a review of finished works. \nThis program is FREE! Donations appreciated. Meet outside at St. Elmo’s Coffee Pub (2300 Mount Vernon Avenue\, Alexandria\, VA 22301). Contact the organizer\, Joan Bickelhaupt (joanbickelhaupt@gmail.com)\, with any questions. \nRSVP via Eventbrite | View Upcoming Dates \n\nArtwork credit: “Working Out (St. Elmo’s)” by Cathy Messina
URL:https://delrayartisans.org/event/urban-sketchers-2024/2024-11-10/
LOCATION:St. Elmo’s Coffee Pub\, 2300 Mount Vernon Avenue\, Alexandria\, VA\, 22301\, United States
CATEGORIES:Program,Urban Sketchers
ATTACH;FMTTYPE=image/jpeg:https://delrayartisans.org/wp-content/uploads/2020/07/Working-Out-St-Elmos-by-Cathy-Messina.jpg
ORGANIZER;CN="Joan Bickelhaupt":MAILTO:joanbickelhaupt@gmail.com
END:VEVENT
BEGIN:VEVENT
DTSTART;TZID=America/New_York:20241112T190000
DTEND;TZID=America/New_York:20241112T203000
DTSTAMP:20260424T205242
CREATED:20241006T150659Z
LAST-MODIFIED:20241006T150659Z
UID:10001524-1731438000-1731443400@delrayartisans.org
SUMMARY:Intro to Tunisian Crochet: Cockatiel Cowl (class)
DESCRIPTION:This time is reserved for the Intro to Tunisian Crochet: Cockatiel Cowl workshop. You must register by November 3rd to attend. \n  \n\nView other upcoming workshops\, information about the facility\, and policies on the Upcoming Workshops page.
URL:https://delrayartisans.org/event/crochet-cowl-nov-2024-class/2024-11-12/
LOCATION:Del Ray Artisans Gallery\, 2704 Mount Vernon Avenue\, Alexandria\, VA\, 22301\, United States
CATEGORIES:Program
ATTACH;FMTTYPE=image/jpeg:https://delrayartisans.org/wp-content/uploads/2024/06/Cowl-by-Dawn-Zurell.jpg
ORGANIZER;CN="Dawn Zurell":MAILTO:dmzurell@gmail.com
END:VEVENT
BEGIN:VEVENT
DTSTART;TZID=America/New_York:20241113T190000
DTEND;TZID=America/New_York:20241113T210000
DTSTAMP:20260424T205242
CREATED:20241006T145807Z
LAST-MODIFIED:20241006T145807Z
UID:10001521-1731524400-1731531600@delrayartisans.org
SUMMARY:First Knitted Hat Workshop (2nd of 2 classes)
DESCRIPTION:This time is reserved for the First Knitted Hat workshop. You must register by November 2nd to attend. \n\nView other upcoming workshops\, information about the facility and policies on the Upcoming Workshops page.
URL:https://delrayartisans.org/event/first-knitted-hat-nov-2024-class/
LOCATION:Del Ray Artisans Gallery\, 2704 Mount Vernon Avenue\, Alexandria\, VA\, 22301\, United States
CATEGORIES:Program
ATTACH;FMTTYPE=image/jpeg:https://delrayartisans.org/wp-content/uploads/2024/06/Knit-hat-by-Dawn-Zurell.jpg
ORGANIZER;CN="Dawn Zurell":MAILTO:dmzurell@gmail.com
END:VEVENT
BEGIN:VEVENT
DTSTART;TZID=America/New_York:20241114T190000
DTEND;TZID=America/New_York:20241114T203000
DTSTAMP:20260424T205242
CREATED:20241006T150659Z
LAST-MODIFIED:20241006T150659Z
UID:10001525-1731610800-1731616200@delrayartisans.org
SUMMARY:Intro to Tunisian Crochet: Cockatiel Cowl (class)
DESCRIPTION:This time is reserved for the Intro to Tunisian Crochet: Cockatiel Cowl workshop. You must register by November 3rd to attend. \n  \n\nView other upcoming workshops\, information about the facility\, and policies on the Upcoming Workshops page.
URL:https://delrayartisans.org/event/crochet-cowl-nov-2024-class/2024-11-14/
LOCATION:Del Ray Artisans Gallery\, 2704 Mount Vernon Avenue\, Alexandria\, VA\, 22301\, United States
CATEGORIES:Program
ATTACH;FMTTYPE=image/jpeg:https://delrayartisans.org/wp-content/uploads/2024/06/Cowl-by-Dawn-Zurell.jpg
ORGANIZER;CN="Dawn Zurell":MAILTO:dmzurell@gmail.com
END:VEVENT
BEGIN:VEVENT
DTSTART;TZID=America/New_York:20241116T100000
DTEND;TZID=America/New_York:20241116T120000
DTSTAMP:20260424T205242
CREATED:20230911T235722Z
LAST-MODIFIED:20240820T152036Z
UID:10001119-1731751200-1731758400@delrayartisans.org
SUMMARY:Creative Book Club – "Bright Stars: Great Artists Who Died Too Young" by Kate Bryan
DESCRIPTION:Book: “Bright Stars: Great Artists Who Died Too Young” by Kate Bryan\nFacilitator: Marshall Carolus\nMeeting Date: Saturday\, November 16\, 10am-12pm\n(Drop-in; Set a reminder in Eventbrite) \n“In Bright Stars\, Kate Bryan examines the lives and legacies of 30 great artists who died too young\, celebrating their inspirational stories and extraordinary talent. \nSome of the world’s greatest and most-loved artists died under the age of forty. But how did they turn relatively short careers into such long legacies? What drove them to create\, against all the odds? And how can we use these stories to re-evaluate artists lost to the shadows\, or whose legacies are not yet secured?”\n \n—Frances Lincoln\, Publisher \nThe Creative Book Club meets on select Saturday mornings to discuss readings by a variety of authors. The club is free and open to all who are interested in keeping their creative muse flowing and connecting with other creative people. Future book selections will be announced on this website and in the Weekly eNews email in advance. \nIf you have questions\, please contact Marshall Carolus at marshallcarolus@aol.com. \n.
URL:https://delrayartisans.org/event/book-club-nov-2024/
LOCATION:Del Ray Artisans Gallery\, 2704 Mount Vernon Avenue\, Alexandria\, VA\, 22301\, United States
CATEGORIES:Book Club,Program
ATTACH;FMTTYPE=image/jpeg:https://delrayartisans.org/wp-content/uploads/2024/08/bright-stars-wide-web.jpg
ORGANIZER;CN="Marshall Carolus":MAILTO:marshallcarolus@aol.com
END:VEVENT
BEGIN:VEVENT
DTSTART;TZID=America/New_York:20241117T130000
DTEND;TZID=America/New_York:20241117T153000
DTSTAMP:20260424T205242
CREATED:20240925T153138Z
LAST-MODIFIED:20241108T133217Z
UID:10001514-1731848400-1731857400@delrayartisans.org
SUMMARY:Decorated Letters Workshop (Register ASAP)
DESCRIPTION:Instructor: Jenny Nicholson\nDate/Time: Sunday\, November 17\, 1-3:30pm\nCost: $45 Del Ray Artisans member / $55 Non-member; plus a $15 Supply Fee\nClass size: 4-10 participants\n(Register in advance; walk-ins welcome only if space permits) \nCreate large letters and decorate inside and around them with Zentangles\, patterns\, texture\, color\, and gold. Final pieces are a 3.5″ square or larger. Materials fee includes white and black paper and Gelly Roll pens\, along with other materials provided by the instructor to use in class. Bring watercolors and a small watercolor brush if you already have them. \nRegister Now \n\nView other upcoming workshops\, information about the facility\, and policies on the Upcoming Workshops page.
URL:https://delrayartisans.org/event/decorated-letters/
LOCATION:Del Ray Artisans Gallery\, 2704 Mount Vernon Avenue\, Alexandria\, VA\, 22301\, United States
CATEGORIES:Program,Workshop
ATTACH;FMTTYPE=image/jpeg:https://delrayartisans.org/wp-content/uploads/2024/09/DecoratedLetterM-byJennyNicholson.jpg
ORGANIZER;CN="Jenny Nicholson":MAILTO:8JLNicholson@gmail.com
END:VEVENT
BEGIN:VEVENT
DTSTART;TZID=America/New_York:20241117T180000
DTEND;TZID=America/New_York:20241117T210000
DTSTAMP:20260424T205242
CREATED:20240926T194919Z
LAST-MODIFIED:20241113T214031Z
UID:10001516-1731866400-1731877200@delrayartisans.org
SUMMARY:Playing with Resin Workshop (Register ASAP)
DESCRIPTION:Instructor: Tracy Wilkerson\, recycledworks@yahoo.com\nDate/Time: Sunday\, November 17 from 6-9pm\nCost: $40 Del Ray Artisans member / $50 Non-member; plus a $10 Supply Fee\nClass size: 6-12 participants\n(Register in advance. Walk-ins welcome\, space permitting.) \nLearn the ins and outs of prepping for and mixing resin\, and how to use it as an adhesive\, a covering\, or the main medium. There’s lots of creative time during this 3-hour workshop… No need to rush\, which is one of the first lessons in using resin! All supplies are provided\, but feel free to bring personal embellishments for your piece(s). \nThis workshop does not get into using dyes with resin or building big molds to create one-of-a-kind resined tables (as seen on YouTube)\, but this workshop will provide you with a good understanding of how resin works so you can be bold enough to take the next steps in your creative interests. \nAlthough the class is listed for 3 hours\, you can leave once you have finished your creations. Some students finish very quickly while others take the whole 3 hours to create – there is plenty of time for each person to enjoy the creative process while not feeling rushed. You’ll leave your finished masterpiece(s) to set at the gallery at the end of the workshop\, and pick them up during gallery hours later in the week. \nThe workshop is designed for adults. Children ages 16-17 may participate with parental permission. Children ages 12-15 may participate only with a co-participating adult guardian (guardian must contact instructor in advance). \nRegister Now \n\nView other upcoming workshops\, information about the facility and policies on the Upcoming Workshops page.
URL:https://delrayartisans.org/event/playing-with-resin-workshop-11-2024/
LOCATION:Del Ray Artisans Gallery\, 2704 Mount Vernon Avenue\, Alexandria\, VA\, 22301\, United States
CATEGORIES:Program,Workshop
ATTACH;FMTTYPE=image/jpeg:https://delrayartisans.org/wp-content/uploads/1992/12/playing-with-resin-vMKzOK.tmp.jpg
ORGANIZER;CN="Tracy Wilkerson":MAILTO:recycledworks@yahoo.com
END:VEVENT
BEGIN:VEVENT
DTSTART;TZID=America/New_York:20241118T183000
DTEND;TZID=America/New_York:20241118T203000
DTSTAMP:20260424T205242
CREATED:20240926T195413Z
LAST-MODIFIED:20241113T223901Z
UID:10001517-1731954600-1731961800@delrayartisans.org
SUMMARY:Advanced Resin Techniques Lecture (Register ASAP)
DESCRIPTION:Presenter: Tracy Wilkerson\, recycledworks@yahoo.com\nDate/Time: Monday\, November 18\, 6:30-8:30pm\nCost: $20 Del Ray Artisans member / $30 Non-member\nClass size: 7-20 participants\n(Register in advance; walk-ins welcome\, space permitting) \nDo you like working with resin but want to get a little more creative? In this class\, we will discuss advanced resin techniques such as layering\, tilting\, building in three dimensions\, adding lights\, and more. The instructor will show physical examples of these techniques and discuss what to be aware of when using each technique. There will be time for questions and discussions during the class. This class will NOT cover resin dyes or pigment powder usage\, but will touch on other possible additions to resin (such as glitter and alcohol inks). \nYou must already know how to use resin before taking this class. This is a lecture rather than a hands-on workshop\, so registrants will not be creating anything during the class. \nRegister Now \n\nView other upcoming workshops\, information about the facility and policies on the Upcoming Workshops page.
URL:https://delrayartisans.org/event/advanced-resin-techniques-lecture-2/
LOCATION:Del Ray Artisans Gallery\, 2704 Mount Vernon Avenue\, Alexandria\, VA\, 22301\, United States
CATEGORIES:Program,Workshop
ATTACH;FMTTYPE=image/jpeg:https://delrayartisans.org/wp-content/uploads/2024/07/Tracy-Wilkerson-Advanced-Resin-Techniques.jpg
ORGANIZER;CN="Tracy Wilkerson":MAILTO:recycledworks@yahoo.com
END:VEVENT
BEGIN:VEVENT
DTSTART;TZID=America/New_York:20241119T190000
DTEND;TZID=America/New_York:20241119T210000
DTSTAMP:20260424T205242
CREATED:20231105T140244Z
LAST-MODIFIED:20231110T122702Z
UID:10001204-1732042800-1732050000@delrayartisans.org
SUMMARY:Life Drawing Session – Gesture and Short Pose
DESCRIPTION:Drop-in and practice life drawing on two select Tuesday evenings each month. Bring your supplies and join us at the gallery to draw or paint our nude model. \nTraditional drawing media (such as pencils\, pens\, and charcoal) are welcome; and pastels\, watercolor and ink are permissible. Please do not bring acrylics or oil paints. We don’t supply easels – only plenty of chairs – but you are welcome to bring your own easel if you want to use one. All skill levels are welcome. \nThe first part of this session will be focused on gesture poses (dynamic 1-5 minute poses) to loosen up and participate in a fun\, fast-paced drawing experience. The second hour will be a few short poses for more detailed drawings leading up to up to two 20-minute poses. \nFee for each session is $8 for Del Ray Artisans members and $10 for non-members. Register now or pay at the gallery before the session. If you have any questions or would like to participate as a model for our sessions\, please contact Brando Gould at LifeDrawing@DelRayArtisans.org. \nView artwork from past DRA Life Drawing Sessions on Instagram! Tag #dralifedraw or @dralifedraw for your work to be featured. \nFace masks are recommended inside the gallery. \nRegister Now  |  View Upcoming Sessions \n\nArtwork credit: “To The Beat” by Katherine Rand
URL:https://delrayartisans.org/event/life-drawing-2024/2024-11-19/
LOCATION:Del Ray Artisans Gallery\, 2704 Mount Vernon Avenue\, Alexandria\, VA\, 22301\, United States
CATEGORIES:Life Drawing,Program
ATTACH;FMTTYPE=image/jpeg:https://delrayartisans.org/wp-content/uploads/2019/01/To-The-Beat-by-Katherine-Rand.jpg
ORGANIZER;CN="Brando Gould%2C Figure Drawing Coordinator":MAILTO:lifedrawing@delrayartisans.org
END:VEVENT
BEGIN:VEVENT
DTSTART;TZID=America/New_York:20241120T190000
DTEND;TZID=America/New_York:20241120T210000
DTSTAMP:20260424T205242
CREATED:20241113T232254Z
LAST-MODIFIED:20241113T232619Z
UID:10001172-1732129200-1732136400@delrayartisans.org
SUMMARY:CANCELLED: Partners in Art Evening (RSVP in Advance)
DESCRIPTION:The November 20th session has been cancelled. See you in the new year! \nCalling fellow artists\, beginners to professionals\, you are invited to join our art-support group\, to share artistic goals\, techniques\, and the local art scene. Participants may show one or two artworks\, any medium\, in any stage\, for advice and feedback. \nTo join our small\, friendly\, and supportive artists’ group\, contact Michele Reday Cook at mredaycook@gmail.com for details and registration BEFORE the day of the meeting. \nThis program is free. Donations ($1-3) are greatly appreciated. Contact Michele Reday Cook (mredaycook@gmail.com) with questions. \nFace masks are recommended inside the gallery. \nView Upcoming Meetings
URL:https://delrayartisans.org/event/partners-in-art-evening-nov-2024/
LOCATION:Del Ray Artisans Gallery\, 2704 Mount Vernon Avenue\, Alexandria\, VA\, 22301\, United States
CATEGORIES:Partners in Art,Program
ATTACH;FMTTYPE=image/jpeg:https://delrayartisans.org/wp-content/uploads/2019/10/partners-in-art-evenings.jpg
ORGANIZER;CN="Michele Reday Cook":MAILTO:mredaycook@gmail.com
END:VEVENT
END:VCALENDAR