BEGIN:VCALENDAR
VERSION:2.0
PRODID:-//Del Ray Artisans - ECPv6.15.20//NONSGML v1.0//EN
CALSCALE:GREGORIAN
METHOD:PUBLISH
X-WR-CALNAME:Del Ray Artisans
X-ORIGINAL-URL:https://delrayartisans.org
X-WR-CALDESC:Events for Del Ray Artisans
REFRESH-INTERVAL;VALUE=DURATION:PT1H
X-Robots-Tag:noindex
X-PUBLISHED-TTL:PT1H
BEGIN:VTIMEZONE
TZID:America/New_York
BEGIN:DAYLIGHT
TZOFFSETFROM:-0500
TZOFFSETTO:-0400
TZNAME:EDT
DTSTART:20240310T070000
END:DAYLIGHT
BEGIN:STANDARD
TZOFFSETFROM:-0400
TZOFFSETTO:-0500
TZNAME:EST
DTSTART:20241103T060000
END:STANDARD
BEGIN:DAYLIGHT
TZOFFSETFROM:-0500
TZOFFSETTO:-0400
TZNAME:EDT
DTSTART:20250309T070000
END:DAYLIGHT
BEGIN:STANDARD
TZOFFSETFROM:-0400
TZOFFSETTO:-0500
TZNAME:EST
DTSTART:20251102T060000
END:STANDARD
BEGIN:DAYLIGHT
TZOFFSETFROM:-0500
TZOFFSETTO:-0400
TZNAME:EDT
DTSTART:20260308T070000
END:DAYLIGHT
BEGIN:STANDARD
TZOFFSETFROM:-0400
TZOFFSETTO:-0500
TZNAME:EST
DTSTART:20261101T060000
END:STANDARD
BEGIN:DAYLIGHT
TZOFFSETFROM:-0500
TZOFFSETTO:-0400
TZNAME:EDT
DTSTART:20270314T070000
END:DAYLIGHT
BEGIN:STANDARD
TZOFFSETFROM:-0400
TZOFFSETTO:-0500
TZNAME:EST
DTSTART:20271107T060000
END:STANDARD
END:VTIMEZONE
BEGIN:VEVENT
DTSTART;TZID=America/New_York:20250817T160000
DTEND;TZID=America/New_York:20250817T180000
DTSTAMP:20260425T095743
CREATED:20241124T175104Z
LAST-MODIFIED:20250730T133027Z
UID:10001716-1755446400-1755453600@delrayartisans.org
SUMMARY:Member Meeting & Art Supplies Swap
DESCRIPTION:Join fellow Del Ray Artisans members for the Member Meeting & Art Supplies Swap on Sunday\, August 17 starting at 4pm. \nSave the date for the third member meeting of 2025. Bring the supplies you no longer need and be ready to find a treasure in other’s discards! To help things run smoothly\, we kindly ask that you limit the number of boxes you bring and drop off your treasures at the start of the art supply swap. Unfortunately\, we won’t be able to accept any treasures after 4:15pm. \nWe’ll begin with a short meeting\, and then select “new to you” art supplies. Looking forward to seeing you at the gallery! \nIf you have any questions\, please reach out the Membership Director\, Kara Macek\, at Membership@DelRayArtisans.org.
URL:https://delrayartisans.org/event/member-meeting-aug-2025/
LOCATION:Del Ray Artisans Gallery\, 2704 Mount Vernon Avenue\, Alexandria\, VA\, 22301\, United States
CATEGORIES:Meeting,Member Meeting,Program
ATTACH;FMTTYPE=image/jpeg:https://delrayartisans.org/wp-content/uploads/2020/02/art-supplies.jpg
ORGANIZER;CN="Kate Gibney%2C Membership Director":MAILTO:membership@delrayartisans.org
END:VEVENT
BEGIN:VEVENT
DTSTART;TZID=America/New_York:20250825T180000
DTEND;TZID=America/New_York:20250825T210000
DTSTAMP:20260425T095744
CREATED:20250605T144705Z
LAST-MODIFIED:20250605T144705Z
UID:10001883-1756144800-1756155600@delrayartisans.org
SUMMARY:Reserved for Alexandria Film Festival's Planning Committee
DESCRIPTION:This date/time is reserved for the Alexandria Film Festival’s Planning Committee. \nThe Alexandria Film Festival is a 501(c)(3) non-profit organization in Alexandria\, Virginia.
URL:https://delrayartisans.org/event/reserved-for-aff-august-2025/
LOCATION:Del Ray Artisans Gallery\, 2704 Mount Vernon Avenue\, Alexandria\, VA\, 22301\, United States
CATEGORIES:Meeting
ORGANIZER;CN="Patti North":MAILTO:pattinorth@gmail.com
END:VEVENT
BEGIN:VEVENT
DTSTART;TZID=America/New_York:20250909T190000
DTEND;TZID=America/New_York:20250909T210000
DTSTAMP:20260425T095744
CREATED:20241030T210828Z
LAST-MODIFIED:20250728T185622Z
UID:10001691-1757444400-1757451600@delrayartisans.org
SUMMARY:Board of Directors Meeting (ONLINE)
DESCRIPTION:This Board meeting will an online meeting through Zoom. \nActive members are welcome to attend any Board meeting. If you wish to address the Board or bring something up to the Board during one of these meetings\, contact Margaret Slipek at Secretary@DelRayArtisans.org at least four days in advance of the meeting to be included on the agenda and receive the Zoom session link.
URL:https://delrayartisans.org/event/board-meeting-2025/2025-09-09/
LOCATION:Online
CATEGORIES:Board Meeting,Meeting
ORGANIZER;CN="Margaret Slipek%2C Secretary":MAILTO:secretary@delrayartisans.org
END:VEVENT
BEGIN:VEVENT
DTSTART;TZID=America/New_York:20251014T190000
DTEND;TZID=America/New_York:20251014T210000
DTSTAMP:20260425T095744
CREATED:20241030T210828Z
LAST-MODIFIED:20250728T185622Z
UID:10001692-1760468400-1760475600@delrayartisans.org
SUMMARY:Board of Directors Meeting (ONLINE)
DESCRIPTION:This Board meeting will an online meeting through Zoom. \nActive members are welcome to attend any Board meeting. If you wish to address the Board or bring something up to the Board during one of these meetings\, contact Margaret Slipek at Secretary@DelRayArtisans.org at least four days in advance of the meeting to be included on the agenda and receive the Zoom session link.
URL:https://delrayartisans.org/event/board-meeting-2025/2025-10-14/
LOCATION:Online
CATEGORIES:Board Meeting,Meeting
ORGANIZER;CN="Margaret Slipek%2C Secretary":MAILTO:secretary@delrayartisans.org
END:VEVENT
BEGIN:VEVENT
DTSTART;TZID=America/New_York:20251026T180000
DTEND;TZID=America/New_York:20251026T200000
DTSTAMP:20260425T095744
CREATED:20241124T182939Z
LAST-MODIFIED:20251013T185514Z
UID:10001718-1761501600-1761508800@delrayartisans.org
SUMMARY:2025 Annual Member Meeting & 2026 Board of Directors Election
DESCRIPTION:2025 Annual Member Meeting & 2026 Board of Directors Election\nSunday\, October 26\, 6-8pm\nAll members are invited to attend the 2025 Annual Meeting on Sunday\, October 26 from 6-8pm at Del Ray Artisans gallery. Del Ray Artisans President Dawn Wyse Hurto will present a special message about the organization; the membership will vote on the slate (info below) to elect the 2026 Board of Directors; and the 2026 schedule of exhibits and programs will be announced. \nPizza and beverages will be provided. Thank you to Jet’s Pizza for the delicious pizza and generous discount to support our nonprofit. To contribute a side or dessert to share (thank you!)\, please email Kara Macek at membership@delrayartisans.org. \n\n2026 Board of Directors Slate\nHere is the slate of nominees for Del Ray Artisans’ 2026 Board of Directors: \n\nPresident – Dawn Wyse Hurto\nVice President – Sean Crumley\nSecretary – Margaret Slipek\nTreasurer – Rita Schooley\nAssistant Treasurer – Stephen Lally\nDirector of…\nArchives – Kathryn Brown\nCommunications – Christian Melgar\nCurating – Amy Kitchin Hower\nFacilities – Kurt Peterson\nFundraising – (vacant)\nMembership – Kara Macek\nOutreach – Kelly MacConomy\nPrograms – Tracy Wilkerson\nTechnology – Dina Wise\nVolunteers – Morgan Parr\nYouth Programs – Victoria Walchak\n\n\nIf you are considering running for a  position\, please email the Nominating Committee at Nominations@DelRayArtisans.org. The 2026 Board will begin its one-year term on January 1\, 2026. \n\n\nVote at the Meeting or by Proxy\nAt the Annual Meeting\, each member in Good Standing (renew your membership if it has expired) is entitled to one vote in person or by proxy on any matter brought before the membership at any meeting at which quorum has been established. Actions shall pass if they carry a simple majority of the votes cast. (Review the bylaws.) \nA member in Good Standing may appoint a proxy to vote for them by filling out the Appointment of Proxy Form. The proxy shall expire at the end of the 2025 Annual Meeting (October 26\, 2025). Proxy forms shall not count towards establishing a quorum. Proxy forms must be received before 6pm on Saturday\, October 25\, 2025. Proxy forms will be emailed to the membership in advance. \n \nIn person votes will be cast at the Annual Meeting on Sunday\, October 26\, 2025 between 6-8pm. \n\nPhoto: Blast from the Past – President Michele Reday Cook addresses the membership at the 2013 Annual Meeting.
URL:https://delrayartisans.org/event/2025-annual-meeting/
LOCATION:Del Ray Artisans Gallery\, 2704 Mount Vernon Avenue\, Alexandria\, VA\, 22301\, United States
CATEGORIES:Meeting,Member Meeting,Program
ATTACH;FMTTYPE=image/jpeg:https://delrayartisans.org/wp-content/uploads/2023/11/Annual-Meeting-October-2013.jpg
ORGANIZER;CN="Kara Macek%2C Membership Director":MAILTO:Membership@DelRayArtisans.org
END:VEVENT
BEGIN:VEVENT
DTSTART;TZID=America/New_York:20251111T190000
DTEND;TZID=America/New_York:20251111T210000
DTSTAMP:20260425T095744
CREATED:20241030T210828Z
LAST-MODIFIED:20250728T185622Z
UID:10001693-1762887600-1762894800@delrayartisans.org
SUMMARY:Board of Directors Meeting (ONLINE)
DESCRIPTION:This Board meeting will an online meeting through Zoom. \nActive members are welcome to attend any Board meeting. If you wish to address the Board or bring something up to the Board during one of these meetings\, contact Margaret Slipek at Secretary@DelRayArtisans.org at least four days in advance of the meeting to be included on the agenda and receive the Zoom session link.
URL:https://delrayartisans.org/event/board-meeting-2025/2025-11-11/
LOCATION:Online
CATEGORIES:Board Meeting,Meeting
ORGANIZER;CN="Margaret Slipek%2C Secretary":MAILTO:secretary@delrayartisans.org
END:VEVENT
BEGIN:VEVENT
DTSTART;TZID=America/New_York:20251209T180000
DTEND;TZID=America/New_York:20251209T210000
DTSTAMP:20260425T095744
CREATED:20250623T175648Z
LAST-MODIFIED:20251112T142959Z
UID:10001694-1765303200-1765314000@delrayartisans.org
SUMMARY:Board Meeting and Holiday Gathering
DESCRIPTION:December 2023 Board of Directors Holiday Gathering (courtesy of Sean Crumley)\nThe last Board meeting of 2025 will be at the gallery. A short business meeting (beginning at 6:30pm) will be paired with a holiday gathering to thank outgoing 2025 Board Members and welcome incoming 2026 Board Members. \nActive members are welcome to attend any Board meeting. If you wish to address the Board or bring something up to the Board during one of these meetings\, contact Margaret Slipek at Secretary@DelRayArtisans.org at least four days in advance of the meeting to be included on the agenda.
URL:https://delrayartisans.org/event/board-meeting-dec-2025/
LOCATION:Del Ray Artisans Gallery\, 2704 Mount Vernon Avenue\, Alexandria\, VA\, 22301\, United States
CATEGORIES:Board Meeting,Meeting
ORGANIZER;CN="Margaret Slipek%2C Secretary":MAILTO:secretary@delrayartisans.org
END:VEVENT
BEGIN:VEVENT
DTSTART;TZID=America/New_York:20260113T190000
DTEND;TZID=America/New_York:20260113T210000
DTSTAMP:20260425T095744
CREATED:20251115T121242Z
LAST-MODIFIED:20251115T121242Z
UID:10002055-1768330800-1768338000@delrayartisans.org
SUMMARY:Board of Directors Meeting (ONLINE)
DESCRIPTION:This Board meeting will an online meeting through Zoom. \nActive members are welcome to attend any Board meeting. If you wish to address the Board or bring something up to the Board during one of these meetings\, contact Margaret Slipek at Secretary@DelRayArtisans.org at least four days in advance of the meeting to be included on the agenda and receive the Zoom session link.
URL:https://delrayartisans.org/event/board-meeting-2026/2026-01-13/
LOCATION:Online
CATEGORIES:Board Meeting,Meeting
ORGANIZER;CN="Margaret Slipek%2C Secretary":MAILTO:secretary@delrayartisans.org
END:VEVENT
BEGIN:VEVENT
DTSTART;TZID=America/New_York:20260122T180000
DTEND;TZID=America/New_York:20260122T210000
DTSTAMP:20260425T095744
CREATED:20251218T222151Z
LAST-MODIFIED:20260219T221920Z
UID:10002134-1769104800-1769115600@delrayartisans.org
SUMMARY:Reserved for Alexandria Film Festival (Internal Meeting)
DESCRIPTION:This date/time is reserved for the Alexandria Film Festival to hold an internal meeting. \nThe Alexandria Film Festival is a 501(c)(3) non-profit organization in Alexandria\, Virginia.
URL:https://delrayartisans.org/event/reserved-for-aff-january-2026/
LOCATION:Del Ray Artisans Gallery\, 2704 Mount Vernon Avenue\, Alexandria\, VA\, 22301\, United States
CATEGORIES:Meeting
ORGANIZER;CN="Patti North":MAILTO:pattinorth@gmail.com
END:VEVENT
BEGIN:VEVENT
DTSTART;TZID=America/New_York:20260127T133000
DTEND;TZID=America/New_York:20260127T163000
DTSTAMP:20260425T095744
CREATED:20260106T190335Z
LAST-MODIFIED:20260302T162035Z
UID:10002145-1769520600-1769531400@delrayartisans.org
SUMMARY:ONLINE: Washington Calligraphers Guild Study Group
DESCRIPTION:NOTE: Due to the weather this event will be held online. \nTuesday\, January 27 from 1:30 to 4:30pm is reserved for the Washington Calligraphers Guild.
URL:https://delrayartisans.org/event/washington-calligraphers-guild-jan-2026/
LOCATION:Del Ray Artisans Gallery\, 2704 Mount Vernon Avenue\, Alexandria\, VA\, 22301\, United States
CATEGORIES:Meeting
ORGANIZER;CN="Jenny Nicholson":MAILTO:8JLNicholson@gmail.com
END:VEVENT
BEGIN:VEVENT
DTSTART;TZID=America/New_York:20260210T190000
DTEND;TZID=America/New_York:20260210T210000
DTSTAMP:20260425T095744
CREATED:20251115T121242Z
LAST-MODIFIED:20251115T121242Z
UID:10002056-1770750000-1770757200@delrayartisans.org
SUMMARY:Board of Directors Meeting (ONLINE)
DESCRIPTION:This Board meeting will an online meeting through Zoom. \nActive members are welcome to attend any Board meeting. If you wish to address the Board or bring something up to the Board during one of these meetings\, contact Margaret Slipek at Secretary@DelRayArtisans.org at least four days in advance of the meeting to be included on the agenda and receive the Zoom session link.
URL:https://delrayartisans.org/event/board-meeting-2026/2026-02-10/
LOCATION:Online
CATEGORIES:Board Meeting,Meeting
ORGANIZER;CN="Margaret Slipek%2C Secretary":MAILTO:secretary@delrayartisans.org
END:VEVENT
BEGIN:VEVENT
DTSTART;TZID=America/New_York:20260216T130000
DTEND;TZID=America/New_York:20260216T150000
DTSTAMP:20260425T095744
CREATED:20260123T214737Z
LAST-MODIFIED:20260214T185715Z
UID:10002169-1771246800-1771254000@delrayartisans.org
SUMMARY:Reserved for Alexandria Women for Good
DESCRIPTION:Monday\, February 16 from 1-3pm is reserved for Alexandria Women for Good.
URL:https://delrayartisans.org/event/alexandria-women-for-good/
LOCATION:Del Ray Artisans Gallery\, 2704 Mount Vernon Avenue\, Alexandria\, VA\, 22301\, United States
CATEGORIES:Meeting
ORGANIZER;CN="Mallory Henig":MAILTO:malloryroseart@gmail.com
END:VEVENT
BEGIN:VEVENT
DTSTART;TZID=America/New_York:20260222T180000
DTEND;TZID=America/New_York:20260222T200000
DTSTAMP:20260425T095744
CREATED:20251115T125755Z
LAST-MODIFIED:20260201T195106Z
UID:10002103-1771783200-1771790400@delrayartisans.org
SUMMARY:Member Meeting & Art Supplies Swap
DESCRIPTION:Join fellow Del Ray Artisans members for the Member Meeting & Art Supplies Swap on Sunday\, February 22 starting at 6pm. \nSave the date for the first member meeting of 2026. Bring the supplies you no longer need and be ready to find a treasure in other’s discards! \nIf you are bringing boxes of supplies\, please limit to no more than three boxes. To help things run smoothly\, drop off your treasures at the start of the art supply swap; we won’t be able to accept any treasures after 6:15pm. \nWe’ll begin with a short meeting\, and then select “new to you” art supplies. Looking forward to seeing you at the gallery! \nTo volunteer to help set up\, contribute refreshments\, or distribute leftovers elsewhere\, please contact the Membership Director\, Kara Macek\, at Membership@DelRayArtisans.org.
URL:https://delrayartisans.org/event/member-meeting-feb-2026/
LOCATION:Del Ray Artisans Gallery\, 2704 Mount Vernon Avenue\, Alexandria\, VA\, 22301\, United States
CATEGORIES:Meeting,Member Meeting,Program
ATTACH;FMTTYPE=image/jpeg:https://delrayartisans.org/wp-content/uploads/2020/02/art-supplies.jpg
ORGANIZER;CN="Kara Macek%2C Membership Director":MAILTO:Membership@DelRayArtisans.org
END:VEVENT
BEGIN:VEVENT
DTSTART;TZID=America/New_York:20260310T190000
DTEND;TZID=America/New_York:20260310T210000
DTSTAMP:20260425T095744
CREATED:20251115T121242Z
LAST-MODIFIED:20251115T121242Z
UID:10002057-1773169200-1773176400@delrayartisans.org
SUMMARY:Board of Directors Meeting (ONLINE)
DESCRIPTION:This Board meeting will an online meeting through Zoom. \nActive members are welcome to attend any Board meeting. If you wish to address the Board or bring something up to the Board during one of these meetings\, contact Margaret Slipek at Secretary@DelRayArtisans.org at least four days in advance of the meeting to be included on the agenda and receive the Zoom session link.
URL:https://delrayartisans.org/event/board-meeting-2026/2026-03-10/
LOCATION:Online
CATEGORIES:Board Meeting,Meeting
ORGANIZER;CN="Margaret Slipek%2C Secretary":MAILTO:secretary@delrayartisans.org
END:VEVENT
BEGIN:VEVENT
DTSTART;TZID=America/New_York:20260317T130000
DTEND;TZID=America/New_York:20260317T150000
DTSTAMP:20260425T095744
CREATED:20260302T162332Z
LAST-MODIFIED:20260302T162332Z
UID:10002210-1773752400-1773759600@delrayartisans.org
SUMMARY:Washington Calligraphers Guild Study Group
DESCRIPTION:Tuesday\, March 17 from 1-3pm is reserved for the Washington Calligraphers Guild.
URL:https://delrayartisans.org/event/washington-calligraphers-guild-march-2026/
LOCATION:Del Ray Artisans Gallery\, 2704 Mount Vernon Avenue\, Alexandria\, VA\, 22301\, United States
CATEGORIES:Meeting
ORGANIZER;CN="Jenny Nicholson":MAILTO:8JLNicholson@gmail.com
END:VEVENT
BEGIN:VEVENT
DTSTART;TZID=America/New_York:20260408T180000
DTEND;TZID=America/New_York:20260408T210000
DTSTAMP:20260425T095744
CREATED:20260219T221855Z
LAST-MODIFIED:20260219T234259Z
UID:10002206-1775671200-1775682000@delrayartisans.org
SUMMARY:Reserved for Alexandria Film Festival (Internal Meeting)
DESCRIPTION:This date/time is reserved for the Alexandria Film Festival to hold an internal meeting. \nThe Alexandria Film Festival is a 501(c)(3) non-profit organization in Alexandria\, Virginia.
URL:https://delrayartisans.org/event/aff-april-2026/
LOCATION:Del Ray Artisans Gallery\, 2704 Mount Vernon Avenue\, Alexandria\, VA\, 22301\, United States
CATEGORIES:Meeting
ORGANIZER;CN="Patti North":MAILTO:pattinorth@gmail.com
END:VEVENT
BEGIN:VEVENT
DTSTART;TZID=America/New_York:20260414T190000
DTEND;TZID=America/New_York:20260414T210000
DTSTAMP:20260425T095744
CREATED:20251115T121242Z
LAST-MODIFIED:20251115T121242Z
UID:10002058-1776193200-1776200400@delrayartisans.org
SUMMARY:Board of Directors Meeting (ONLINE)
DESCRIPTION:This Board meeting will an online meeting through Zoom. \nActive members are welcome to attend any Board meeting. If you wish to address the Board or bring something up to the Board during one of these meetings\, contact Margaret Slipek at Secretary@DelRayArtisans.org at least four days in advance of the meeting to be included on the agenda and receive the Zoom session link.
URL:https://delrayartisans.org/event/board-meeting-2026/2026-04-14/
LOCATION:Online
CATEGORIES:Board Meeting,Meeting
ORGANIZER;CN="Margaret Slipek%2C Secretary":MAILTO:secretary@delrayartisans.org
END:VEVENT
BEGIN:VEVENT
DTSTART;TZID=America/New_York:20260512T190000
DTEND;TZID=America/New_York:20260512T210000
DTSTAMP:20260425T095744
CREATED:20251115T121242Z
LAST-MODIFIED:20251115T121242Z
UID:10002059-1778612400-1778619600@delrayartisans.org
SUMMARY:Board of Directors Meeting (ONLINE)
DESCRIPTION:This Board meeting will an online meeting through Zoom. \nActive members are welcome to attend any Board meeting. If you wish to address the Board or bring something up to the Board during one of these meetings\, contact Margaret Slipek at Secretary@DelRayArtisans.org at least four days in advance of the meeting to be included on the agenda and receive the Zoom session link.
URL:https://delrayartisans.org/event/board-meeting-2026/2026-05-12/
LOCATION:Online
CATEGORIES:Board Meeting,Meeting
ORGANIZER;CN="Margaret Slipek%2C Secretary":MAILTO:secretary@delrayartisans.org
END:VEVENT
BEGIN:VEVENT
DTSTART;TZID=America/New_York:20260521T180000
DTEND;TZID=America/New_York:20260521T200000
DTSTAMP:20260425T095744
CREATED:20260303T221151Z
LAST-MODIFIED:20260303T221308Z
UID:10002211-1779386400-1779393600@delrayartisans.org
SUMMARY:Spring Member Meeting & Benefit Program
DESCRIPTION:On Thursday\, May 21 starting at 6pm\, join your fellow Del Ray Artisans members for the spring member meeting and this FREE member benefit program (topic TBD). \nDetails coming soon. \nThe event will begin with a brief meeting and include refreshments. If you would like to contribute refreshments (thank you!)\, please reach out to the Membership Director\, Kara Macek\, at Membership@DelRayArtisans.org. \nWe look forward to seeing you at the gallery!
URL:https://delrayartisans.org/event/member-meeting-may-2026/
LOCATION:Del Ray Artisans Gallery\, 2704 Mount Vernon Avenue\, Alexandria\, VA\, 22301\, United States
CATEGORIES:Meeting,Member Meeting,Program
ORGANIZER;CN="Kara Macek%2C Membership Director":MAILTO:Membership@DelRayArtisans.org
END:VEVENT
BEGIN:VEVENT
DTSTART;TZID=America/New_York:20260609T190000
DTEND;TZID=America/New_York:20260609T210000
DTSTAMP:20260425T095744
CREATED:20251115T121242Z
LAST-MODIFIED:20251115T121242Z
UID:10002060-1781031600-1781038800@delrayartisans.org
SUMMARY:Board of Directors Meeting (ONLINE)
DESCRIPTION:This Board meeting will an online meeting through Zoom. \nActive members are welcome to attend any Board meeting. If you wish to address the Board or bring something up to the Board during one of these meetings\, contact Margaret Slipek at Secretary@DelRayArtisans.org at least four days in advance of the meeting to be included on the agenda and receive the Zoom session link.
URL:https://delrayartisans.org/event/board-meeting-2026/2026-06-09/
LOCATION:Online
CATEGORIES:Board Meeting,Meeting
ORGANIZER;CN="Margaret Slipek%2C Secretary":MAILTO:secretary@delrayartisans.org
END:VEVENT
BEGIN:VEVENT
DTSTART;TZID=America/New_York:20260714T190000
DTEND;TZID=America/New_York:20260714T210000
DTSTAMP:20260425T095744
CREATED:20251115T121242Z
LAST-MODIFIED:20251115T121242Z
UID:10002061-1784055600-1784062800@delrayartisans.org
SUMMARY:Board of Directors Meeting (ONLINE)
DESCRIPTION:This Board meeting will an online meeting through Zoom. \nActive members are welcome to attend any Board meeting. If you wish to address the Board or bring something up to the Board during one of these meetings\, contact Margaret Slipek at Secretary@DelRayArtisans.org at least four days in advance of the meeting to be included on the agenda and receive the Zoom session link.
URL:https://delrayartisans.org/event/board-meeting-2026/2026-07-14/
LOCATION:Online
CATEGORIES:Board Meeting,Meeting
ORGANIZER;CN="Margaret Slipek%2C Secretary":MAILTO:secretary@delrayartisans.org
END:VEVENT
BEGIN:VEVENT
DTSTART;TZID=America/New_York:20260811T190000
DTEND;TZID=America/New_York:20260811T210000
DTSTAMP:20260425T095744
CREATED:20251115T121242Z
LAST-MODIFIED:20251115T121242Z
UID:10002062-1786474800-1786482000@delrayartisans.org
SUMMARY:Board of Directors Meeting (ONLINE)
DESCRIPTION:This Board meeting will an online meeting through Zoom. \nActive members are welcome to attend any Board meeting. If you wish to address the Board or bring something up to the Board during one of these meetings\, contact Margaret Slipek at Secretary@DelRayArtisans.org at least four days in advance of the meeting to be included on the agenda and receive the Zoom session link.
URL:https://delrayartisans.org/event/board-meeting-2026/2026-08-11/
LOCATION:Online
CATEGORIES:Board Meeting,Meeting
ORGANIZER;CN="Margaret Slipek%2C Secretary":MAILTO:secretary@delrayartisans.org
END:VEVENT
BEGIN:VEVENT
DTSTART;TZID=America/New_York:20260908T190000
DTEND;TZID=America/New_York:20260908T210000
DTSTAMP:20260425T095744
CREATED:20251115T121242Z
LAST-MODIFIED:20251115T121242Z
UID:10002063-1788894000-1788901200@delrayartisans.org
SUMMARY:Board of Directors Meeting (ONLINE)
DESCRIPTION:This Board meeting will an online meeting through Zoom. \nActive members are welcome to attend any Board meeting. If you wish to address the Board or bring something up to the Board during one of these meetings\, contact Margaret Slipek at Secretary@DelRayArtisans.org at least four days in advance of the meeting to be included on the agenda and receive the Zoom session link.
URL:https://delrayartisans.org/event/board-meeting-2026/2026-09-08/
LOCATION:Online
CATEGORIES:Board Meeting,Meeting
ORGANIZER;CN="Margaret Slipek%2C Secretary":MAILTO:secretary@delrayartisans.org
END:VEVENT
BEGIN:VEVENT
DTSTART;TZID=America/New_York:20261013T190000
DTEND;TZID=America/New_York:20261013T210000
DTSTAMP:20260425T095744
CREATED:20251115T121242Z
LAST-MODIFIED:20251115T121242Z
UID:10002064-1791918000-1791925200@delrayartisans.org
SUMMARY:Board of Directors Meeting (ONLINE)
DESCRIPTION:This Board meeting will an online meeting through Zoom. \nActive members are welcome to attend any Board meeting. If you wish to address the Board or bring something up to the Board during one of these meetings\, contact Margaret Slipek at Secretary@DelRayArtisans.org at least four days in advance of the meeting to be included on the agenda and receive the Zoom session link.
URL:https://delrayartisans.org/event/board-meeting-2026/2026-10-13/
LOCATION:Online
CATEGORIES:Board Meeting,Meeting
ORGANIZER;CN="Margaret Slipek%2C Secretary":MAILTO:secretary@delrayartisans.org
END:VEVENT
BEGIN:VEVENT
DTSTART;TZID=America/New_York:20261110T190000
DTEND;TZID=America/New_York:20261110T210000
DTSTAMP:20260425T095744
CREATED:20251115T121242Z
LAST-MODIFIED:20251115T121242Z
UID:10002065-1794337200-1794344400@delrayartisans.org
SUMMARY:Board of Directors Meeting (ONLINE)
DESCRIPTION:This Board meeting will an online meeting through Zoom. \nActive members are welcome to attend any Board meeting. If you wish to address the Board or bring something up to the Board during one of these meetings\, contact Margaret Slipek at Secretary@DelRayArtisans.org at least four days in advance of the meeting to be included on the agenda and receive the Zoom session link.
URL:https://delrayartisans.org/event/board-meeting-2026/2026-11-10/
LOCATION:Online
CATEGORIES:Board Meeting,Meeting
ORGANIZER;CN="Margaret Slipek%2C Secretary":MAILTO:secretary@delrayartisans.org
END:VEVENT
BEGIN:VEVENT
DTSTART;TZID=America/New_York:20261208T180000
DTEND;TZID=America/New_York:20261208T203000
DTSTAMP:20260425T095744
CREATED:20251115T121604Z
LAST-MODIFIED:20251115T121623Z
UID:10002066-1796752800-1796761800@delrayartisans.org
SUMMARY:Board Meeting and Holiday Gathering
DESCRIPTION:December 2023 Board of Directors Holiday Gathering (courtesy of Sean Crumley)\nThe last Board meeting of 2026 will be at the gallery. A short business meeting (beginning at 6:30pm) will be paired with a holiday gathering to thank outgoing 2026 Board Members and welcome incoming 2027 Board Members. \nActive members are welcome to attend any Board meeting. If you wish to address the Board or bring something up to the Board during one of these meetings\, contact Margaret Slipek at Secretary@DelRayArtisans.org at least four days in advance of the meeting to be included on the agenda.
URL:https://delrayartisans.org/event/board-meeting-dec-2026/
LOCATION:Del Ray Artisans Gallery\, 2704 Mount Vernon Avenue\, Alexandria\, VA\, 22301\, United States
CATEGORIES:Board Meeting,Meeting
ORGANIZER;CN="Margaret Slipek%2C Secretary":MAILTO:secretary@delrayartisans.org
END:VEVENT
END:VCALENDAR