BEGIN:VCALENDAR
VERSION:2.0
PRODID:-//Del Ray Artisans - ECPv6.15.20//NONSGML v1.0//EN
CALSCALE:GREGORIAN
METHOD:PUBLISH
X-WR-CALNAME:Del Ray Artisans
X-ORIGINAL-URL:https://delrayartisans.org
X-WR-CALDESC:Events for Del Ray Artisans
REFRESH-INTERVAL;VALUE=DURATION:PT1H
X-Robots-Tag:noindex
X-PUBLISHED-TTL:PT1H
BEGIN:VTIMEZONE
TZID:America/New_York
BEGIN:DAYLIGHT
TZOFFSETFROM:-0500
TZOFFSETTO:-0400
TZNAME:EDT
DTSTART:20250309T070000
END:DAYLIGHT
BEGIN:STANDARD
TZOFFSETFROM:-0400
TZOFFSETTO:-0500
TZNAME:EST
DTSTART:20251102T060000
END:STANDARD
BEGIN:DAYLIGHT
TZOFFSETFROM:-0500
TZOFFSETTO:-0400
TZNAME:EDT
DTSTART:20260308T070000
END:DAYLIGHT
BEGIN:STANDARD
TZOFFSETFROM:-0400
TZOFFSETTO:-0500
TZNAME:EST
DTSTART:20261101T060000
END:STANDARD
BEGIN:DAYLIGHT
TZOFFSETFROM:-0500
TZOFFSETTO:-0400
TZNAME:EDT
DTSTART:20270314T070000
END:DAYLIGHT
BEGIN:STANDARD
TZOFFSETFROM:-0400
TZOFFSETTO:-0500
TZNAME:EST
DTSTART:20271107T060000
END:STANDARD
END:VTIMEZONE
BEGIN:VEVENT
DTSTART;TZID=America/New_York:20260222T180000
DTEND;TZID=America/New_York:20260222T200000
DTSTAMP:20260423T024551
CREATED:20251115T125755Z
LAST-MODIFIED:20260201T195106Z
UID:10002103-1771783200-1771790400@delrayartisans.org
SUMMARY:Member Meeting & Art Supplies Swap
DESCRIPTION:Join fellow Del Ray Artisans members for the Member Meeting & Art Supplies Swap on Sunday\, February 22 starting at 6pm. \nSave the date for the first member meeting of 2026. Bring the supplies you no longer need and be ready to find a treasure in other’s discards! \nIf you are bringing boxes of supplies\, please limit to no more than three boxes. To help things run smoothly\, drop off your treasures at the start of the art supply swap; we won’t be able to accept any treasures after 6:15pm. \nWe’ll begin with a short meeting\, and then select “new to you” art supplies. Looking forward to seeing you at the gallery! \nTo volunteer to help set up\, contribute refreshments\, or distribute leftovers elsewhere\, please contact the Membership Director\, Kara Macek\, at Membership@DelRayArtisans.org.
URL:https://delrayartisans.org/event/member-meeting-feb-2026/
LOCATION:Del Ray Artisans Gallery\, 2704 Mount Vernon Avenue\, Alexandria\, VA\, 22301\, United States
CATEGORIES:Meeting,Member Meeting,Program
ATTACH;FMTTYPE=image/jpeg:https://delrayartisans.org/wp-content/uploads/2020/02/art-supplies.jpg
ORGANIZER;CN="Kara Macek%2C Membership Director":MAILTO:Membership@DelRayArtisans.org
END:VEVENT
END:VCALENDAR