BEGIN:VCALENDAR
VERSION:2.0
PRODID:-//Del Ray Artisans - ECPv6.15.20//NONSGML v1.0//EN
CALSCALE:GREGORIAN
METHOD:PUBLISH
X-WR-CALNAME:Del Ray Artisans
X-ORIGINAL-URL:https://delrayartisans.org
X-WR-CALDESC:Events for Del Ray Artisans
REFRESH-INTERVAL;VALUE=DURATION:PT1H
X-Robots-Tag:noindex
X-PUBLISHED-TTL:PT1H
BEGIN:VTIMEZONE
TZID:America/New_York
BEGIN:DAYLIGHT
TZOFFSETFROM:-0500
TZOFFSETTO:-0400
TZNAME:EDT
DTSTART:20240310T070000
END:DAYLIGHT
BEGIN:STANDARD
TZOFFSETFROM:-0400
TZOFFSETTO:-0500
TZNAME:EST
DTSTART:20241103T060000
END:STANDARD
BEGIN:DAYLIGHT
TZOFFSETFROM:-0500
TZOFFSETTO:-0400
TZNAME:EDT
DTSTART:20250309T070000
END:DAYLIGHT
BEGIN:STANDARD
TZOFFSETFROM:-0400
TZOFFSETTO:-0500
TZNAME:EST
DTSTART:20251102T060000
END:STANDARD
BEGIN:DAYLIGHT
TZOFFSETFROM:-0500
TZOFFSETTO:-0400
TZNAME:EDT
DTSTART:20260308T070000
END:DAYLIGHT
BEGIN:STANDARD
TZOFFSETFROM:-0400
TZOFFSETTO:-0500
TZNAME:EST
DTSTART:20261101T060000
END:STANDARD
END:VTIMEZONE
BEGIN:VEVENT
DTSTART;TZID=America/New_York:20250223T160000
DTEND;TZID=America/New_York:20250223T180000
DTSTAMP:20260423T231140
CREATED:20241124T174924Z
LAST-MODIFIED:20241124T174924Z
UID:10001715-1740326400-1740333600@delrayartisans.org
SUMMARY:Member Meeting & Art Supplies Swap
DESCRIPTION:Join fellow Del Ray Artisans members for the Member Meeting & Art Supplies Swap on Sunday\, February 23 starting at 4pm. \nSave the date for the first member meeting of 2025. Bring the supplies you no longer need and be ready to find a treasure in other’s discards. \nWe’ll begin with a short meeting\, and then select “new to you” art supplies. Looking forward to seeing you at the gallery! \nIf you have any questions\, please reach out the Membership Director\, Kate Gibney\, at Membership@DelRayArtisans.org.
URL:https://delrayartisans.org/event/member-meeting-feb-2025/
LOCATION:Del Ray Artisans Gallery\, 2704 Mount Vernon Avenue\, Alexandria\, VA\, 22301\, United States
CATEGORIES:Meeting,Member Meeting,Program
ATTACH;FMTTYPE=image/jpeg:https://delrayartisans.org/wp-content/uploads/2020/02/art-supplies.jpg
ORGANIZER;CN="Kate Gibney%2C Membership Director":MAILTO:membership@delrayartisans.org
END:VEVENT
END:VCALENDAR