BEGIN:VCALENDAR
VERSION:2.0
PRODID:-//Del Ray Artisans - ECPv6.15.20//NONSGML v1.0//EN
CALSCALE:GREGORIAN
METHOD:PUBLISH
X-ORIGINAL-URL:https://delrayartisans.org
X-WR-CALDESC:Events for Del Ray Artisans
REFRESH-INTERVAL;VALUE=DURATION:PT1H
X-Robots-Tag:noindex
X-PUBLISHED-TTL:PT1H
BEGIN:VTIMEZONE
TZID:America/New_York
BEGIN:DAYLIGHT
TZOFFSETFROM:-0500
TZOFFSETTO:-0400
TZNAME:EDT
DTSTART:20230312T070000
END:DAYLIGHT
BEGIN:STANDARD
TZOFFSETFROM:-0400
TZOFFSETTO:-0500
TZNAME:EST
DTSTART:20231105T060000
END:STANDARD
BEGIN:DAYLIGHT
TZOFFSETFROM:-0500
TZOFFSETTO:-0400
TZNAME:EDT
DTSTART:20240310T070000
END:DAYLIGHT
BEGIN:STANDARD
TZOFFSETFROM:-0400
TZOFFSETTO:-0500
TZNAME:EST
DTSTART:20241103T060000
END:STANDARD
BEGIN:DAYLIGHT
TZOFFSETFROM:-0500
TZOFFSETTO:-0400
TZNAME:EDT
DTSTART:20250309T070000
END:DAYLIGHT
BEGIN:STANDARD
TZOFFSETFROM:-0400
TZOFFSETTO:-0500
TZNAME:EST
DTSTART:20251102T060000
END:STANDARD
END:VTIMEZONE
BEGIN:VEVENT
DTSTART;TZID=America/New_York:20241210T190000
DTEND;TZID=America/New_York:20241210T210000
DTSTAMP:20260424T025756
CREATED:20241027T164052Z
LAST-MODIFIED:20241027T165106Z
UID:10001296-1733857200-1733864400@delrayartisans.org
SUMMARY:Board Meeting and Holiday Gathering (Dec 2024)
DESCRIPTION:The last Board meeting of 2024 will be at the gallery. A short business meeting will be paired with a holiday gathering to thank outgoing 2024 Board Members and welcome incoming 2025 Board Members. \nActive members are welcome to attend any Board meeting. If you wish to address the Board or bring something up to the Board during one of these meetings\, contact Kathryn Brown at Secretary@DelRayArtisans.org at least four days in advance of the meeting to be included on the agenda. \n\nPhoto info: December 2023 Board of Directors Holiday Gathering (courtesy of Sean Crumley)
URL:https://delrayartisans.org/event/board-meeting-dec-2024/
LOCATION:Del Ray Artisans Gallery\, 2704 Mount Vernon Avenue\, Alexandria\, VA\, 22301\, United States
CATEGORIES:Board Meeting,Meeting
ATTACH;FMTTYPE=image/jpeg:https://delrayartisans.org/wp-content/uploads/2024/10/BoardHolidayGathering-2023.jpg
ORGANIZER;CN="Kathryn Brown%2C Secretary":MAILTO:secretary@delrayartisans.org
END:VEVENT
END:VCALENDAR